BEGIN:VCALENDAR
VERSION:2.0
PRODID:-//ILRCC - ECPv6.15.20//NONSGML v1.0//EN
CALSCALE:GREGORIAN
METHOD:PUBLISH
X-ORIGINAL-URL:https://www.ilrcc.ab.ca
X-WR-CALDESC:Events for ILRCC
REFRESH-INTERVAL;VALUE=DURATION:PT1H
X-Robots-Tag:noindex
X-PUBLISHED-TTL:PT1H
BEGIN:VTIMEZONE
TZID:America/Edmonton
BEGIN:DAYLIGHT
TZOFFSETFROM:-0700
TZOFFSETTO:-0600
TZNAME:MDT
DTSTART:20220313T090000
END:DAYLIGHT
BEGIN:STANDARD
TZOFFSETFROM:-0600
TZOFFSETTO:-0700
TZNAME:MST
DTSTART:20221106T080000
END:STANDARD
BEGIN:DAYLIGHT
TZOFFSETFROM:-0700
TZOFFSETTO:-0600
TZNAME:MDT
DTSTART:20230312T090000
END:DAYLIGHT
BEGIN:STANDARD
TZOFFSETFROM:-0600
TZOFFSETTO:-0700
TZNAME:MST
DTSTART:20231105T080000
END:STANDARD
BEGIN:DAYLIGHT
TZOFFSETFROM:-0700
TZOFFSETTO:-0600
TZNAME:MDT
DTSTART:20240310T090000
END:DAYLIGHT
BEGIN:STANDARD
TZOFFSETFROM:-0600
TZOFFSETTO:-0700
TZNAME:MST
DTSTART:20241103T080000
END:STANDARD
END:VTIMEZONE
BEGIN:VEVENT
DTSTART;TZID=America/Edmonton:20230601T110000
DTEND;TZID=America/Edmonton:20230601T120000
DTSTAMP:20260422T173710
CREATED:20230520T210917Z
LAST-MODIFIED:20230523T170517Z
UID:10002504-1685617200-1685620800@www.ilrcc.ab.ca
SUMMARY:Thursday Arts and Crafts
DESCRIPTION:June 1st – August 17th \n11:00 am – 12:00 pm \nILRCC – #134\, 3359 27th St. NE \nThe program runs for 12 weeks at a cost of $135 including the cost of materials. \nEach Thursday join us and get creative\, as you choose from 2-3 different art projects to try out! \n*PLEASE  NOTE: Maximum of 12 participants per session. \nRegistration
URL:https://www.ilrcc.ab.ca/event/thursday-arts-and-crafts/2023-06-01/
LOCATION:ILRCC\, ILRCC - #134\, 3359 27th St. NE\, Calgary\, Alberta\, Canada
CATEGORIES:LEARN PROGRAMS
ATTACH;FMTTYPE=image/jpeg:https://www.ilrcc.ab.ca/wp-content/uploads/2023/05/istockphoto-519362488-612x612-1.jpg
ORGANIZER;CN="ILRCC":MAILTO:ed@ilrcc.ab.ca
END:VEVENT
BEGIN:VEVENT
DTSTART;TZID=America/Edmonton:20230601T170000
DTEND;TZID=America/Edmonton:20230601T180000
DTSTAMP:20260422T173710
CREATED:20231102T130046Z
LAST-MODIFIED:20231226T233140Z
UID:10001666-1685638800-1685642400@www.ilrcc.ab.ca
SUMMARY:Thursday Dance + Sing Movements
DESCRIPTION:May 11th  – June 29th \n5:00pm – 6:00pm \nILRCC – #134\, 3359 27th St. NE \nProgram runs for 8 weeks at a cost of $75. \nCome join the fun for a Karaoke & Zumba evening at ILRCC \nRegistration
URL:https://www.ilrcc.ab.ca/event/thursday-dance-sing-movements-500pm-600pm/2023-06-01/
LOCATION:ILRCC\, ILRCC - #134\, 3359 27th St. NE\, Calgary\, Alberta\, Canada
CATEGORIES:LEARN PROGRAMS
ATTACH;FMTTYPE=image/jpeg:https://www.ilrcc.ab.ca/wp-content/uploads/2023/05/Thursday-Dance-Sing-Movements.jpg
ORGANIZER;CN="ILRCC":MAILTO:ed@ilrcc.ab.ca
END:VEVENT
BEGIN:VEVENT
DTSTART;TZID=America/Edmonton:20230605T180000
DTEND;TZID=America/Edmonton:20230605T191500
DTSTAMP:20260422T173710
CREATED:20230814T205507Z
LAST-MODIFIED:20231226T233342Z
UID:10002191-1685988000-1685992500@www.ilrcc.ab.ca
SUMMARY:Monday Arts and Drawing
DESCRIPTION:Nov 27 – Feb 26\, 2024 \n6:00pm – 7:15pm \nILRCC – #134\, 3359 27th St. NE \nThe program runs for 12 weeks for $135 including the cost of materials. \nEach Monday evening join us and get creative!! \n*PLEASE  NOTE: Maximum of 12 participants per session. \nRegistration
URL:https://www.ilrcc.ab.ca/event/monday-arts-and-drawing/2023-06-05/
LOCATION:ILRCC\, ILRCC - #134\, 3359 27th St. NE\, Calgary\, Alberta\, Canada
CATEGORIES:LEARN PROGRAMS
ATTACH;FMTTYPE=image/jpeg:https://www.ilrcc.ab.ca/wp-content/uploads/2023/05/100-diy-string-art-flower-cards-1.jpg
ORGANIZER;CN="ILRCC":MAILTO:ed@ilrcc.ab.ca
END:VEVENT
BEGIN:VEVENT
DTSTART;TZID=America/Edmonton:20230606T130000
DTEND;TZID=America/Edmonton:20230606T140000
DTSTAMP:20260422T173710
CREATED:20230520T205856Z
LAST-MODIFIED:20230523T170619Z
UID:10002253-1686056400-1686060000@www.ilrcc.ab.ca
SUMMARY:Tuesday Arts and Crafts
DESCRIPTION:May 30th – August 15th \n1:00pm – 2:00pm \nILRCC – #134\, 3359 27th St. NE \nProgram runs for 12 weeks at a cost of $135 includes cost of materials. \nBe creative and work with your hands! Learn different styles and techniques for drawing\, painting\, and creating your own art. Build with different materials and create unique arts and crafts for gifts or display at home. \n*PLEASE  NOTE: Maximum of 12 participants per session. \nRegistration
URL:https://www.ilrcc.ab.ca/event/tuesday-arts-and-crafts/2023-06-06/
LOCATION:ILRCC\, ILRCC - #134\, 3359 27th St. NE\, Calgary\, Alberta\, Canada
CATEGORIES:LEARN PROGRAMS
ATTACH;FMTTYPE=image/png:https://www.ilrcc.ab.ca/wp-content/uploads/2023/05/Arts-Crafts.png
ORGANIZER;CN="ILRCC":MAILTO:ed@ilrcc.ab.ca
END:VEVENT
BEGIN:VEVENT
DTSTART;TZID=America/Edmonton:20230607T173000
DTEND;TZID=America/Edmonton:20230607T193000
DTSTAMP:20260422T173710
CREATED:20230520T210508Z
LAST-MODIFIED:20230523T170411Z
UID:10002440-1686159000-1686166200@www.ilrcc.ab.ca
SUMMARY:Wednesday Pizza Night
DESCRIPTION:June 7th– August 23rd \n5:30 pm – 7:30 pm \nBoston Pizza – 2836 Memorial Dr SE \nThe program runs for 12 weeks at a cost of $110. \nYou are responsible to pay for your meal and for the smaller appetites\, you can order from the kids menu. \nRegistration
URL:https://www.ilrcc.ab.ca/event/wednesday-pizza-night/2023-06-07/
LOCATION:ILRCC\, ILRCC - #134\, 3359 27th St. NE\, Calgary\, Alberta\, Canada
CATEGORIES:LEARN PROGRAMS
ATTACH;FMTTYPE=image/jpeg:https://www.ilrcc.ab.ca/wp-content/uploads/2023/05/Boston-Pizza-scaled-1.jpg
ORGANIZER;CN="ILRCC":MAILTO:ed@ilrcc.ab.ca
END:VEVENT
BEGIN:VEVENT
DTSTART;TZID=America/Edmonton:20230608T110000
DTEND;TZID=America/Edmonton:20230608T120000
DTSTAMP:20260422T173710
CREATED:20230520T210917Z
LAST-MODIFIED:20230523T170517Z
UID:10002505-1686222000-1686225600@www.ilrcc.ab.ca
SUMMARY:Thursday Arts and Crafts
DESCRIPTION:June 1st – August 17th \n11:00 am – 12:00 pm \nILRCC – #134\, 3359 27th St. NE \nThe program runs for 12 weeks at a cost of $135 including the cost of materials. \nEach Thursday join us and get creative\, as you choose from 2-3 different art projects to try out! \n*PLEASE  NOTE: Maximum of 12 participants per session. \nRegistration
URL:https://www.ilrcc.ab.ca/event/thursday-arts-and-crafts/2023-06-08/
LOCATION:ILRCC\, ILRCC - #134\, 3359 27th St. NE\, Calgary\, Alberta\, Canada
CATEGORIES:LEARN PROGRAMS
ATTACH;FMTTYPE=image/jpeg:https://www.ilrcc.ab.ca/wp-content/uploads/2023/05/istockphoto-519362488-612x612-1.jpg
ORGANIZER;CN="ILRCC":MAILTO:ed@ilrcc.ab.ca
END:VEVENT
BEGIN:VEVENT
DTSTART;TZID=America/Edmonton:20230608T170000
DTEND;TZID=America/Edmonton:20230608T180000
DTSTAMP:20260422T173710
CREATED:20231102T130046Z
LAST-MODIFIED:20231226T233140Z
UID:10001667-1686243600-1686247200@www.ilrcc.ab.ca
SUMMARY:Thursday Dance + Sing Movements
DESCRIPTION:May 11th  – June 29th \n5:00pm – 6:00pm \nILRCC – #134\, 3359 27th St. NE \nProgram runs for 8 weeks at a cost of $75. \nCome join the fun for a Karaoke & Zumba evening at ILRCC \nRegistration
URL:https://www.ilrcc.ab.ca/event/thursday-dance-sing-movements-500pm-600pm/2023-06-08/
LOCATION:ILRCC\, ILRCC - #134\, 3359 27th St. NE\, Calgary\, Alberta\, Canada
CATEGORIES:LEARN PROGRAMS
ATTACH;FMTTYPE=image/jpeg:https://www.ilrcc.ab.ca/wp-content/uploads/2023/05/Thursday-Dance-Sing-Movements.jpg
ORGANIZER;CN="ILRCC":MAILTO:ed@ilrcc.ab.ca
END:VEVENT
BEGIN:VEVENT
DTSTART;TZID=America/Edmonton:20230610T130000
DTEND;TZID=America/Edmonton:20230826T150000
DTSTAMP:20260422T173710
CREATED:20230520T211308Z
LAST-MODIFIED:20230829T001200Z
UID:10002568-1686402000-1693062000@www.ilrcc.ab.ca
SUMMARY:Saturday Bowling
DESCRIPTION:Sept 2 – Nov 18                         1:00 pm – 3:00 pm \nChinook Bowladrome – 6455 Macleod Trail \nThe program runs for 12 weeks at a cost of $110. \nEach bowler pays for their own bowling: $6.00/game \nRegistration
URL:https://www.ilrcc.ab.ca/event/saturday-bowling/2023-06-10/
CATEGORIES:LEARN PROGRAMS
ATTACH;FMTTYPE=image/jpeg:https://www.ilrcc.ab.ca/wp-content/uploads/2023/05/bowling.jpg
ORGANIZER;CN="ILRCC":MAILTO:ed@ilrcc.ab.ca
END:VEVENT
BEGIN:VEVENT
DTSTART;TZID=America/Edmonton:20230612T180000
DTEND;TZID=America/Edmonton:20230612T191500
DTSTAMP:20260422T173710
CREATED:20230814T205507Z
LAST-MODIFIED:20231226T233342Z
UID:10002192-1686592800-1686597300@www.ilrcc.ab.ca
SUMMARY:Monday Arts and Drawing
DESCRIPTION:Nov 27 – Feb 26\, 2024 \n6:00pm – 7:15pm \nILRCC – #134\, 3359 27th St. NE \nThe program runs for 12 weeks for $135 including the cost of materials. \nEach Monday evening join us and get creative!! \n*PLEASE  NOTE: Maximum of 12 participants per session. \nRegistration
URL:https://www.ilrcc.ab.ca/event/monday-arts-and-drawing/2023-06-12/
LOCATION:ILRCC\, ILRCC - #134\, 3359 27th St. NE\, Calgary\, Alberta\, Canada
CATEGORIES:LEARN PROGRAMS
ATTACH;FMTTYPE=image/jpeg:https://www.ilrcc.ab.ca/wp-content/uploads/2023/05/100-diy-string-art-flower-cards-1.jpg
ORGANIZER;CN="ILRCC":MAILTO:ed@ilrcc.ab.ca
END:VEVENT
BEGIN:VEVENT
DTSTART;TZID=America/Edmonton:20230613T130000
DTEND;TZID=America/Edmonton:20230613T140000
DTSTAMP:20260422T173710
CREATED:20230520T205856Z
LAST-MODIFIED:20230523T170619Z
UID:10002254-1686661200-1686664800@www.ilrcc.ab.ca
SUMMARY:Tuesday Arts and Crafts
DESCRIPTION:May 30th – August 15th \n1:00pm – 2:00pm \nILRCC – #134\, 3359 27th St. NE \nProgram runs for 12 weeks at a cost of $135 includes cost of materials. \nBe creative and work with your hands! Learn different styles and techniques for drawing\, painting\, and creating your own art. Build with different materials and create unique arts and crafts for gifts or display at home. \n*PLEASE  NOTE: Maximum of 12 participants per session. \nRegistration
URL:https://www.ilrcc.ab.ca/event/tuesday-arts-and-crafts/2023-06-13/
LOCATION:ILRCC\, ILRCC - #134\, 3359 27th St. NE\, Calgary\, Alberta\, Canada
CATEGORIES:LEARN PROGRAMS
ATTACH;FMTTYPE=image/png:https://www.ilrcc.ab.ca/wp-content/uploads/2023/05/Arts-Crafts.png
ORGANIZER;CN="ILRCC":MAILTO:ed@ilrcc.ab.ca
END:VEVENT
BEGIN:VEVENT
DTSTART;TZID=America/Edmonton:20230614T173000
DTEND;TZID=America/Edmonton:20230614T193000
DTSTAMP:20260422T173710
CREATED:20230520T210508Z
LAST-MODIFIED:20230523T170411Z
UID:10002441-1686763800-1686771000@www.ilrcc.ab.ca
SUMMARY:Wednesday Pizza Night
DESCRIPTION:June 7th– August 23rd \n5:30 pm – 7:30 pm \nBoston Pizza – 2836 Memorial Dr SE \nThe program runs for 12 weeks at a cost of $110. \nYou are responsible to pay for your meal and for the smaller appetites\, you can order from the kids menu. \nRegistration
URL:https://www.ilrcc.ab.ca/event/wednesday-pizza-night/2023-06-14/
LOCATION:ILRCC\, ILRCC - #134\, 3359 27th St. NE\, Calgary\, Alberta\, Canada
CATEGORIES:LEARN PROGRAMS
ATTACH;FMTTYPE=image/jpeg:https://www.ilrcc.ab.ca/wp-content/uploads/2023/05/Boston-Pizza-scaled-1.jpg
ORGANIZER;CN="ILRCC":MAILTO:ed@ilrcc.ab.ca
END:VEVENT
BEGIN:VEVENT
DTSTART;TZID=America/Edmonton:20230615T110000
DTEND;TZID=America/Edmonton:20230615T120000
DTSTAMP:20260422T173710
CREATED:20230520T210917Z
LAST-MODIFIED:20230523T170517Z
UID:10002506-1686826800-1686830400@www.ilrcc.ab.ca
SUMMARY:Thursday Arts and Crafts
DESCRIPTION:June 1st – August 17th \n11:00 am – 12:00 pm \nILRCC – #134\, 3359 27th St. NE \nThe program runs for 12 weeks at a cost of $135 including the cost of materials. \nEach Thursday join us and get creative\, as you choose from 2-3 different art projects to try out! \n*PLEASE  NOTE: Maximum of 12 participants per session. \nRegistration
URL:https://www.ilrcc.ab.ca/event/thursday-arts-and-crafts/2023-06-15/
LOCATION:ILRCC\, ILRCC - #134\, 3359 27th St. NE\, Calgary\, Alberta\, Canada
CATEGORIES:LEARN PROGRAMS
ATTACH;FMTTYPE=image/jpeg:https://www.ilrcc.ab.ca/wp-content/uploads/2023/05/istockphoto-519362488-612x612-1.jpg
ORGANIZER;CN="ILRCC":MAILTO:ed@ilrcc.ab.ca
END:VEVENT
BEGIN:VEVENT
DTSTART;TZID=America/Edmonton:20230615T170000
DTEND;TZID=America/Edmonton:20230615T180000
DTSTAMP:20260422T173710
CREATED:20231102T130046Z
LAST-MODIFIED:20231226T233140Z
UID:10001668-1686848400-1686852000@www.ilrcc.ab.ca
SUMMARY:Thursday Dance + Sing Movements
DESCRIPTION:May 11th  – June 29th \n5:00pm – 6:00pm \nILRCC – #134\, 3359 27th St. NE \nProgram runs for 8 weeks at a cost of $75. \nCome join the fun for a Karaoke & Zumba evening at ILRCC \nRegistration
URL:https://www.ilrcc.ab.ca/event/thursday-dance-sing-movements-500pm-600pm/2023-06-15/
LOCATION:ILRCC\, ILRCC - #134\, 3359 27th St. NE\, Calgary\, Alberta\, Canada
CATEGORIES:LEARN PROGRAMS
ATTACH;FMTTYPE=image/jpeg:https://www.ilrcc.ab.ca/wp-content/uploads/2023/05/Thursday-Dance-Sing-Movements.jpg
ORGANIZER;CN="ILRCC":MAILTO:ed@ilrcc.ab.ca
END:VEVENT
BEGIN:VEVENT
DTSTART;TZID=America/Edmonton:20230617T130000
DTEND;TZID=America/Edmonton:20230902T150000
DTSTAMP:20260422T173710
CREATED:20230520T211308Z
LAST-MODIFIED:20230829T001200Z
UID:10002569-1687006800-1693666800@www.ilrcc.ab.ca
SUMMARY:Saturday Bowling
DESCRIPTION:Sept 2 – Nov 18                         1:00 pm – 3:00 pm \nChinook Bowladrome – 6455 Macleod Trail \nThe program runs for 12 weeks at a cost of $110. \nEach bowler pays for their own bowling: $6.00/game \nRegistration
URL:https://www.ilrcc.ab.ca/event/saturday-bowling/2023-06-17/
CATEGORIES:LEARN PROGRAMS
ATTACH;FMTTYPE=image/jpeg:https://www.ilrcc.ab.ca/wp-content/uploads/2023/05/bowling.jpg
ORGANIZER;CN="ILRCC":MAILTO:ed@ilrcc.ab.ca
END:VEVENT
BEGIN:VEVENT
DTSTART;TZID=America/Edmonton:20230619T180000
DTEND;TZID=America/Edmonton:20230619T191500
DTSTAMP:20260422T173710
CREATED:20230814T205507Z
LAST-MODIFIED:20231226T233342Z
UID:10002193-1687197600-1687202100@www.ilrcc.ab.ca
SUMMARY:Monday Arts and Drawing
DESCRIPTION:Nov 27 – Feb 26\, 2024 \n6:00pm – 7:15pm \nILRCC – #134\, 3359 27th St. NE \nThe program runs for 12 weeks for $135 including the cost of materials. \nEach Monday evening join us and get creative!! \n*PLEASE  NOTE: Maximum of 12 participants per session. \nRegistration
URL:https://www.ilrcc.ab.ca/event/monday-arts-and-drawing/2023-06-19/
LOCATION:ILRCC\, ILRCC - #134\, 3359 27th St. NE\, Calgary\, Alberta\, Canada
CATEGORIES:LEARN PROGRAMS
ATTACH;FMTTYPE=image/jpeg:https://www.ilrcc.ab.ca/wp-content/uploads/2023/05/100-diy-string-art-flower-cards-1.jpg
ORGANIZER;CN="ILRCC":MAILTO:ed@ilrcc.ab.ca
END:VEVENT
BEGIN:VEVENT
DTSTART;TZID=America/Edmonton:20230620T130000
DTEND;TZID=America/Edmonton:20230620T140000
DTSTAMP:20260422T173710
CREATED:20230520T205856Z
LAST-MODIFIED:20230523T170619Z
UID:10002255-1687266000-1687269600@www.ilrcc.ab.ca
SUMMARY:Tuesday Arts and Crafts
DESCRIPTION:May 30th – August 15th \n1:00pm – 2:00pm \nILRCC – #134\, 3359 27th St. NE \nProgram runs for 12 weeks at a cost of $135 includes cost of materials. \nBe creative and work with your hands! Learn different styles and techniques for drawing\, painting\, and creating your own art. Build with different materials and create unique arts and crafts for gifts or display at home. \n*PLEASE  NOTE: Maximum of 12 participants per session. \nRegistration
URL:https://www.ilrcc.ab.ca/event/tuesday-arts-and-crafts/2023-06-20/
LOCATION:ILRCC\, ILRCC - #134\, 3359 27th St. NE\, Calgary\, Alberta\, Canada
CATEGORIES:LEARN PROGRAMS
ATTACH;FMTTYPE=image/png:https://www.ilrcc.ab.ca/wp-content/uploads/2023/05/Arts-Crafts.png
ORGANIZER;CN="ILRCC":MAILTO:ed@ilrcc.ab.ca
END:VEVENT
BEGIN:VEVENT
DTSTART;TZID=America/Edmonton:20230621T173000
DTEND;TZID=America/Edmonton:20230621T193000
DTSTAMP:20260422T173710
CREATED:20230520T210508Z
LAST-MODIFIED:20230523T170411Z
UID:10002442-1687368600-1687375800@www.ilrcc.ab.ca
SUMMARY:Wednesday Pizza Night
DESCRIPTION:June 7th– August 23rd \n5:30 pm – 7:30 pm \nBoston Pizza – 2836 Memorial Dr SE \nThe program runs for 12 weeks at a cost of $110. \nYou are responsible to pay for your meal and for the smaller appetites\, you can order from the kids menu. \nRegistration
URL:https://www.ilrcc.ab.ca/event/wednesday-pizza-night/2023-06-21/
LOCATION:ILRCC\, ILRCC - #134\, 3359 27th St. NE\, Calgary\, Alberta\, Canada
CATEGORIES:LEARN PROGRAMS
ATTACH;FMTTYPE=image/jpeg:https://www.ilrcc.ab.ca/wp-content/uploads/2023/05/Boston-Pizza-scaled-1.jpg
ORGANIZER;CN="ILRCC":MAILTO:ed@ilrcc.ab.ca
END:VEVENT
BEGIN:VEVENT
DTSTART;TZID=America/Edmonton:20230622T110000
DTEND;TZID=America/Edmonton:20230622T120000
DTSTAMP:20260422T173710
CREATED:20230520T210917Z
LAST-MODIFIED:20230523T170517Z
UID:10002507-1687431600-1687435200@www.ilrcc.ab.ca
SUMMARY:Thursday Arts and Crafts
DESCRIPTION:June 1st – August 17th \n11:00 am – 12:00 pm \nILRCC – #134\, 3359 27th St. NE \nThe program runs for 12 weeks at a cost of $135 including the cost of materials. \nEach Thursday join us and get creative\, as you choose from 2-3 different art projects to try out! \n*PLEASE  NOTE: Maximum of 12 participants per session. \nRegistration
URL:https://www.ilrcc.ab.ca/event/thursday-arts-and-crafts/2023-06-22/
LOCATION:ILRCC\, ILRCC - #134\, 3359 27th St. NE\, Calgary\, Alberta\, Canada
CATEGORIES:LEARN PROGRAMS
ATTACH;FMTTYPE=image/jpeg:https://www.ilrcc.ab.ca/wp-content/uploads/2023/05/istockphoto-519362488-612x612-1.jpg
ORGANIZER;CN="ILRCC":MAILTO:ed@ilrcc.ab.ca
END:VEVENT
BEGIN:VEVENT
DTSTART;TZID=America/Edmonton:20230622T170000
DTEND;TZID=America/Edmonton:20230622T180000
DTSTAMP:20260422T173710
CREATED:20231102T130046Z
LAST-MODIFIED:20231226T233140Z
UID:10001669-1687453200-1687456800@www.ilrcc.ab.ca
SUMMARY:Thursday Dance + Sing Movements
DESCRIPTION:May 11th  – June 29th \n5:00pm – 6:00pm \nILRCC – #134\, 3359 27th St. NE \nProgram runs for 8 weeks at a cost of $75. \nCome join the fun for a Karaoke & Zumba evening at ILRCC \nRegistration
URL:https://www.ilrcc.ab.ca/event/thursday-dance-sing-movements-500pm-600pm/2023-06-22/
LOCATION:ILRCC\, ILRCC - #134\, 3359 27th St. NE\, Calgary\, Alberta\, Canada
CATEGORIES:LEARN PROGRAMS
ATTACH;FMTTYPE=image/jpeg:https://www.ilrcc.ab.ca/wp-content/uploads/2023/05/Thursday-Dance-Sing-Movements.jpg
ORGANIZER;CN="ILRCC":MAILTO:ed@ilrcc.ab.ca
END:VEVENT
BEGIN:VEVENT
DTSTART;TZID=America/Edmonton:20230624T130000
DTEND;TZID=America/Edmonton:20230909T150000
DTSTAMP:20260422T173710
CREATED:20230520T211308Z
LAST-MODIFIED:20230829T001200Z
UID:10002570-1687611600-1694271600@www.ilrcc.ab.ca
SUMMARY:Saturday Bowling
DESCRIPTION:Sept 2 – Nov 18                         1:00 pm – 3:00 pm \nChinook Bowladrome – 6455 Macleod Trail \nThe program runs for 12 weeks at a cost of $110. \nEach bowler pays for their own bowling: $6.00/game \nRegistration
URL:https://www.ilrcc.ab.ca/event/saturday-bowling/2023-06-24/
CATEGORIES:LEARN PROGRAMS
ATTACH;FMTTYPE=image/jpeg:https://www.ilrcc.ab.ca/wp-content/uploads/2023/05/bowling.jpg
ORGANIZER;CN="ILRCC":MAILTO:ed@ilrcc.ab.ca
END:VEVENT
BEGIN:VEVENT
DTSTART;TZID=America/Edmonton:20230626T180000
DTEND;TZID=America/Edmonton:20230626T191500
DTSTAMP:20260422T173710
CREATED:20230814T205507Z
LAST-MODIFIED:20231226T233342Z
UID:10002194-1687802400-1687806900@www.ilrcc.ab.ca
SUMMARY:Monday Arts and Drawing
DESCRIPTION:Nov 27 – Feb 26\, 2024 \n6:00pm – 7:15pm \nILRCC – #134\, 3359 27th St. NE \nThe program runs for 12 weeks for $135 including the cost of materials. \nEach Monday evening join us and get creative!! \n*PLEASE  NOTE: Maximum of 12 participants per session. \nRegistration
URL:https://www.ilrcc.ab.ca/event/monday-arts-and-drawing/2023-06-26/
LOCATION:ILRCC\, ILRCC - #134\, 3359 27th St. NE\, Calgary\, Alberta\, Canada
CATEGORIES:LEARN PROGRAMS
ATTACH;FMTTYPE=image/jpeg:https://www.ilrcc.ab.ca/wp-content/uploads/2023/05/100-diy-string-art-flower-cards-1.jpg
ORGANIZER;CN="ILRCC":MAILTO:ed@ilrcc.ab.ca
END:VEVENT
BEGIN:VEVENT
DTSTART;TZID=America/Edmonton:20230627T130000
DTEND;TZID=America/Edmonton:20230627T140000
DTSTAMP:20260422T173710
CREATED:20230520T205856Z
LAST-MODIFIED:20230523T170619Z
UID:10002256-1687870800-1687874400@www.ilrcc.ab.ca
SUMMARY:Tuesday Arts and Crafts
DESCRIPTION:May 30th – August 15th \n1:00pm – 2:00pm \nILRCC – #134\, 3359 27th St. NE \nProgram runs for 12 weeks at a cost of $135 includes cost of materials. \nBe creative and work with your hands! Learn different styles and techniques for drawing\, painting\, and creating your own art. Build with different materials and create unique arts and crafts for gifts or display at home. \n*PLEASE  NOTE: Maximum of 12 participants per session. \nRegistration
URL:https://www.ilrcc.ab.ca/event/tuesday-arts-and-crafts/2023-06-27/
LOCATION:ILRCC\, ILRCC - #134\, 3359 27th St. NE\, Calgary\, Alberta\, Canada
CATEGORIES:LEARN PROGRAMS
ATTACH;FMTTYPE=image/png:https://www.ilrcc.ab.ca/wp-content/uploads/2023/05/Arts-Crafts.png
ORGANIZER;CN="ILRCC":MAILTO:ed@ilrcc.ab.ca
END:VEVENT
BEGIN:VEVENT
DTSTART;TZID=America/Edmonton:20230628T173000
DTEND;TZID=America/Edmonton:20230628T193000
DTSTAMP:20260422T173710
CREATED:20230520T210508Z
LAST-MODIFIED:20230523T170411Z
UID:10002443-1687973400-1687980600@www.ilrcc.ab.ca
SUMMARY:Wednesday Pizza Night
DESCRIPTION:June 7th– August 23rd \n5:30 pm – 7:30 pm \nBoston Pizza – 2836 Memorial Dr SE \nThe program runs for 12 weeks at a cost of $110. \nYou are responsible to pay for your meal and for the smaller appetites\, you can order from the kids menu. \nRegistration
URL:https://www.ilrcc.ab.ca/event/wednesday-pizza-night/2023-06-28/
LOCATION:ILRCC\, ILRCC - #134\, 3359 27th St. NE\, Calgary\, Alberta\, Canada
CATEGORIES:LEARN PROGRAMS
ATTACH;FMTTYPE=image/jpeg:https://www.ilrcc.ab.ca/wp-content/uploads/2023/05/Boston-Pizza-scaled-1.jpg
ORGANIZER;CN="ILRCC":MAILTO:ed@ilrcc.ab.ca
END:VEVENT
BEGIN:VEVENT
DTSTART;TZID=America/Edmonton:20230629T110000
DTEND;TZID=America/Edmonton:20230629T120000
DTSTAMP:20260422T173710
CREATED:20230520T210917Z
LAST-MODIFIED:20230523T170517Z
UID:10002508-1688036400-1688040000@www.ilrcc.ab.ca
SUMMARY:Thursday Arts and Crafts
DESCRIPTION:June 1st – August 17th \n11:00 am – 12:00 pm \nILRCC – #134\, 3359 27th St. NE \nThe program runs for 12 weeks at a cost of $135 including the cost of materials. \nEach Thursday join us and get creative\, as you choose from 2-3 different art projects to try out! \n*PLEASE  NOTE: Maximum of 12 participants per session. \nRegistration
URL:https://www.ilrcc.ab.ca/event/thursday-arts-and-crafts/2023-06-29/
LOCATION:ILRCC\, ILRCC - #134\, 3359 27th St. NE\, Calgary\, Alberta\, Canada
CATEGORIES:LEARN PROGRAMS
ATTACH;FMTTYPE=image/jpeg:https://www.ilrcc.ab.ca/wp-content/uploads/2023/05/istockphoto-519362488-612x612-1.jpg
ORGANIZER;CN="ILRCC":MAILTO:ed@ilrcc.ab.ca
END:VEVENT
BEGIN:VEVENT
DTSTART;TZID=America/Edmonton:20230629T170000
DTEND;TZID=America/Edmonton:20230629T180000
DTSTAMP:20260422T173710
CREATED:20231102T130046Z
LAST-MODIFIED:20231226T233140Z
UID:10001670-1688058000-1688061600@www.ilrcc.ab.ca
SUMMARY:Thursday Dance + Sing Movements
DESCRIPTION:May 11th  – June 29th \n5:00pm – 6:00pm \nILRCC – #134\, 3359 27th St. NE \nProgram runs for 8 weeks at a cost of $75. \nCome join the fun for a Karaoke & Zumba evening at ILRCC \nRegistration
URL:https://www.ilrcc.ab.ca/event/thursday-dance-sing-movements-500pm-600pm/2023-06-29/
LOCATION:ILRCC\, ILRCC - #134\, 3359 27th St. NE\, Calgary\, Alberta\, Canada
CATEGORIES:LEARN PROGRAMS
ATTACH;FMTTYPE=image/jpeg:https://www.ilrcc.ab.ca/wp-content/uploads/2023/05/Thursday-Dance-Sing-Movements.jpg
ORGANIZER;CN="ILRCC":MAILTO:ed@ilrcc.ab.ca
END:VEVENT
END:VCALENDAR