BEGIN:VCALENDAR
VERSION:2.0
PRODID:-//ILRCC - ECPv6.15.20//NONSGML v1.0//EN
CALSCALE:GREGORIAN
METHOD:PUBLISH
X-ORIGINAL-URL:https://www.ilrcc.ab.ca
X-WR-CALDESC:Events for ILRCC
REFRESH-INTERVAL;VALUE=DURATION:PT1H
X-Robots-Tag:noindex
X-PUBLISHED-TTL:PT1H
BEGIN:VTIMEZONE
TZID:America/Edmonton
BEGIN:DAYLIGHT
TZOFFSETFROM:-0700
TZOFFSETTO:-0600
TZNAME:MDT
DTSTART:20220313T090000
END:DAYLIGHT
BEGIN:STANDARD
TZOFFSETFROM:-0600
TZOFFSETTO:-0700
TZNAME:MST
DTSTART:20221106T080000
END:STANDARD
BEGIN:DAYLIGHT
TZOFFSETFROM:-0700
TZOFFSETTO:-0600
TZNAME:MDT
DTSTART:20230312T090000
END:DAYLIGHT
BEGIN:STANDARD
TZOFFSETFROM:-0600
TZOFFSETTO:-0700
TZNAME:MST
DTSTART:20231105T080000
END:STANDARD
BEGIN:DAYLIGHT
TZOFFSETFROM:-0700
TZOFFSETTO:-0600
TZNAME:MDT
DTSTART:20240310T090000
END:DAYLIGHT
BEGIN:STANDARD
TZOFFSETFROM:-0600
TZOFFSETTO:-0700
TZNAME:MST
DTSTART:20241103T080000
END:STANDARD
END:VTIMEZONE
BEGIN:VEVENT
DTSTART;TZID=America/Edmonton:20230610T130000
DTEND;TZID=America/Edmonton:20230826T150000
DTSTAMP:20260422T160209
CREATED:20230520T211308Z
LAST-MODIFIED:20230829T001200Z
UID:10002568-1686402000-1693062000@www.ilrcc.ab.ca
SUMMARY:Saturday Bowling
DESCRIPTION:Sept 2 – Nov 18                         1:00 pm – 3:00 pm \nChinook Bowladrome – 6455 Macleod Trail \nThe program runs for 12 weeks at a cost of $110. \nEach bowler pays for their own bowling: $6.00/game \nRegistration
URL:https://www.ilrcc.ab.ca/event/saturday-bowling/2023-06-10/
CATEGORIES:LEARN PROGRAMS
ATTACH;FMTTYPE=image/jpeg:https://www.ilrcc.ab.ca/wp-content/uploads/2023/05/bowling.jpg
ORGANIZER;CN="ILRCC":MAILTO:ed@ilrcc.ab.ca
END:VEVENT
BEGIN:VEVENT
DTSTART;TZID=America/Edmonton:20230617T130000
DTEND;TZID=America/Edmonton:20230902T150000
DTSTAMP:20260422T160209
CREATED:20230520T211308Z
LAST-MODIFIED:20230829T001200Z
UID:10002569-1687006800-1693666800@www.ilrcc.ab.ca
SUMMARY:Saturday Bowling
DESCRIPTION:Sept 2 – Nov 18                         1:00 pm – 3:00 pm \nChinook Bowladrome – 6455 Macleod Trail \nThe program runs for 12 weeks at a cost of $110. \nEach bowler pays for their own bowling: $6.00/game \nRegistration
URL:https://www.ilrcc.ab.ca/event/saturday-bowling/2023-06-17/
CATEGORIES:LEARN PROGRAMS
ATTACH;FMTTYPE=image/jpeg:https://www.ilrcc.ab.ca/wp-content/uploads/2023/05/bowling.jpg
ORGANIZER;CN="ILRCC":MAILTO:ed@ilrcc.ab.ca
END:VEVENT
BEGIN:VEVENT
DTSTART;TZID=America/Edmonton:20230624T130000
DTEND;TZID=America/Edmonton:20230909T150000
DTSTAMP:20260422T160209
CREATED:20230520T211308Z
LAST-MODIFIED:20230829T001200Z
UID:10002570-1687611600-1694271600@www.ilrcc.ab.ca
SUMMARY:Saturday Bowling
DESCRIPTION:Sept 2 – Nov 18                         1:00 pm – 3:00 pm \nChinook Bowladrome – 6455 Macleod Trail \nThe program runs for 12 weeks at a cost of $110. \nEach bowler pays for their own bowling: $6.00/game \nRegistration
URL:https://www.ilrcc.ab.ca/event/saturday-bowling/2023-06-24/
CATEGORIES:LEARN PROGRAMS
ATTACH;FMTTYPE=image/jpeg:https://www.ilrcc.ab.ca/wp-content/uploads/2023/05/bowling.jpg
ORGANIZER;CN="ILRCC":MAILTO:ed@ilrcc.ab.ca
END:VEVENT
BEGIN:VEVENT
DTSTART;TZID=America/Edmonton:20230701T130000
DTEND;TZID=America/Edmonton:20230916T150000
DTSTAMP:20260422T160209
CREATED:20230520T211308Z
LAST-MODIFIED:20230829T001200Z
UID:10002571-1688216400-1694876400@www.ilrcc.ab.ca
SUMMARY:Saturday Bowling
DESCRIPTION:Sept 2 – Nov 18                         1:00 pm – 3:00 pm \nChinook Bowladrome – 6455 Macleod Trail \nThe program runs for 12 weeks at a cost of $110. \nEach bowler pays for their own bowling: $6.00/game \nRegistration
URL:https://www.ilrcc.ab.ca/event/saturday-bowling/2023-07-01/
CATEGORIES:LEARN PROGRAMS
ATTACH;FMTTYPE=image/jpeg:https://www.ilrcc.ab.ca/wp-content/uploads/2023/05/bowling.jpg
ORGANIZER;CN="ILRCC":MAILTO:ed@ilrcc.ab.ca
END:VEVENT
BEGIN:VEVENT
DTSTART;TZID=America/Edmonton:20230703T180000
DTEND;TZID=America/Edmonton:20230703T191500
DTSTAMP:20260422T160209
CREATED:20230814T205507Z
LAST-MODIFIED:20231226T233342Z
UID:10002195-1688407200-1688411700@www.ilrcc.ab.ca
SUMMARY:Monday Arts and Drawing
DESCRIPTION:Nov 27 – Feb 26\, 2024 \n6:00pm – 7:15pm \nILRCC – #134\, 3359 27th St. NE \nThe program runs for 12 weeks for $135 including the cost of materials. \nEach Monday evening join us and get creative!! \n*PLEASE  NOTE: Maximum of 12 participants per session. \nRegistration
URL:https://www.ilrcc.ab.ca/event/monday-arts-and-drawing/2023-07-03/
LOCATION:ILRCC\, ILRCC - #134\, 3359 27th St. NE\, Calgary\, Alberta\, Canada
CATEGORIES:LEARN PROGRAMS
ATTACH;FMTTYPE=image/jpeg:https://www.ilrcc.ab.ca/wp-content/uploads/2023/05/100-diy-string-art-flower-cards-1.jpg
ORGANIZER;CN="ILRCC":MAILTO:ed@ilrcc.ab.ca
END:VEVENT
BEGIN:VEVENT
DTSTART;TZID=America/Edmonton:20230704T130000
DTEND;TZID=America/Edmonton:20230704T140000
DTSTAMP:20260422T160209
CREATED:20230520T205856Z
LAST-MODIFIED:20230523T170619Z
UID:10002257-1688475600-1688479200@www.ilrcc.ab.ca
SUMMARY:Tuesday Arts and Crafts
DESCRIPTION:May 30th – August 15th \n1:00pm – 2:00pm \nILRCC – #134\, 3359 27th St. NE \nProgram runs for 12 weeks at a cost of $135 includes cost of materials. \nBe creative and work with your hands! Learn different styles and techniques for drawing\, painting\, and creating your own art. Build with different materials and create unique arts and crafts for gifts or display at home. \n*PLEASE  NOTE: Maximum of 12 participants per session. \nRegistration
URL:https://www.ilrcc.ab.ca/event/tuesday-arts-and-crafts/2023-07-04/
LOCATION:ILRCC\, ILRCC - #134\, 3359 27th St. NE\, Calgary\, Alberta\, Canada
CATEGORIES:LEARN PROGRAMS
ATTACH;FMTTYPE=image/png:https://www.ilrcc.ab.ca/wp-content/uploads/2023/05/Arts-Crafts.png
ORGANIZER;CN="ILRCC":MAILTO:ed@ilrcc.ab.ca
END:VEVENT
BEGIN:VEVENT
DTSTART;TZID=America/Edmonton:20230705T173000
DTEND;TZID=America/Edmonton:20230705T193000
DTSTAMP:20260422T160209
CREATED:20230520T210508Z
LAST-MODIFIED:20230523T170411Z
UID:10002444-1688578200-1688585400@www.ilrcc.ab.ca
SUMMARY:Wednesday Pizza Night
DESCRIPTION:June 7th– August 23rd \n5:30 pm – 7:30 pm \nBoston Pizza – 2836 Memorial Dr SE \nThe program runs for 12 weeks at a cost of $110. \nYou are responsible to pay for your meal and for the smaller appetites\, you can order from the kids menu. \nRegistration
URL:https://www.ilrcc.ab.ca/event/wednesday-pizza-night/2023-07-05/
LOCATION:ILRCC\, ILRCC - #134\, 3359 27th St. NE\, Calgary\, Alberta\, Canada
CATEGORIES:LEARN PROGRAMS
ATTACH;FMTTYPE=image/jpeg:https://www.ilrcc.ab.ca/wp-content/uploads/2023/05/Boston-Pizza-scaled-1.jpg
ORGANIZER;CN="ILRCC":MAILTO:ed@ilrcc.ab.ca
END:VEVENT
BEGIN:VEVENT
DTSTART;TZID=America/Edmonton:20230706T110000
DTEND;TZID=America/Edmonton:20230706T120000
DTSTAMP:20260422T160209
CREATED:20230520T210917Z
LAST-MODIFIED:20230523T170517Z
UID:10002509-1688641200-1688644800@www.ilrcc.ab.ca
SUMMARY:Thursday Arts and Crafts
DESCRIPTION:June 1st – August 17th \n11:00 am – 12:00 pm \nILRCC – #134\, 3359 27th St. NE \nThe program runs for 12 weeks at a cost of $135 including the cost of materials. \nEach Thursday join us and get creative\, as you choose from 2-3 different art projects to try out! \n*PLEASE  NOTE: Maximum of 12 participants per session. \nRegistration
URL:https://www.ilrcc.ab.ca/event/thursday-arts-and-crafts/2023-07-06/
LOCATION:ILRCC\, ILRCC - #134\, 3359 27th St. NE\, Calgary\, Alberta\, Canada
CATEGORIES:LEARN PROGRAMS
ATTACH;FMTTYPE=image/jpeg:https://www.ilrcc.ab.ca/wp-content/uploads/2023/05/istockphoto-519362488-612x612-1.jpg
ORGANIZER;CN="ILRCC":MAILTO:ed@ilrcc.ab.ca
END:VEVENT
BEGIN:VEVENT
DTSTART;TZID=America/Edmonton:20230706T170000
DTEND;TZID=America/Edmonton:20230706T180000
DTSTAMP:20260422T160209
CREATED:20231102T130046Z
LAST-MODIFIED:20231226T233140Z
UID:10001671-1688662800-1688666400@www.ilrcc.ab.ca
SUMMARY:Thursday Dance + Sing Movements
DESCRIPTION:May 11th  – June 29th \n5:00pm – 6:00pm \nILRCC – #134\, 3359 27th St. NE \nProgram runs for 8 weeks at a cost of $75. \nCome join the fun for a Karaoke & Zumba evening at ILRCC \nRegistration
URL:https://www.ilrcc.ab.ca/event/thursday-dance-sing-movements-500pm-600pm/2023-07-06/
LOCATION:ILRCC\, ILRCC - #134\, 3359 27th St. NE\, Calgary\, Alberta\, Canada
CATEGORIES:LEARN PROGRAMS
ATTACH;FMTTYPE=image/jpeg:https://www.ilrcc.ab.ca/wp-content/uploads/2023/05/Thursday-Dance-Sing-Movements.jpg
ORGANIZER;CN="ILRCC":MAILTO:ed@ilrcc.ab.ca
END:VEVENT
BEGIN:VEVENT
DTSTART;TZID=America/Edmonton:20230708T130000
DTEND;TZID=America/Edmonton:20230923T150000
DTSTAMP:20260422T160209
CREATED:20230520T211308Z
LAST-MODIFIED:20230829T001200Z
UID:10002572-1688821200-1695481200@www.ilrcc.ab.ca
SUMMARY:Saturday Bowling
DESCRIPTION:Sept 2 – Nov 18                         1:00 pm – 3:00 pm \nChinook Bowladrome – 6455 Macleod Trail \nThe program runs for 12 weeks at a cost of $110. \nEach bowler pays for their own bowling: $6.00/game \nRegistration
URL:https://www.ilrcc.ab.ca/event/saturday-bowling/2023-07-08/
CATEGORIES:LEARN PROGRAMS
ATTACH;FMTTYPE=image/jpeg:https://www.ilrcc.ab.ca/wp-content/uploads/2023/05/bowling.jpg
ORGANIZER;CN="ILRCC":MAILTO:ed@ilrcc.ab.ca
END:VEVENT
BEGIN:VEVENT
DTSTART;TZID=America/Edmonton:20230710T180000
DTEND;TZID=America/Edmonton:20230710T191500
DTSTAMP:20260422T160209
CREATED:20230814T205507Z
LAST-MODIFIED:20231226T233342Z
UID:10002196-1689012000-1689016500@www.ilrcc.ab.ca
SUMMARY:Monday Arts and Drawing
DESCRIPTION:Nov 27 – Feb 26\, 2024 \n6:00pm – 7:15pm \nILRCC – #134\, 3359 27th St. NE \nThe program runs for 12 weeks for $135 including the cost of materials. \nEach Monday evening join us and get creative!! \n*PLEASE  NOTE: Maximum of 12 participants per session. \nRegistration
URL:https://www.ilrcc.ab.ca/event/monday-arts-and-drawing/2023-07-10/
LOCATION:ILRCC\, ILRCC - #134\, 3359 27th St. NE\, Calgary\, Alberta\, Canada
CATEGORIES:LEARN PROGRAMS
ATTACH;FMTTYPE=image/jpeg:https://www.ilrcc.ab.ca/wp-content/uploads/2023/05/100-diy-string-art-flower-cards-1.jpg
ORGANIZER;CN="ILRCC":MAILTO:ed@ilrcc.ab.ca
END:VEVENT
BEGIN:VEVENT
DTSTART;TZID=America/Edmonton:20230711T130000
DTEND;TZID=America/Edmonton:20230711T140000
DTSTAMP:20260422T160209
CREATED:20230520T205856Z
LAST-MODIFIED:20230523T170619Z
UID:10002258-1689080400-1689084000@www.ilrcc.ab.ca
SUMMARY:Tuesday Arts and Crafts
DESCRIPTION:May 30th – August 15th \n1:00pm – 2:00pm \nILRCC – #134\, 3359 27th St. NE \nProgram runs for 12 weeks at a cost of $135 includes cost of materials. \nBe creative and work with your hands! Learn different styles and techniques for drawing\, painting\, and creating your own art. Build with different materials and create unique arts and crafts for gifts or display at home. \n*PLEASE  NOTE: Maximum of 12 participants per session. \nRegistration
URL:https://www.ilrcc.ab.ca/event/tuesday-arts-and-crafts/2023-07-11/
LOCATION:ILRCC\, ILRCC - #134\, 3359 27th St. NE\, Calgary\, Alberta\, Canada
CATEGORIES:LEARN PROGRAMS
ATTACH;FMTTYPE=image/png:https://www.ilrcc.ab.ca/wp-content/uploads/2023/05/Arts-Crafts.png
ORGANIZER;CN="ILRCC":MAILTO:ed@ilrcc.ab.ca
END:VEVENT
BEGIN:VEVENT
DTSTART;TZID=America/Edmonton:20230712T173000
DTEND;TZID=America/Edmonton:20230712T193000
DTSTAMP:20260422T160209
CREATED:20230520T210508Z
LAST-MODIFIED:20230523T170411Z
UID:10002445-1689183000-1689190200@www.ilrcc.ab.ca
SUMMARY:Wednesday Pizza Night
DESCRIPTION:June 7th– August 23rd \n5:30 pm – 7:30 pm \nBoston Pizza – 2836 Memorial Dr SE \nThe program runs for 12 weeks at a cost of $110. \nYou are responsible to pay for your meal and for the smaller appetites\, you can order from the kids menu. \nRegistration
URL:https://www.ilrcc.ab.ca/event/wednesday-pizza-night/2023-07-12/
LOCATION:ILRCC\, ILRCC - #134\, 3359 27th St. NE\, Calgary\, Alberta\, Canada
CATEGORIES:LEARN PROGRAMS
ATTACH;FMTTYPE=image/jpeg:https://www.ilrcc.ab.ca/wp-content/uploads/2023/05/Boston-Pizza-scaled-1.jpg
ORGANIZER;CN="ILRCC":MAILTO:ed@ilrcc.ab.ca
END:VEVENT
BEGIN:VEVENT
DTSTART;TZID=America/Edmonton:20230713T110000
DTEND;TZID=America/Edmonton:20230713T120000
DTSTAMP:20260422T160209
CREATED:20230520T210917Z
LAST-MODIFIED:20230523T170517Z
UID:10002510-1689246000-1689249600@www.ilrcc.ab.ca
SUMMARY:Thursday Arts and Crafts
DESCRIPTION:June 1st – August 17th \n11:00 am – 12:00 pm \nILRCC – #134\, 3359 27th St. NE \nThe program runs for 12 weeks at a cost of $135 including the cost of materials. \nEach Thursday join us and get creative\, as you choose from 2-3 different art projects to try out! \n*PLEASE  NOTE: Maximum of 12 participants per session. \nRegistration
URL:https://www.ilrcc.ab.ca/event/thursday-arts-and-crafts/2023-07-13/
LOCATION:ILRCC\, ILRCC - #134\, 3359 27th St. NE\, Calgary\, Alberta\, Canada
CATEGORIES:LEARN PROGRAMS
ATTACH;FMTTYPE=image/jpeg:https://www.ilrcc.ab.ca/wp-content/uploads/2023/05/istockphoto-519362488-612x612-1.jpg
ORGANIZER;CN="ILRCC":MAILTO:ed@ilrcc.ab.ca
END:VEVENT
BEGIN:VEVENT
DTSTART;TZID=America/Edmonton:20230713T170000
DTEND;TZID=America/Edmonton:20230713T180000
DTSTAMP:20260422T160209
CREATED:20231102T130046Z
LAST-MODIFIED:20231226T233140Z
UID:10001672-1689267600-1689271200@www.ilrcc.ab.ca
SUMMARY:Thursday Dance + Sing Movements
DESCRIPTION:May 11th  – June 29th \n5:00pm – 6:00pm \nILRCC – #134\, 3359 27th St. NE \nProgram runs for 8 weeks at a cost of $75. \nCome join the fun for a Karaoke & Zumba evening at ILRCC \nRegistration
URL:https://www.ilrcc.ab.ca/event/thursday-dance-sing-movements-500pm-600pm/2023-07-13/
LOCATION:ILRCC\, ILRCC - #134\, 3359 27th St. NE\, Calgary\, Alberta\, Canada
CATEGORIES:LEARN PROGRAMS
ATTACH;FMTTYPE=image/jpeg:https://www.ilrcc.ab.ca/wp-content/uploads/2023/05/Thursday-Dance-Sing-Movements.jpg
ORGANIZER;CN="ILRCC":MAILTO:ed@ilrcc.ab.ca
END:VEVENT
BEGIN:VEVENT
DTSTART;TZID=America/Edmonton:20230715T130000
DTEND;TZID=America/Edmonton:20230930T150000
DTSTAMP:20260422T160209
CREATED:20230520T211308Z
LAST-MODIFIED:20230829T001200Z
UID:10002573-1689426000-1696086000@www.ilrcc.ab.ca
SUMMARY:Saturday Bowling
DESCRIPTION:Sept 2 – Nov 18                         1:00 pm – 3:00 pm \nChinook Bowladrome – 6455 Macleod Trail \nThe program runs for 12 weeks at a cost of $110. \nEach bowler pays for their own bowling: $6.00/game \nRegistration
URL:https://www.ilrcc.ab.ca/event/saturday-bowling/2023-07-15/
CATEGORIES:LEARN PROGRAMS
ATTACH;FMTTYPE=image/jpeg:https://www.ilrcc.ab.ca/wp-content/uploads/2023/05/bowling.jpg
ORGANIZER;CN="ILRCC":MAILTO:ed@ilrcc.ab.ca
END:VEVENT
BEGIN:VEVENT
DTSTART;TZID=America/Edmonton:20230717T180000
DTEND;TZID=America/Edmonton:20230717T191500
DTSTAMP:20260422T160209
CREATED:20230814T205507Z
LAST-MODIFIED:20231226T233342Z
UID:10002197-1689616800-1689621300@www.ilrcc.ab.ca
SUMMARY:Monday Arts and Drawing
DESCRIPTION:Nov 27 – Feb 26\, 2024 \n6:00pm – 7:15pm \nILRCC – #134\, 3359 27th St. NE \nThe program runs for 12 weeks for $135 including the cost of materials. \nEach Monday evening join us and get creative!! \n*PLEASE  NOTE: Maximum of 12 participants per session. \nRegistration
URL:https://www.ilrcc.ab.ca/event/monday-arts-and-drawing/2023-07-17/
LOCATION:ILRCC\, ILRCC - #134\, 3359 27th St. NE\, Calgary\, Alberta\, Canada
CATEGORIES:LEARN PROGRAMS
ATTACH;FMTTYPE=image/jpeg:https://www.ilrcc.ab.ca/wp-content/uploads/2023/05/100-diy-string-art-flower-cards-1.jpg
ORGANIZER;CN="ILRCC":MAILTO:ed@ilrcc.ab.ca
END:VEVENT
BEGIN:VEVENT
DTSTART;TZID=America/Edmonton:20230718T130000
DTEND;TZID=America/Edmonton:20230718T140000
DTSTAMP:20260422T160209
CREATED:20230520T205856Z
LAST-MODIFIED:20230523T170619Z
UID:10002259-1689685200-1689688800@www.ilrcc.ab.ca
SUMMARY:Tuesday Arts and Crafts
DESCRIPTION:May 30th – August 15th \n1:00pm – 2:00pm \nILRCC – #134\, 3359 27th St. NE \nProgram runs for 12 weeks at a cost of $135 includes cost of materials. \nBe creative and work with your hands! Learn different styles and techniques for drawing\, painting\, and creating your own art. Build with different materials and create unique arts and crafts for gifts or display at home. \n*PLEASE  NOTE: Maximum of 12 participants per session. \nRegistration
URL:https://www.ilrcc.ab.ca/event/tuesday-arts-and-crafts/2023-07-18/
LOCATION:ILRCC\, ILRCC - #134\, 3359 27th St. NE\, Calgary\, Alberta\, Canada
CATEGORIES:LEARN PROGRAMS
ATTACH;FMTTYPE=image/png:https://www.ilrcc.ab.ca/wp-content/uploads/2023/05/Arts-Crafts.png
ORGANIZER;CN="ILRCC":MAILTO:ed@ilrcc.ab.ca
END:VEVENT
BEGIN:VEVENT
DTSTART;TZID=America/Edmonton:20230719T173000
DTEND;TZID=America/Edmonton:20230719T193000
DTSTAMP:20260422T160209
CREATED:20230520T210508Z
LAST-MODIFIED:20230523T170411Z
UID:10002446-1689787800-1689795000@www.ilrcc.ab.ca
SUMMARY:Wednesday Pizza Night
DESCRIPTION:June 7th– August 23rd \n5:30 pm – 7:30 pm \nBoston Pizza – 2836 Memorial Dr SE \nThe program runs for 12 weeks at a cost of $110. \nYou are responsible to pay for your meal and for the smaller appetites\, you can order from the kids menu. \nRegistration
URL:https://www.ilrcc.ab.ca/event/wednesday-pizza-night/2023-07-19/
LOCATION:ILRCC\, ILRCC - #134\, 3359 27th St. NE\, Calgary\, Alberta\, Canada
CATEGORIES:LEARN PROGRAMS
ATTACH;FMTTYPE=image/jpeg:https://www.ilrcc.ab.ca/wp-content/uploads/2023/05/Boston-Pizza-scaled-1.jpg
ORGANIZER;CN="ILRCC":MAILTO:ed@ilrcc.ab.ca
END:VEVENT
BEGIN:VEVENT
DTSTART;TZID=America/Edmonton:20230719T173000
DTEND;TZID=America/Edmonton:20230830T183000
DTSTAMP:20260422T160209
CREATED:20230711T155816Z
LAST-MODIFIED:20230829T000354Z
UID:10001934-1689787800-1693420200@www.ilrcc.ab.ca
SUMMARY:Wednesdays Loop Knitting and Hand Knitting
DESCRIPTION:July 19 – August 30 \n5:30 pm – 6:30 pm \nILRCC – #134\, 3359 27th St. NE \nThe program runs for 8 weeks at a cost of $90. \nLoop yarn is a super soft yarn that has loops pre-sewn into it. So instead of making loops and doing complicated stitches using knitting needles\, you can use your hands. \nJoin us to make a BIG soft loop blanket\, and you don’t have to know how to knit to use it! \nRegistration
URL:https://www.ilrcc.ab.ca/event/wednesdays-loop-knitting-and-hand-knitting-2-2/
LOCATION:ILRCC\, ILRCC - #134\, 3359 27th St. NE\, Calgary\, Alberta\, Canada
CATEGORIES:LEARN PROGRAMS
ATTACH;FMTTYPE=image/jpeg:https://www.ilrcc.ab.ca/wp-content/uploads/2023/05/ezgif.com-webp-to-jpg.jpg
END:VEVENT
BEGIN:VEVENT
DTSTART;TZID=America/Edmonton:20230720T110000
DTEND;TZID=America/Edmonton:20230720T120000
DTSTAMP:20260422T160209
CREATED:20230520T210917Z
LAST-MODIFIED:20230523T170517Z
UID:10002511-1689850800-1689854400@www.ilrcc.ab.ca
SUMMARY:Thursday Arts and Crafts
DESCRIPTION:June 1st – August 17th \n11:00 am – 12:00 pm \nILRCC – #134\, 3359 27th St. NE \nThe program runs for 12 weeks at a cost of $135 including the cost of materials. \nEach Thursday join us and get creative\, as you choose from 2-3 different art projects to try out! \n*PLEASE  NOTE: Maximum of 12 participants per session. \nRegistration
URL:https://www.ilrcc.ab.ca/event/thursday-arts-and-crafts/2023-07-20/
LOCATION:ILRCC\, ILRCC - #134\, 3359 27th St. NE\, Calgary\, Alberta\, Canada
CATEGORIES:LEARN PROGRAMS
ATTACH;FMTTYPE=image/jpeg:https://www.ilrcc.ab.ca/wp-content/uploads/2023/05/istockphoto-519362488-612x612-1.jpg
ORGANIZER;CN="ILRCC":MAILTO:ed@ilrcc.ab.ca
END:VEVENT
BEGIN:VEVENT
DTSTART;TZID=America/Edmonton:20230720T170000
DTEND;TZID=America/Edmonton:20230720T180000
DTSTAMP:20260422T160209
CREATED:20231102T130046Z
LAST-MODIFIED:20231226T233140Z
UID:10001673-1689872400-1689876000@www.ilrcc.ab.ca
SUMMARY:Thursday Dance + Sing Movements
DESCRIPTION:May 11th  – June 29th \n5:00pm – 6:00pm \nILRCC – #134\, 3359 27th St. NE \nProgram runs for 8 weeks at a cost of $75. \nCome join the fun for a Karaoke & Zumba evening at ILRCC \nRegistration
URL:https://www.ilrcc.ab.ca/event/thursday-dance-sing-movements-500pm-600pm/2023-07-20/
LOCATION:ILRCC\, ILRCC - #134\, 3359 27th St. NE\, Calgary\, Alberta\, Canada
CATEGORIES:LEARN PROGRAMS
ATTACH;FMTTYPE=image/jpeg:https://www.ilrcc.ab.ca/wp-content/uploads/2023/05/Thursday-Dance-Sing-Movements.jpg
ORGANIZER;CN="ILRCC":MAILTO:ed@ilrcc.ab.ca
END:VEVENT
BEGIN:VEVENT
DTSTART;TZID=America/Edmonton:20230722T130000
DTEND;TZID=America/Edmonton:20231007T150000
DTSTAMP:20260422T160209
CREATED:20230520T211308Z
LAST-MODIFIED:20230829T001200Z
UID:10002574-1690030800-1696690800@www.ilrcc.ab.ca
SUMMARY:Saturday Bowling
DESCRIPTION:Sept 2 – Nov 18                         1:00 pm – 3:00 pm \nChinook Bowladrome – 6455 Macleod Trail \nThe program runs for 12 weeks at a cost of $110. \nEach bowler pays for their own bowling: $6.00/game \nRegistration
URL:https://www.ilrcc.ab.ca/event/saturday-bowling/2023-07-22/
CATEGORIES:LEARN PROGRAMS
ATTACH;FMTTYPE=image/jpeg:https://www.ilrcc.ab.ca/wp-content/uploads/2023/05/bowling.jpg
ORGANIZER;CN="ILRCC":MAILTO:ed@ilrcc.ab.ca
END:VEVENT
BEGIN:VEVENT
DTSTART;TZID=America/Edmonton:20230724T180000
DTEND;TZID=America/Edmonton:20230724T191500
DTSTAMP:20260422T160209
CREATED:20230814T205507Z
LAST-MODIFIED:20231226T233342Z
UID:10002198-1690221600-1690226100@www.ilrcc.ab.ca
SUMMARY:Monday Arts and Drawing
DESCRIPTION:Nov 27 – Feb 26\, 2024 \n6:00pm – 7:15pm \nILRCC – #134\, 3359 27th St. NE \nThe program runs for 12 weeks for $135 including the cost of materials. \nEach Monday evening join us and get creative!! \n*PLEASE  NOTE: Maximum of 12 participants per session. \nRegistration
URL:https://www.ilrcc.ab.ca/event/monday-arts-and-drawing/2023-07-24/
LOCATION:ILRCC\, ILRCC - #134\, 3359 27th St. NE\, Calgary\, Alberta\, Canada
CATEGORIES:LEARN PROGRAMS
ATTACH;FMTTYPE=image/jpeg:https://www.ilrcc.ab.ca/wp-content/uploads/2023/05/100-diy-string-art-flower-cards-1.jpg
ORGANIZER;CN="ILRCC":MAILTO:ed@ilrcc.ab.ca
END:VEVENT
BEGIN:VEVENT
DTSTART;TZID=America/Edmonton:20230725T130000
DTEND;TZID=America/Edmonton:20230725T140000
DTSTAMP:20260422T160209
CREATED:20230520T205856Z
LAST-MODIFIED:20230523T170619Z
UID:10002260-1690290000-1690293600@www.ilrcc.ab.ca
SUMMARY:Tuesday Arts and Crafts
DESCRIPTION:May 30th – August 15th \n1:00pm – 2:00pm \nILRCC – #134\, 3359 27th St. NE \nProgram runs for 12 weeks at a cost of $135 includes cost of materials. \nBe creative and work with your hands! Learn different styles and techniques for drawing\, painting\, and creating your own art. Build with different materials and create unique arts and crafts for gifts or display at home. \n*PLEASE  NOTE: Maximum of 12 participants per session. \nRegistration
URL:https://www.ilrcc.ab.ca/event/tuesday-arts-and-crafts/2023-07-25/
LOCATION:ILRCC\, ILRCC - #134\, 3359 27th St. NE\, Calgary\, Alberta\, Canada
CATEGORIES:LEARN PROGRAMS
ATTACH;FMTTYPE=image/png:https://www.ilrcc.ab.ca/wp-content/uploads/2023/05/Arts-Crafts.png
ORGANIZER;CN="ILRCC":MAILTO:ed@ilrcc.ab.ca
END:VEVENT
BEGIN:VEVENT
DTSTART;TZID=America/Edmonton:20230726T173000
DTEND;TZID=America/Edmonton:20230726T193000
DTSTAMP:20260422T160209
CREATED:20230520T210508Z
LAST-MODIFIED:20230523T170411Z
UID:10002447-1690392600-1690399800@www.ilrcc.ab.ca
SUMMARY:Wednesday Pizza Night
DESCRIPTION:June 7th– August 23rd \n5:30 pm – 7:30 pm \nBoston Pizza – 2836 Memorial Dr SE \nThe program runs for 12 weeks at a cost of $110. \nYou are responsible to pay for your meal and for the smaller appetites\, you can order from the kids menu. \nRegistration
URL:https://www.ilrcc.ab.ca/event/wednesday-pizza-night/2023-07-26/
LOCATION:ILRCC\, ILRCC - #134\, 3359 27th St. NE\, Calgary\, Alberta\, Canada
CATEGORIES:LEARN PROGRAMS
ATTACH;FMTTYPE=image/jpeg:https://www.ilrcc.ab.ca/wp-content/uploads/2023/05/Boston-Pizza-scaled-1.jpg
ORGANIZER;CN="ILRCC":MAILTO:ed@ilrcc.ab.ca
END:VEVENT
BEGIN:VEVENT
DTSTART;TZID=America/Edmonton:20230727T110000
DTEND;TZID=America/Edmonton:20230727T120000
DTSTAMP:20260422T160209
CREATED:20230520T210917Z
LAST-MODIFIED:20230523T170517Z
UID:10002512-1690455600-1690459200@www.ilrcc.ab.ca
SUMMARY:Thursday Arts and Crafts
DESCRIPTION:June 1st – August 17th \n11:00 am – 12:00 pm \nILRCC – #134\, 3359 27th St. NE \nThe program runs for 12 weeks at a cost of $135 including the cost of materials. \nEach Thursday join us and get creative\, as you choose from 2-3 different art projects to try out! \n*PLEASE  NOTE: Maximum of 12 participants per session. \nRegistration
URL:https://www.ilrcc.ab.ca/event/thursday-arts-and-crafts/2023-07-27/
LOCATION:ILRCC\, ILRCC - #134\, 3359 27th St. NE\, Calgary\, Alberta\, Canada
CATEGORIES:LEARN PROGRAMS
ATTACH;FMTTYPE=image/jpeg:https://www.ilrcc.ab.ca/wp-content/uploads/2023/05/istockphoto-519362488-612x612-1.jpg
ORGANIZER;CN="ILRCC":MAILTO:ed@ilrcc.ab.ca
END:VEVENT
BEGIN:VEVENT
DTSTART;TZID=America/Edmonton:20230727T170000
DTEND;TZID=America/Edmonton:20230727T180000
DTSTAMP:20260422T160209
CREATED:20231102T130046Z
LAST-MODIFIED:20231226T233140Z
UID:10001674-1690477200-1690480800@www.ilrcc.ab.ca
SUMMARY:Thursday Dance + Sing Movements
DESCRIPTION:May 11th  – June 29th \n5:00pm – 6:00pm \nILRCC – #134\, 3359 27th St. NE \nProgram runs for 8 weeks at a cost of $75. \nCome join the fun for a Karaoke & Zumba evening at ILRCC \nRegistration
URL:https://www.ilrcc.ab.ca/event/thursday-dance-sing-movements-500pm-600pm/2023-07-27/
LOCATION:ILRCC\, ILRCC - #134\, 3359 27th St. NE\, Calgary\, Alberta\, Canada
CATEGORIES:LEARN PROGRAMS
ATTACH;FMTTYPE=image/jpeg:https://www.ilrcc.ab.ca/wp-content/uploads/2023/05/Thursday-Dance-Sing-Movements.jpg
ORGANIZER;CN="ILRCC":MAILTO:ed@ilrcc.ab.ca
END:VEVENT
BEGIN:VEVENT
DTSTART;TZID=America/Edmonton:20230729T130000
DTEND;TZID=America/Edmonton:20231014T150000
DTSTAMP:20260422T160209
CREATED:20230520T211308Z
LAST-MODIFIED:20230829T001200Z
UID:10002575-1690635600-1697295600@www.ilrcc.ab.ca
SUMMARY:Saturday Bowling
DESCRIPTION:Sept 2 – Nov 18                         1:00 pm – 3:00 pm \nChinook Bowladrome – 6455 Macleod Trail \nThe program runs for 12 weeks at a cost of $110. \nEach bowler pays for their own bowling: $6.00/game \nRegistration
URL:https://www.ilrcc.ab.ca/event/saturday-bowling/2023-07-29/
CATEGORIES:LEARN PROGRAMS
ATTACH;FMTTYPE=image/jpeg:https://www.ilrcc.ab.ca/wp-content/uploads/2023/05/bowling.jpg
ORGANIZER;CN="ILRCC":MAILTO:ed@ilrcc.ab.ca
END:VEVENT
END:VCALENDAR