BEGIN:VCALENDAR
VERSION:2.0
PRODID:-//ILRCC - ECPv6.15.20//NONSGML v1.0//EN
CALSCALE:GREGORIAN
METHOD:PUBLISH
X-WR-CALNAME:ILRCC
X-ORIGINAL-URL:https://www.ilrcc.ab.ca
X-WR-CALDESC:Events for ILRCC
REFRESH-INTERVAL;VALUE=DURATION:PT1H
X-Robots-Tag:noindex
X-PUBLISHED-TTL:PT1H
BEGIN:VTIMEZONE
TZID:America/Edmonton
BEGIN:DAYLIGHT
TZOFFSETFROM:-0700
TZOFFSETTO:-0600
TZNAME:MDT
DTSTART:20230312T090000
END:DAYLIGHT
BEGIN:STANDARD
TZOFFSETFROM:-0600
TZOFFSETTO:-0700
TZNAME:MST
DTSTART:20231105T080000
END:STANDARD
BEGIN:DAYLIGHT
TZOFFSETFROM:-0700
TZOFFSETTO:-0600
TZNAME:MDT
DTSTART:20240310T090000
END:DAYLIGHT
BEGIN:STANDARD
TZOFFSETFROM:-0600
TZOFFSETTO:-0700
TZNAME:MST
DTSTART:20241103T080000
END:STANDARD
BEGIN:DAYLIGHT
TZOFFSETFROM:-0700
TZOFFSETTO:-0600
TZNAME:MDT
DTSTART:20250309T090000
END:DAYLIGHT
BEGIN:STANDARD
TZOFFSETFROM:-0600
TZOFFSETTO:-0700
TZNAME:MST
DTSTART:20251102T080000
END:STANDARD
END:VTIMEZONE
BEGIN:VEVENT
DTSTART;TZID=America/Edmonton:20240215T110000
DTEND;TZID=America/Edmonton:20240502T130000
DTSTAMP:20260422T013934
CREATED:20230829T002153Z
LAST-MODIFIED:20231227T012705Z
UID:10002541-1707994800-1714654800@www.ilrcc.ab.ca
SUMMARY:Thursday Arts and Crafts
DESCRIPTION:Nov 16 – Feb 15\, 2024 \n11:00 am – 12:00 pm \nILRCC – #134\, 3359 27th St. NE \nThe program runs for 12 weeks for $135 including the cost of materials. \nEach Thursday join us and get creative\, as you choose from 2-3 different art projects to try out! \n*PLEASE  NOTE: Maximum of 12 participants per session. \nRegistration
URL:https://www.ilrcc.ab.ca/event/thursday-arts-and-crafts-2/2024-02-15/
CATEGORIES:LEARN PROGRAMS
ATTACH;FMTTYPE=image/jpeg:https://www.ilrcc.ab.ca/wp-content/uploads/2023/05/istockphoto-519362488-612x612-1.jpg
ORGANIZER;CN="ILRCC":MAILTO:ed@ilrcc.ab.ca
END:VEVENT
BEGIN:VEVENT
DTSTART;TZID=America/Edmonton:20240217T130000
DTEND;TZID=America/Edmonton:20240504T160000
DTSTAMP:20260422T013934
CREATED:20230829T001229Z
LAST-MODIFIED:20240219T224852Z
UID:10002604-1708174800-1714838400@www.ilrcc.ab.ca
SUMMARY:Saturday Bowling
DESCRIPTION:Dec 2 – Feb 24\, 2024                         1:00 pm – 3:00 pm \nChinook Bowladrome – 6455 Macleod Trail \nThe program runs for 12 weeks for $110. \nEach bowler pays for their bowling: $6.00/game \nRegistration
URL:https://www.ilrcc.ab.ca/event/saturday-bowling-2/2024-02-17/
CATEGORIES:LEARN PROGRAMS
ATTACH;FMTTYPE=image/jpeg:https://www.ilrcc.ab.ca/wp-content/uploads/2023/05/bowling.jpg
ORGANIZER;CN="ILRCC":MAILTO:ed@ilrcc.ab.ca
END:VEVENT
BEGIN:VEVENT
DTSTART;TZID=America/Edmonton:20240220T130000
DTEND;TZID=America/Edmonton:20240507T150000
DTSTAMP:20260422T013934
CREATED:20230829T003322Z
LAST-MODIFIED:20231227T013018Z
UID:10002290-1708434000-1715094000@www.ilrcc.ab.ca
SUMMARY:Tuesday Arts and Crafts
DESCRIPTION:Nov 14 – Feb 13\, 2024 \n1:00pm – 2:00pm \nILRCC – #134\, 3359 27th St. NE \nThe program runs for 12 weeks for $135 including the cost of materials. \nBe creative and work with your hands! Learn different styles and techniques for drawing\, painting\, and creating your art. Build with different materials and create unique arts and crafts for gifts or display at home. \n*PLEASE  NOTE: Maximum of 12 participants per session. \nRegistration
URL:https://www.ilrcc.ab.ca/event/tuesday-arts-and-crafts-2/2024-02-20/
CATEGORIES:LEARN PROGRAMS
ATTACH;FMTTYPE=image/png:https://www.ilrcc.ab.ca/wp-content/uploads/2023/05/Arts-Crafts.png
ORGANIZER;CN="ILRCC":MAILTO:ed@ilrcc.ab.ca
END:VEVENT
BEGIN:VEVENT
DTSTART;TZID=America/Edmonton:20240222T110000
DTEND;TZID=America/Edmonton:20240509T130000
DTSTAMP:20260422T013934
CREATED:20230829T002153Z
LAST-MODIFIED:20231227T012705Z
UID:10002542-1708599600-1715259600@www.ilrcc.ab.ca
SUMMARY:Thursday Arts and Crafts
DESCRIPTION:Nov 16 – Feb 15\, 2024 \n11:00 am – 12:00 pm \nILRCC – #134\, 3359 27th St. NE \nThe program runs for 12 weeks for $135 including the cost of materials. \nEach Thursday join us and get creative\, as you choose from 2-3 different art projects to try out! \n*PLEASE  NOTE: Maximum of 12 participants per session. \nRegistration
URL:https://www.ilrcc.ab.ca/event/thursday-arts-and-crafts-2/2024-02-22/
CATEGORIES:LEARN PROGRAMS
ATTACH;FMTTYPE=image/jpeg:https://www.ilrcc.ab.ca/wp-content/uploads/2023/05/istockphoto-519362488-612x612-1.jpg
ORGANIZER;CN="ILRCC":MAILTO:ed@ilrcc.ab.ca
END:VEVENT
BEGIN:VEVENT
DTSTART;TZID=America/Edmonton:20240224T130000
DTEND;TZID=America/Edmonton:20240511T160000
DTSTAMP:20260422T013934
CREATED:20230829T001229Z
LAST-MODIFIED:20240219T224852Z
UID:10002605-1708779600-1715443200@www.ilrcc.ab.ca
SUMMARY:Saturday Bowling
DESCRIPTION:Dec 2 – Feb 24\, 2024                         1:00 pm – 3:00 pm \nChinook Bowladrome – 6455 Macleod Trail \nThe program runs for 12 weeks for $110. \nEach bowler pays for their bowling: $6.00/game \nRegistration
URL:https://www.ilrcc.ab.ca/event/saturday-bowling-2/2024-02-24/
CATEGORIES:LEARN PROGRAMS
ATTACH;FMTTYPE=image/jpeg:https://www.ilrcc.ab.ca/wp-content/uploads/2023/05/bowling.jpg
ORGANIZER;CN="ILRCC":MAILTO:ed@ilrcc.ab.ca
END:VEVENT
BEGIN:VEVENT
DTSTART;TZID=America/Edmonton:20240227T130000
DTEND;TZID=America/Edmonton:20240514T150000
DTSTAMP:20260422T013934
CREATED:20230829T003322Z
LAST-MODIFIED:20231227T013018Z
UID:10002291-1709038800-1715698800@www.ilrcc.ab.ca
SUMMARY:Tuesday Arts and Crafts
DESCRIPTION:Nov 14 – Feb 13\, 2024 \n1:00pm – 2:00pm \nILRCC – #134\, 3359 27th St. NE \nThe program runs for 12 weeks for $135 including the cost of materials. \nBe creative and work with your hands! Learn different styles and techniques for drawing\, painting\, and creating your art. Build with different materials and create unique arts and crafts for gifts or display at home. \n*PLEASE  NOTE: Maximum of 12 participants per session. \nRegistration
URL:https://www.ilrcc.ab.ca/event/tuesday-arts-and-crafts-2/2024-02-27/
CATEGORIES:LEARN PROGRAMS
ATTACH;FMTTYPE=image/png:https://www.ilrcc.ab.ca/wp-content/uploads/2023/05/Arts-Crafts.png
ORGANIZER;CN="ILRCC":MAILTO:ed@ilrcc.ab.ca
END:VEVENT
BEGIN:VEVENT
DTSTART;TZID=America/Edmonton:20240229T110000
DTEND;TZID=America/Edmonton:20240516T130000
DTSTAMP:20260422T013934
CREATED:20230829T002153Z
LAST-MODIFIED:20231227T012705Z
UID:10002543-1709204400-1715864400@www.ilrcc.ab.ca
SUMMARY:Thursday Arts and Crafts
DESCRIPTION:Nov 16 – Feb 15\, 2024 \n11:00 am – 12:00 pm \nILRCC – #134\, 3359 27th St. NE \nThe program runs for 12 weeks for $135 including the cost of materials. \nEach Thursday join us and get creative\, as you choose from 2-3 different art projects to try out! \n*PLEASE  NOTE: Maximum of 12 participants per session. \nRegistration
URL:https://www.ilrcc.ab.ca/event/thursday-arts-and-crafts-2/2024-02-29/
CATEGORIES:LEARN PROGRAMS
ATTACH;FMTTYPE=image/jpeg:https://www.ilrcc.ab.ca/wp-content/uploads/2023/05/istockphoto-519362488-612x612-1.jpg
ORGANIZER;CN="ILRCC":MAILTO:ed@ilrcc.ab.ca
END:VEVENT
BEGIN:VEVENT
DTSTART;TZID=America/Edmonton:20240229T190000
DTEND;TZID=America/Edmonton:20240502T200000
DTSTAMP:20260422T013934
CREATED:20231230T205301Z
LAST-MODIFIED:20240219T212903Z
UID:10004976-1709233200-1714680000@www.ilrcc.ab.ca
SUMMARY:Thursday Dance + Sing Movements
DESCRIPTION:January 4 – March 7\, 2024 \n7:00 pm – 8:00 pm \nILRCC – #134\, 3359 27th St. NE \nThe program runs for 8 weeks for $75. \nCome join the fun for a Karaoke & Zumba evening at ILRCC \nRegistration
URL:https://www.ilrcc.ab.ca/event/thursday-dance-sing-movements-500pm-600pm-2-2/2024-02-29/
CATEGORIES:LEARN PROGRAMS
ATTACH;FMTTYPE=image/jpeg:https://www.ilrcc.ab.ca/wp-content/uploads/2023/05/Thursday-Dance-Sing-Movements.jpg
ORGANIZER;CN="ILRCC":MAILTO:ed@ilrcc.ab.ca
END:VEVENT
BEGIN:VEVENT
DTSTART;TZID=America/Edmonton:20240302T130000
DTEND;TZID=America/Edmonton:20240518T160000
DTSTAMP:20260422T013934
CREATED:20230829T001229Z
LAST-MODIFIED:20240219T224852Z
UID:10002606-1709384400-1716048000@www.ilrcc.ab.ca
SUMMARY:Saturday Bowling
DESCRIPTION:Dec 2 – Feb 24\, 2024                         1:00 pm – 3:00 pm \nChinook Bowladrome – 6455 Macleod Trail \nThe program runs for 12 weeks for $110. \nEach bowler pays for their bowling: $6.00/game \nRegistration
URL:https://www.ilrcc.ab.ca/event/saturday-bowling-2/2024-03-02/
CATEGORIES:LEARN PROGRAMS
ATTACH;FMTTYPE=image/jpeg:https://www.ilrcc.ab.ca/wp-content/uploads/2023/05/bowling.jpg
ORGANIZER;CN="ILRCC":MAILTO:ed@ilrcc.ab.ca
END:VEVENT
BEGIN:VEVENT
DTSTART;TZID=America/Edmonton:20240305T130000
DTEND;TZID=America/Edmonton:20240521T150000
DTSTAMP:20260422T013934
CREATED:20230829T003322Z
LAST-MODIFIED:20231227T013018Z
UID:10002292-1709643600-1716303600@www.ilrcc.ab.ca
SUMMARY:Tuesday Arts and Crafts
DESCRIPTION:Nov 14 – Feb 13\, 2024 \n1:00pm – 2:00pm \nILRCC – #134\, 3359 27th St. NE \nThe program runs for 12 weeks for $135 including the cost of materials. \nBe creative and work with your hands! Learn different styles and techniques for drawing\, painting\, and creating your art. Build with different materials and create unique arts and crafts for gifts or display at home. \n*PLEASE  NOTE: Maximum of 12 participants per session. \nRegistration
URL:https://www.ilrcc.ab.ca/event/tuesday-arts-and-crafts-2/2024-03-05/
CATEGORIES:LEARN PROGRAMS
ATTACH;FMTTYPE=image/png:https://www.ilrcc.ab.ca/wp-content/uploads/2023/05/Arts-Crafts.png
ORGANIZER;CN="ILRCC":MAILTO:ed@ilrcc.ab.ca
END:VEVENT
BEGIN:VEVENT
DTSTART;TZID=America/Edmonton:20240307T110000
DTEND;TZID=America/Edmonton:20240523T130000
DTSTAMP:20260422T013934
CREATED:20230829T002153Z
LAST-MODIFIED:20231227T012705Z
UID:10002544-1709809200-1716469200@www.ilrcc.ab.ca
SUMMARY:Thursday Arts and Crafts
DESCRIPTION:Nov 16 – Feb 15\, 2024 \n11:00 am – 12:00 pm \nILRCC – #134\, 3359 27th St. NE \nThe program runs for 12 weeks for $135 including the cost of materials. \nEach Thursday join us and get creative\, as you choose from 2-3 different art projects to try out! \n*PLEASE  NOTE: Maximum of 12 participants per session. \nRegistration
URL:https://www.ilrcc.ab.ca/event/thursday-arts-and-crafts-2/2024-03-07/
CATEGORIES:LEARN PROGRAMS
ATTACH;FMTTYPE=image/jpeg:https://www.ilrcc.ab.ca/wp-content/uploads/2023/05/istockphoto-519362488-612x612-1.jpg
ORGANIZER;CN="ILRCC":MAILTO:ed@ilrcc.ab.ca
END:VEVENT
BEGIN:VEVENT
DTSTART;TZID=America/Edmonton:20240307T190000
DTEND;TZID=America/Edmonton:20240509T200000
DTSTAMP:20260422T013934
CREATED:20231230T205301Z
LAST-MODIFIED:20240219T212903Z
UID:10004977-1709838000-1715284800@www.ilrcc.ab.ca
SUMMARY:Thursday Dance + Sing Movements
DESCRIPTION:January 4 – March 7\, 2024 \n7:00 pm – 8:00 pm \nILRCC – #134\, 3359 27th St. NE \nThe program runs for 8 weeks for $75. \nCome join the fun for a Karaoke & Zumba evening at ILRCC \nRegistration
URL:https://www.ilrcc.ab.ca/event/thursday-dance-sing-movements-500pm-600pm-2-2/2024-03-07/
CATEGORIES:LEARN PROGRAMS
ATTACH;FMTTYPE=image/jpeg:https://www.ilrcc.ab.ca/wp-content/uploads/2023/05/Thursday-Dance-Sing-Movements.jpg
ORGANIZER;CN="ILRCC":MAILTO:ed@ilrcc.ab.ca
END:VEVENT
BEGIN:VEVENT
DTSTART;TZID=America/Edmonton:20240309T130000
DTEND;TZID=America/Edmonton:20240525T160000
DTSTAMP:20260422T013934
CREATED:20230829T001229Z
LAST-MODIFIED:20240219T224852Z
UID:10002607-1709989200-1716652800@www.ilrcc.ab.ca
SUMMARY:Saturday Bowling
DESCRIPTION:Dec 2 – Feb 24\, 2024                         1:00 pm – 3:00 pm \nChinook Bowladrome – 6455 Macleod Trail \nThe program runs for 12 weeks for $110. \nEach bowler pays for their bowling: $6.00/game \nRegistration
URL:https://www.ilrcc.ab.ca/event/saturday-bowling-2/2024-03-09/
CATEGORIES:LEARN PROGRAMS
ATTACH;FMTTYPE=image/jpeg:https://www.ilrcc.ab.ca/wp-content/uploads/2023/05/bowling.jpg
ORGANIZER;CN="ILRCC":MAILTO:ed@ilrcc.ab.ca
END:VEVENT
BEGIN:VEVENT
DTSTART;TZID=America/Edmonton:20240312T130000
DTEND;TZID=America/Edmonton:20240528T150000
DTSTAMP:20260422T013934
CREATED:20230829T003322Z
LAST-MODIFIED:20231227T013018Z
UID:10002293-1710248400-1716908400@www.ilrcc.ab.ca
SUMMARY:Tuesday Arts and Crafts
DESCRIPTION:Nov 14 – Feb 13\, 2024 \n1:00pm – 2:00pm \nILRCC – #134\, 3359 27th St. NE \nThe program runs for 12 weeks for $135 including the cost of materials. \nBe creative and work with your hands! Learn different styles and techniques for drawing\, painting\, and creating your art. Build with different materials and create unique arts and crafts for gifts or display at home. \n*PLEASE  NOTE: Maximum of 12 participants per session. \nRegistration
URL:https://www.ilrcc.ab.ca/event/tuesday-arts-and-crafts-2/2024-03-12/
CATEGORIES:LEARN PROGRAMS
ATTACH;FMTTYPE=image/png:https://www.ilrcc.ab.ca/wp-content/uploads/2023/05/Arts-Crafts.png
ORGANIZER;CN="ILRCC":MAILTO:ed@ilrcc.ab.ca
END:VEVENT
BEGIN:VEVENT
DTSTART;TZID=America/Edmonton:20240314T110000
DTEND;TZID=America/Edmonton:20240530T130000
DTSTAMP:20260422T013934
CREATED:20230829T002153Z
LAST-MODIFIED:20231227T012705Z
UID:10002545-1710414000-1717074000@www.ilrcc.ab.ca
SUMMARY:Thursday Arts and Crafts
DESCRIPTION:Nov 16 – Feb 15\, 2024 \n11:00 am – 12:00 pm \nILRCC – #134\, 3359 27th St. NE \nThe program runs for 12 weeks for $135 including the cost of materials. \nEach Thursday join us and get creative\, as you choose from 2-3 different art projects to try out! \n*PLEASE  NOTE: Maximum of 12 participants per session. \nRegistration
URL:https://www.ilrcc.ab.ca/event/thursday-arts-and-crafts-2/2024-03-14/
CATEGORIES:LEARN PROGRAMS
ATTACH;FMTTYPE=image/jpeg:https://www.ilrcc.ab.ca/wp-content/uploads/2023/05/istockphoto-519362488-612x612-1.jpg
ORGANIZER;CN="ILRCC":MAILTO:ed@ilrcc.ab.ca
END:VEVENT
BEGIN:VEVENT
DTSTART;TZID=America/Edmonton:20240314T190000
DTEND;TZID=America/Edmonton:20240516T200000
DTSTAMP:20260422T013934
CREATED:20231230T205301Z
LAST-MODIFIED:20240219T212903Z
UID:10004978-1710442800-1715889600@www.ilrcc.ab.ca
SUMMARY:Thursday Dance + Sing Movements
DESCRIPTION:January 4 – March 7\, 2024 \n7:00 pm – 8:00 pm \nILRCC – #134\, 3359 27th St. NE \nThe program runs for 8 weeks for $75. \nCome join the fun for a Karaoke & Zumba evening at ILRCC \nRegistration
URL:https://www.ilrcc.ab.ca/event/thursday-dance-sing-movements-500pm-600pm-2-2/2024-03-14/
CATEGORIES:LEARN PROGRAMS
ATTACH;FMTTYPE=image/jpeg:https://www.ilrcc.ab.ca/wp-content/uploads/2023/05/Thursday-Dance-Sing-Movements.jpg
ORGANIZER;CN="ILRCC":MAILTO:ed@ilrcc.ab.ca
END:VEVENT
BEGIN:VEVENT
DTSTART;TZID=America/Edmonton:20240316T130000
DTEND;TZID=America/Edmonton:20240601T160000
DTSTAMP:20260422T013934
CREATED:20230829T001229Z
LAST-MODIFIED:20240219T224852Z
UID:10002608-1710594000-1717257600@www.ilrcc.ab.ca
SUMMARY:Saturday Bowling
DESCRIPTION:Dec 2 – Feb 24\, 2024                         1:00 pm – 3:00 pm \nChinook Bowladrome – 6455 Macleod Trail \nThe program runs for 12 weeks for $110. \nEach bowler pays for their bowling: $6.00/game \nRegistration
URL:https://www.ilrcc.ab.ca/event/saturday-bowling-2/2024-03-16/
CATEGORIES:LEARN PROGRAMS
ATTACH;FMTTYPE=image/jpeg:https://www.ilrcc.ab.ca/wp-content/uploads/2023/05/bowling.jpg
ORGANIZER;CN="ILRCC":MAILTO:ed@ilrcc.ab.ca
END:VEVENT
BEGIN:VEVENT
DTSTART;TZID=America/Edmonton:20240318T123000
DTEND;TZID=America/Edmonton:20240506T140000
DTSTAMP:20260422T013934
CREATED:20240101T194716Z
LAST-MODIFIED:20240219T212035Z
UID:10005512-1710765000-1715004000@www.ilrcc.ab.ca
SUMMARY:Jewelry Making
DESCRIPTION:Mondays – Dates will be determined as soon as we have enough registrations \n2:30 pm – 3:30 pm \nILRCC – #134\, 3359 27th St. NE \nThe program runs for 8 weeks for $90. including supplies \nEach Monday join us and make some bracelets\, necklaces\, earrings\, and ankle bracelets \n*PLEASE  NOTE: Maximum of 8 participants per session. \nRegistration
URL:https://www.ilrcc.ab.ca/event/jewelry-making/2024-03-18/
CATEGORIES:LEARN PROGRAMS
ATTACH;FMTTYPE=image/jpeg:https://www.ilrcc.ab.ca/wp-content/uploads/2023/12/Jewelry-making.jpg
ORGANIZER;CN="ILRCC":MAILTO:ed@ilrcc.ab.ca
END:VEVENT
BEGIN:VEVENT
DTSTART;TZID=America/Edmonton:20240319T113000
DTEND;TZID=America/Edmonton:20240507T113000
DTSTAMP:20260422T013934
CREATED:20230704T194641Z
LAST-MODIFIED:20240219T213122Z
UID:10004534-1710847800-1715081400@www.ilrcc.ab.ca
SUMMARY:Tuesday Music + Movement
DESCRIPTION:Feb 27 – April 16\, 2024 \n11:30 pm – 12:30 pm \nILRCC – #134\, 3359 27th St. NE \nThe program runs for 8 weeks for $75. \nMusic Therapy \n  \nPlay\, Move\, and Express yourself through interactive Music and Movement. \nEnjoy games\, songs\, rhythm & beats as we make beautiful noise together! \nRegistration
URL:https://www.ilrcc.ab.ca/event/tuesday-music-movement-2/2024-03-19/
CATEGORIES:LEARN PROGRAMS
ORGANIZER;CN="ILRCC":MAILTO:ed@ilrcc.ab.ca
END:VEVENT
BEGIN:VEVENT
DTSTART;TZID=America/Edmonton:20240319T130000
DTEND;TZID=America/Edmonton:20240604T150000
DTSTAMP:20260422T013934
CREATED:20230829T003322Z
LAST-MODIFIED:20231227T013018Z
UID:10002294-1710853200-1717513200@www.ilrcc.ab.ca
SUMMARY:Tuesday Arts and Crafts
DESCRIPTION:Nov 14 – Feb 13\, 2024 \n1:00pm – 2:00pm \nILRCC – #134\, 3359 27th St. NE \nThe program runs for 12 weeks for $135 including the cost of materials. \nBe creative and work with your hands! Learn different styles and techniques for drawing\, painting\, and creating your art. Build with different materials and create unique arts and crafts for gifts or display at home. \n*PLEASE  NOTE: Maximum of 12 participants per session. \nRegistration
URL:https://www.ilrcc.ab.ca/event/tuesday-arts-and-crafts-2/2024-03-19/
CATEGORIES:LEARN PROGRAMS
ATTACH;FMTTYPE=image/png:https://www.ilrcc.ab.ca/wp-content/uploads/2023/05/Arts-Crafts.png
ORGANIZER;CN="ILRCC":MAILTO:ed@ilrcc.ab.ca
END:VEVENT
BEGIN:VEVENT
DTSTART;TZID=America/Edmonton:20240321T110000
DTEND;TZID=America/Edmonton:20240606T130000
DTSTAMP:20260422T013934
CREATED:20230829T002153Z
LAST-MODIFIED:20231227T012705Z
UID:10002546-1711018800-1717678800@www.ilrcc.ab.ca
SUMMARY:Thursday Arts and Crafts
DESCRIPTION:Nov 16 – Feb 15\, 2024 \n11:00 am – 12:00 pm \nILRCC – #134\, 3359 27th St. NE \nThe program runs for 12 weeks for $135 including the cost of materials. \nEach Thursday join us and get creative\, as you choose from 2-3 different art projects to try out! \n*PLEASE  NOTE: Maximum of 12 participants per session. \nRegistration
URL:https://www.ilrcc.ab.ca/event/thursday-arts-and-crafts-2/2024-03-21/
CATEGORIES:LEARN PROGRAMS
ATTACH;FMTTYPE=image/jpeg:https://www.ilrcc.ab.ca/wp-content/uploads/2023/05/istockphoto-519362488-612x612-1.jpg
ORGANIZER;CN="ILRCC":MAILTO:ed@ilrcc.ab.ca
END:VEVENT
BEGIN:VEVENT
DTSTART;TZID=America/Edmonton:20240321T190000
DTEND;TZID=America/Edmonton:20240523T200000
DTSTAMP:20260422T013934
CREATED:20231230T205301Z
LAST-MODIFIED:20240219T212903Z
UID:10004979-1711047600-1716494400@www.ilrcc.ab.ca
SUMMARY:Thursday Dance + Sing Movements
DESCRIPTION:January 4 – March 7\, 2024 \n7:00 pm – 8:00 pm \nILRCC – #134\, 3359 27th St. NE \nThe program runs for 8 weeks for $75. \nCome join the fun for a Karaoke & Zumba evening at ILRCC \nRegistration
URL:https://www.ilrcc.ab.ca/event/thursday-dance-sing-movements-500pm-600pm-2-2/2024-03-21/
CATEGORIES:LEARN PROGRAMS
ATTACH;FMTTYPE=image/jpeg:https://www.ilrcc.ab.ca/wp-content/uploads/2023/05/Thursday-Dance-Sing-Movements.jpg
ORGANIZER;CN="ILRCC":MAILTO:ed@ilrcc.ab.ca
END:VEVENT
BEGIN:VEVENT
DTSTART;TZID=America/Edmonton:20240323T130000
DTEND;TZID=America/Edmonton:20240608T160000
DTSTAMP:20260422T013934
CREATED:20230829T001229Z
LAST-MODIFIED:20240219T224852Z
UID:10002609-1711198800-1717862400@www.ilrcc.ab.ca
SUMMARY:Saturday Bowling
DESCRIPTION:Dec 2 – Feb 24\, 2024                         1:00 pm – 3:00 pm \nChinook Bowladrome – 6455 Macleod Trail \nThe program runs for 12 weeks for $110. \nEach bowler pays for their bowling: $6.00/game \nRegistration
URL:https://www.ilrcc.ab.ca/event/saturday-bowling-2/2024-03-23/
CATEGORIES:LEARN PROGRAMS
ATTACH;FMTTYPE=image/jpeg:https://www.ilrcc.ab.ca/wp-content/uploads/2023/05/bowling.jpg
ORGANIZER;CN="ILRCC":MAILTO:ed@ilrcc.ab.ca
END:VEVENT
BEGIN:VEVENT
DTSTART;TZID=America/Edmonton:20240325T123000
DTEND;TZID=America/Edmonton:20240513T140000
DTSTAMP:20260422T013934
CREATED:20240101T194716Z
LAST-MODIFIED:20240219T212035Z
UID:10005513-1711369800-1715608800@www.ilrcc.ab.ca
SUMMARY:Jewelry Making
DESCRIPTION:Mondays – Dates will be determined as soon as we have enough registrations \n2:30 pm – 3:30 pm \nILRCC – #134\, 3359 27th St. NE \nThe program runs for 8 weeks for $90. including supplies \nEach Monday join us and make some bracelets\, necklaces\, earrings\, and ankle bracelets \n*PLEASE  NOTE: Maximum of 8 participants per session. \nRegistration
URL:https://www.ilrcc.ab.ca/event/jewelry-making/2024-03-25/
CATEGORIES:LEARN PROGRAMS
ATTACH;FMTTYPE=image/jpeg:https://www.ilrcc.ab.ca/wp-content/uploads/2023/12/Jewelry-making.jpg
ORGANIZER;CN="ILRCC":MAILTO:ed@ilrcc.ab.ca
END:VEVENT
BEGIN:VEVENT
DTSTART;TZID=America/Edmonton:20240326T113000
DTEND;TZID=America/Edmonton:20240514T113000
DTSTAMP:20260422T013934
CREATED:20230704T194641Z
LAST-MODIFIED:20240219T213122Z
UID:10004535-1711452600-1715686200@www.ilrcc.ab.ca
SUMMARY:Tuesday Music + Movement
DESCRIPTION:Feb 27 – April 16\, 2024 \n11:30 pm – 12:30 pm \nILRCC – #134\, 3359 27th St. NE \nThe program runs for 8 weeks for $75. \nMusic Therapy \n  \nPlay\, Move\, and Express yourself through interactive Music and Movement. \nEnjoy games\, songs\, rhythm & beats as we make beautiful noise together! \nRegistration
URL:https://www.ilrcc.ab.ca/event/tuesday-music-movement-2/2024-03-26/
CATEGORIES:LEARN PROGRAMS
ORGANIZER;CN="ILRCC":MAILTO:ed@ilrcc.ab.ca
END:VEVENT
BEGIN:VEVENT
DTSTART;TZID=America/Edmonton:20240326T130000
DTEND;TZID=America/Edmonton:20240611T150000
DTSTAMP:20260422T013934
CREATED:20230829T003322Z
LAST-MODIFIED:20231227T013018Z
UID:10002295-1711458000-1718118000@www.ilrcc.ab.ca
SUMMARY:Tuesday Arts and Crafts
DESCRIPTION:Nov 14 – Feb 13\, 2024 \n1:00pm – 2:00pm \nILRCC – #134\, 3359 27th St. NE \nThe program runs for 12 weeks for $135 including the cost of materials. \nBe creative and work with your hands! Learn different styles and techniques for drawing\, painting\, and creating your art. Build with different materials and create unique arts and crafts for gifts or display at home. \n*PLEASE  NOTE: Maximum of 12 participants per session. \nRegistration
URL:https://www.ilrcc.ab.ca/event/tuesday-arts-and-crafts-2/2024-03-26/
CATEGORIES:LEARN PROGRAMS
ATTACH;FMTTYPE=image/png:https://www.ilrcc.ab.ca/wp-content/uploads/2023/05/Arts-Crafts.png
ORGANIZER;CN="ILRCC":MAILTO:ed@ilrcc.ab.ca
END:VEVENT
BEGIN:VEVENT
DTSTART;TZID=America/Edmonton:20240328T110000
DTEND;TZID=America/Edmonton:20240613T130000
DTSTAMP:20260422T013934
CREATED:20230829T002153Z
LAST-MODIFIED:20231227T012705Z
UID:10002547-1711623600-1718283600@www.ilrcc.ab.ca
SUMMARY:Thursday Arts and Crafts
DESCRIPTION:Nov 16 – Feb 15\, 2024 \n11:00 am – 12:00 pm \nILRCC – #134\, 3359 27th St. NE \nThe program runs for 12 weeks for $135 including the cost of materials. \nEach Thursday join us and get creative\, as you choose from 2-3 different art projects to try out! \n*PLEASE  NOTE: Maximum of 12 participants per session. \nRegistration
URL:https://www.ilrcc.ab.ca/event/thursday-arts-and-crafts-2/2024-03-28/
CATEGORIES:LEARN PROGRAMS
ATTACH;FMTTYPE=image/jpeg:https://www.ilrcc.ab.ca/wp-content/uploads/2023/05/istockphoto-519362488-612x612-1.jpg
ORGANIZER;CN="ILRCC":MAILTO:ed@ilrcc.ab.ca
END:VEVENT
BEGIN:VEVENT
DTSTART;TZID=America/Edmonton:20240328T190000
DTEND;TZID=America/Edmonton:20240530T200000
DTSTAMP:20260422T013934
CREATED:20231230T205301Z
LAST-MODIFIED:20240219T212903Z
UID:10004980-1711652400-1717099200@www.ilrcc.ab.ca
SUMMARY:Thursday Dance + Sing Movements
DESCRIPTION:January 4 – March 7\, 2024 \n7:00 pm – 8:00 pm \nILRCC – #134\, 3359 27th St. NE \nThe program runs for 8 weeks for $75. \nCome join the fun for a Karaoke & Zumba evening at ILRCC \nRegistration
URL:https://www.ilrcc.ab.ca/event/thursday-dance-sing-movements-500pm-600pm-2-2/2024-03-28/
CATEGORIES:LEARN PROGRAMS
ATTACH;FMTTYPE=image/jpeg:https://www.ilrcc.ab.ca/wp-content/uploads/2023/05/Thursday-Dance-Sing-Movements.jpg
ORGANIZER;CN="ILRCC":MAILTO:ed@ilrcc.ab.ca
END:VEVENT
BEGIN:VEVENT
DTSTART;TZID=America/Edmonton:20240330T130000
DTEND;TZID=America/Edmonton:20240615T160000
DTSTAMP:20260422T013934
CREATED:20230829T001229Z
LAST-MODIFIED:20240219T224852Z
UID:10002610-1711803600-1718467200@www.ilrcc.ab.ca
SUMMARY:Saturday Bowling
DESCRIPTION:Dec 2 – Feb 24\, 2024                         1:00 pm – 3:00 pm \nChinook Bowladrome – 6455 Macleod Trail \nThe program runs for 12 weeks for $110. \nEach bowler pays for their bowling: $6.00/game \nRegistration
URL:https://www.ilrcc.ab.ca/event/saturday-bowling-2/2024-03-30/
CATEGORIES:LEARN PROGRAMS
ATTACH;FMTTYPE=image/jpeg:https://www.ilrcc.ab.ca/wp-content/uploads/2023/05/bowling.jpg
ORGANIZER;CN="ILRCC":MAILTO:ed@ilrcc.ab.ca
END:VEVENT
BEGIN:VEVENT
DTSTART;TZID=America/Edmonton:20240401T123000
DTEND;TZID=America/Edmonton:20240520T140000
DTSTAMP:20260422T013934
CREATED:20240101T194716Z
LAST-MODIFIED:20240219T212035Z
UID:10005514-1711974600-1716213600@www.ilrcc.ab.ca
SUMMARY:Jewelry Making
DESCRIPTION:Mondays – Dates will be determined as soon as we have enough registrations \n2:30 pm – 3:30 pm \nILRCC – #134\, 3359 27th St. NE \nThe program runs for 8 weeks for $90. including supplies \nEach Monday join us and make some bracelets\, necklaces\, earrings\, and ankle bracelets \n*PLEASE  NOTE: Maximum of 8 participants per session. \nRegistration
URL:https://www.ilrcc.ab.ca/event/jewelry-making/2024-04-01/
CATEGORIES:LEARN PROGRAMS
ATTACH;FMTTYPE=image/jpeg:https://www.ilrcc.ab.ca/wp-content/uploads/2023/12/Jewelry-making.jpg
ORGANIZER;CN="ILRCC":MAILTO:ed@ilrcc.ab.ca
END:VEVENT
END:VCALENDAR