BEGIN:VCALENDAR
VERSION:2.0
PRODID:-//ILRCC - ECPv6.15.20//NONSGML v1.0//EN
CALSCALE:GREGORIAN
METHOD:PUBLISH
X-WR-CALNAME:ILRCC
X-ORIGINAL-URL:https://www.ilrcc.ab.ca
X-WR-CALDESC:Events for ILRCC
REFRESH-INTERVAL;VALUE=DURATION:PT1H
X-Robots-Tag:noindex
X-PUBLISHED-TTL:PT1H
BEGIN:VTIMEZONE
TZID:America/Edmonton
BEGIN:DAYLIGHT
TZOFFSETFROM:-0700
TZOFFSETTO:-0600
TZNAME:MDT
DTSTART:20230312T090000
END:DAYLIGHT
BEGIN:STANDARD
TZOFFSETFROM:-0600
TZOFFSETTO:-0700
TZNAME:MST
DTSTART:20231105T080000
END:STANDARD
BEGIN:DAYLIGHT
TZOFFSETFROM:-0700
TZOFFSETTO:-0600
TZNAME:MDT
DTSTART:20240310T090000
END:DAYLIGHT
BEGIN:STANDARD
TZOFFSETFROM:-0600
TZOFFSETTO:-0700
TZNAME:MST
DTSTART:20241103T080000
END:STANDARD
BEGIN:DAYLIGHT
TZOFFSETFROM:-0700
TZOFFSETTO:-0600
TZNAME:MDT
DTSTART:20250309T090000
END:DAYLIGHT
BEGIN:STANDARD
TZOFFSETFROM:-0600
TZOFFSETTO:-0700
TZNAME:MST
DTSTART:20251102T080000
END:STANDARD
BEGIN:DAYLIGHT
TZOFFSETFROM:-0700
TZOFFSETTO:-0600
TZNAME:MDT
DTSTART:20260308T090000
END:DAYLIGHT
BEGIN:STANDARD
TZOFFSETFROM:-0600
TZOFFSETTO:-0700
TZNAME:MST
DTSTART:20261101T080000
END:STANDARD
END:VTIMEZONE
BEGIN:VEVENT
DTSTART;TZID=America/Edmonton:20240311T150000
DTEND;TZID=America/Edmonton:20241007T150000
DTSTAMP:20260421T133603
CREATED:20231227T014001Z
LAST-MODIFIED:20231227T014951Z
UID:10004792-1710169200-1728313200@www.ilrcc.ab.ca
SUMMARY:Summer Gardening
DESCRIPTION:May 1st  – June 19th 3:00 pm – 4:00 pm \nIn May and June\, we are doing all the planting for the Herbs + Veggies \nAugust 21 – October 9   \nOnce the vegetables are ready\, we will pull them out and start canning\, freezing\, and cooking. \nILRCC – #134\, 3359 27th St. NE \nThe program runs for 16 weeks at a cost of $100 including cost of materials. \nRegistration
URL:https://www.ilrcc.ab.ca/event/summer-gardening-2/2024-03-11/
LOCATION:ILRCC\, ILRCC - #134\, 3359 27th St. NE\, Calgary\, Alberta\, Canada
CATEGORIES:LIFE SKILLS
ATTACH;FMTTYPE=image/jpeg:https://www.ilrcc.ab.ca/wp-content/uploads/2023/05/download-1024x576-1.jpg
ORGANIZER;CN="ILRCC":MAILTO:ed@ilrcc.ab.ca
END:VEVENT
BEGIN:VEVENT
DTSTART;TZID=America/Edmonton:20240318T150000
DTEND;TZID=America/Edmonton:20241014T150000
DTSTAMP:20260421T133603
CREATED:20231227T014001Z
LAST-MODIFIED:20231227T014951Z
UID:10004793-1710774000-1728918000@www.ilrcc.ab.ca
SUMMARY:Summer Gardening
DESCRIPTION:May 1st  – June 19th 3:00 pm – 4:00 pm \nIn May and June\, we are doing all the planting for the Herbs + Veggies \nAugust 21 – October 9   \nOnce the vegetables are ready\, we will pull them out and start canning\, freezing\, and cooking. \nILRCC – #134\, 3359 27th St. NE \nThe program runs for 16 weeks at a cost of $100 including cost of materials. \nRegistration
URL:https://www.ilrcc.ab.ca/event/summer-gardening-2/2024-03-18/
LOCATION:ILRCC\, ILRCC - #134\, 3359 27th St. NE\, Calgary\, Alberta\, Canada
CATEGORIES:LIFE SKILLS
ATTACH;FMTTYPE=image/jpeg:https://www.ilrcc.ab.ca/wp-content/uploads/2023/05/download-1024x576-1.jpg
ORGANIZER;CN="ILRCC":MAILTO:ed@ilrcc.ab.ca
END:VEVENT
BEGIN:VEVENT
DTSTART;TZID=America/Edmonton:20240325T150000
DTEND;TZID=America/Edmonton:20241021T150000
DTSTAMP:20260421T133603
CREATED:20231227T014001Z
LAST-MODIFIED:20231227T014951Z
UID:10004794-1711378800-1729522800@www.ilrcc.ab.ca
SUMMARY:Summer Gardening
DESCRIPTION:May 1st  – June 19th 3:00 pm – 4:00 pm \nIn May and June\, we are doing all the planting for the Herbs + Veggies \nAugust 21 – October 9   \nOnce the vegetables are ready\, we will pull them out and start canning\, freezing\, and cooking. \nILRCC – #134\, 3359 27th St. NE \nThe program runs for 16 weeks at a cost of $100 including cost of materials. \nRegistration
URL:https://www.ilrcc.ab.ca/event/summer-gardening-2/2024-03-25/
LOCATION:ILRCC\, ILRCC - #134\, 3359 27th St. NE\, Calgary\, Alberta\, Canada
CATEGORIES:LIFE SKILLS
ATTACH;FMTTYPE=image/jpeg:https://www.ilrcc.ab.ca/wp-content/uploads/2023/05/download-1024x576-1.jpg
ORGANIZER;CN="ILRCC":MAILTO:ed@ilrcc.ab.ca
END:VEVENT
BEGIN:VEVENT
DTSTART;TZID=America/Edmonton:20240401T150000
DTEND;TZID=America/Edmonton:20241028T150000
DTSTAMP:20260421T133603
CREATED:20231227T014001Z
LAST-MODIFIED:20231227T014951Z
UID:10004795-1711983600-1730127600@www.ilrcc.ab.ca
SUMMARY:Summer Gardening
DESCRIPTION:May 1st  – June 19th 3:00 pm – 4:00 pm \nIn May and June\, we are doing all the planting for the Herbs + Veggies \nAugust 21 – October 9   \nOnce the vegetables are ready\, we will pull them out and start canning\, freezing\, and cooking. \nILRCC – #134\, 3359 27th St. NE \nThe program runs for 16 weeks at a cost of $100 including cost of materials. \nRegistration
URL:https://www.ilrcc.ab.ca/event/summer-gardening-2/2024-04-01/
LOCATION:ILRCC\, ILRCC - #134\, 3359 27th St. NE\, Calgary\, Alberta\, Canada
CATEGORIES:LIFE SKILLS
ATTACH;FMTTYPE=image/jpeg:https://www.ilrcc.ab.ca/wp-content/uploads/2023/05/download-1024x576-1.jpg
ORGANIZER;CN="ILRCC":MAILTO:ed@ilrcc.ab.ca
END:VEVENT
BEGIN:VEVENT
DTSTART;TZID=America/Edmonton:20240408T150000
DTEND;TZID=America/Edmonton:20241104T140000
DTSTAMP:20260421T133603
CREATED:20231227T014001Z
LAST-MODIFIED:20231227T014951Z
UID:10004796-1712588400-1730728800@www.ilrcc.ab.ca
SUMMARY:Summer Gardening
DESCRIPTION:May 1st  – June 19th 3:00 pm – 4:00 pm \nIn May and June\, we are doing all the planting for the Herbs + Veggies \nAugust 21 – October 9   \nOnce the vegetables are ready\, we will pull them out and start canning\, freezing\, and cooking. \nILRCC – #134\, 3359 27th St. NE \nThe program runs for 16 weeks at a cost of $100 including cost of materials. \nRegistration
URL:https://www.ilrcc.ab.ca/event/summer-gardening-2/2024-04-08/
LOCATION:ILRCC\, ILRCC - #134\, 3359 27th St. NE\, Calgary\, Alberta\, Canada
CATEGORIES:LIFE SKILLS
ATTACH;FMTTYPE=image/jpeg:https://www.ilrcc.ab.ca/wp-content/uploads/2023/05/download-1024x576-1.jpg
ORGANIZER;CN="ILRCC":MAILTO:ed@ilrcc.ab.ca
END:VEVENT
BEGIN:VEVENT
DTSTART;TZID=America/Edmonton:20240415T150000
DTEND;TZID=America/Edmonton:20241111T140000
DTSTAMP:20260421T133603
CREATED:20231227T014001Z
LAST-MODIFIED:20231227T014951Z
UID:10004797-1713193200-1731333600@www.ilrcc.ab.ca
SUMMARY:Summer Gardening
DESCRIPTION:May 1st  – June 19th 3:00 pm – 4:00 pm \nIn May and June\, we are doing all the planting for the Herbs + Veggies \nAugust 21 – October 9   \nOnce the vegetables are ready\, we will pull them out and start canning\, freezing\, and cooking. \nILRCC – #134\, 3359 27th St. NE \nThe program runs for 16 weeks at a cost of $100 including cost of materials. \nRegistration
URL:https://www.ilrcc.ab.ca/event/summer-gardening-2/2024-04-15/
LOCATION:ILRCC\, ILRCC - #134\, 3359 27th St. NE\, Calgary\, Alberta\, Canada
CATEGORIES:LIFE SKILLS
ATTACH;FMTTYPE=image/jpeg:https://www.ilrcc.ab.ca/wp-content/uploads/2023/05/download-1024x576-1.jpg
ORGANIZER;CN="ILRCC":MAILTO:ed@ilrcc.ab.ca
END:VEVENT
BEGIN:VEVENT
DTSTART;TZID=America/Edmonton:20240422T150000
DTEND;TZID=America/Edmonton:20241118T140000
DTSTAMP:20260421T133603
CREATED:20231227T014001Z
LAST-MODIFIED:20231227T014951Z
UID:10004798-1713798000-1731938400@www.ilrcc.ab.ca
SUMMARY:Summer Gardening
DESCRIPTION:May 1st  – June 19th 3:00 pm – 4:00 pm \nIn May and June\, we are doing all the planting for the Herbs + Veggies \nAugust 21 – October 9   \nOnce the vegetables are ready\, we will pull them out and start canning\, freezing\, and cooking. \nILRCC – #134\, 3359 27th St. NE \nThe program runs for 16 weeks at a cost of $100 including cost of materials. \nRegistration
URL:https://www.ilrcc.ab.ca/event/summer-gardening-2/2024-04-22/
LOCATION:ILRCC\, ILRCC - #134\, 3359 27th St. NE\, Calgary\, Alberta\, Canada
CATEGORIES:LIFE SKILLS
ATTACH;FMTTYPE=image/jpeg:https://www.ilrcc.ab.ca/wp-content/uploads/2023/05/download-1024x576-1.jpg
ORGANIZER;CN="ILRCC":MAILTO:ed@ilrcc.ab.ca
END:VEVENT
BEGIN:VEVENT
DTSTART;TZID=America/Edmonton:20240429T150000
DTEND;TZID=America/Edmonton:20241125T140000
DTSTAMP:20260421T133603
CREATED:20231227T014001Z
LAST-MODIFIED:20231227T014951Z
UID:10004799-1714402800-1732543200@www.ilrcc.ab.ca
SUMMARY:Summer Gardening
DESCRIPTION:May 1st  – June 19th 3:00 pm – 4:00 pm \nIn May and June\, we are doing all the planting for the Herbs + Veggies \nAugust 21 – October 9   \nOnce the vegetables are ready\, we will pull them out and start canning\, freezing\, and cooking. \nILRCC – #134\, 3359 27th St. NE \nThe program runs for 16 weeks at a cost of $100 including cost of materials. \nRegistration
URL:https://www.ilrcc.ab.ca/event/summer-gardening-2/2024-04-29/
LOCATION:ILRCC\, ILRCC - #134\, 3359 27th St. NE\, Calgary\, Alberta\, Canada
CATEGORIES:LIFE SKILLS
ATTACH;FMTTYPE=image/jpeg:https://www.ilrcc.ab.ca/wp-content/uploads/2023/05/download-1024x576-1.jpg
ORGANIZER;CN="ILRCC":MAILTO:ed@ilrcc.ab.ca
END:VEVENT
BEGIN:VEVENT
DTSTART;TZID=America/Edmonton:20240506T150000
DTEND;TZID=America/Edmonton:20241202T140000
DTSTAMP:20260421T133603
CREATED:20231227T014001Z
LAST-MODIFIED:20231227T014951Z
UID:10004800-1715007600-1733148000@www.ilrcc.ab.ca
SUMMARY:Summer Gardening
DESCRIPTION:May 1st  – June 19th 3:00 pm – 4:00 pm \nIn May and June\, we are doing all the planting for the Herbs + Veggies \nAugust 21 – October 9   \nOnce the vegetables are ready\, we will pull them out and start canning\, freezing\, and cooking. \nILRCC – #134\, 3359 27th St. NE \nThe program runs for 16 weeks at a cost of $100 including cost of materials. \nRegistration
URL:https://www.ilrcc.ab.ca/event/summer-gardening-2/2024-05-06/
LOCATION:ILRCC\, ILRCC - #134\, 3359 27th St. NE\, Calgary\, Alberta\, Canada
CATEGORIES:LIFE SKILLS
ATTACH;FMTTYPE=image/jpeg:https://www.ilrcc.ab.ca/wp-content/uploads/2023/05/download-1024x576-1.jpg
ORGANIZER;CN="ILRCC":MAILTO:ed@ilrcc.ab.ca
END:VEVENT
BEGIN:VEVENT
DTSTART;TZID=America/Edmonton:20240513T150000
DTEND;TZID=America/Edmonton:20241209T140000
DTSTAMP:20260421T133603
CREATED:20231227T014001Z
LAST-MODIFIED:20231227T014951Z
UID:10004801-1715612400-1733752800@www.ilrcc.ab.ca
SUMMARY:Summer Gardening
DESCRIPTION:May 1st  – June 19th 3:00 pm – 4:00 pm \nIn May and June\, we are doing all the planting for the Herbs + Veggies \nAugust 21 – October 9   \nOnce the vegetables are ready\, we will pull them out and start canning\, freezing\, and cooking. \nILRCC – #134\, 3359 27th St. NE \nThe program runs for 16 weeks at a cost of $100 including cost of materials. \nRegistration
URL:https://www.ilrcc.ab.ca/event/summer-gardening-2/2024-05-13/
LOCATION:ILRCC\, ILRCC - #134\, 3359 27th St. NE\, Calgary\, Alberta\, Canada
CATEGORIES:LIFE SKILLS
ATTACH;FMTTYPE=image/jpeg:https://www.ilrcc.ab.ca/wp-content/uploads/2023/05/download-1024x576-1.jpg
ORGANIZER;CN="ILRCC":MAILTO:ed@ilrcc.ab.ca
END:VEVENT
BEGIN:VEVENT
DTSTART;TZID=America/Edmonton:20240520T150000
DTEND;TZID=America/Edmonton:20241216T140000
DTSTAMP:20260421T133603
CREATED:20231227T014001Z
LAST-MODIFIED:20231227T014951Z
UID:10004802-1716217200-1734357600@www.ilrcc.ab.ca
SUMMARY:Summer Gardening
DESCRIPTION:May 1st  – June 19th 3:00 pm – 4:00 pm \nIn May and June\, we are doing all the planting for the Herbs + Veggies \nAugust 21 – October 9   \nOnce the vegetables are ready\, we will pull them out and start canning\, freezing\, and cooking. \nILRCC – #134\, 3359 27th St. NE \nThe program runs for 16 weeks at a cost of $100 including cost of materials. \nRegistration
URL:https://www.ilrcc.ab.ca/event/summer-gardening-2/2024-05-20/
LOCATION:ILRCC\, ILRCC - #134\, 3359 27th St. NE\, Calgary\, Alberta\, Canada
CATEGORIES:LIFE SKILLS
ATTACH;FMTTYPE=image/jpeg:https://www.ilrcc.ab.ca/wp-content/uploads/2023/05/download-1024x576-1.jpg
ORGANIZER;CN="ILRCC":MAILTO:ed@ilrcc.ab.ca
END:VEVENT
BEGIN:VEVENT
DTSTART;TZID=America/Edmonton:20240527T150000
DTEND;TZID=America/Edmonton:20241223T140000
DTSTAMP:20260421T133603
CREATED:20231227T014001Z
LAST-MODIFIED:20231227T014951Z
UID:10004803-1716822000-1734962400@www.ilrcc.ab.ca
SUMMARY:Summer Gardening
DESCRIPTION:May 1st  – June 19th 3:00 pm – 4:00 pm \nIn May and June\, we are doing all the planting for the Herbs + Veggies \nAugust 21 – October 9   \nOnce the vegetables are ready\, we will pull them out and start canning\, freezing\, and cooking. \nILRCC – #134\, 3359 27th St. NE \nThe program runs for 16 weeks at a cost of $100 including cost of materials. \nRegistration
URL:https://www.ilrcc.ab.ca/event/summer-gardening-2/2024-05-27/
LOCATION:ILRCC\, ILRCC - #134\, 3359 27th St. NE\, Calgary\, Alberta\, Canada
CATEGORIES:LIFE SKILLS
ATTACH;FMTTYPE=image/jpeg:https://www.ilrcc.ab.ca/wp-content/uploads/2023/05/download-1024x576-1.jpg
ORGANIZER;CN="ILRCC":MAILTO:ed@ilrcc.ab.ca
END:VEVENT
BEGIN:VEVENT
DTSTART;TZID=America/Edmonton:20240603T150000
DTEND;TZID=America/Edmonton:20241230T140000
DTSTAMP:20260421T133603
CREATED:20231227T014001Z
LAST-MODIFIED:20231227T014951Z
UID:10004804-1717426800-1735567200@www.ilrcc.ab.ca
SUMMARY:Summer Gardening
DESCRIPTION:May 1st  – June 19th 3:00 pm – 4:00 pm \nIn May and June\, we are doing all the planting for the Herbs + Veggies \nAugust 21 – October 9   \nOnce the vegetables are ready\, we will pull them out and start canning\, freezing\, and cooking. \nILRCC – #134\, 3359 27th St. NE \nThe program runs for 16 weeks at a cost of $100 including cost of materials. \nRegistration
URL:https://www.ilrcc.ab.ca/event/summer-gardening-2/2024-06-03/
LOCATION:ILRCC\, ILRCC - #134\, 3359 27th St. NE\, Calgary\, Alberta\, Canada
CATEGORIES:LIFE SKILLS
ATTACH;FMTTYPE=image/jpeg:https://www.ilrcc.ab.ca/wp-content/uploads/2023/05/download-1024x576-1.jpg
ORGANIZER;CN="ILRCC":MAILTO:ed@ilrcc.ab.ca
END:VEVENT
BEGIN:VEVENT
DTSTART;TZID=America/Edmonton:20240610T150000
DTEND;TZID=America/Edmonton:20250106T140000
DTSTAMP:20260421T133603
CREATED:20231227T014001Z
LAST-MODIFIED:20231227T014951Z
UID:10004805-1718031600-1736172000@www.ilrcc.ab.ca
SUMMARY:Summer Gardening
DESCRIPTION:May 1st  – June 19th 3:00 pm – 4:00 pm \nIn May and June\, we are doing all the planting for the Herbs + Veggies \nAugust 21 – October 9   \nOnce the vegetables are ready\, we will pull them out and start canning\, freezing\, and cooking. \nILRCC – #134\, 3359 27th St. NE \nThe program runs for 16 weeks at a cost of $100 including cost of materials. \nRegistration
URL:https://www.ilrcc.ab.ca/event/summer-gardening-2/2024-06-10/
LOCATION:ILRCC\, ILRCC - #134\, 3359 27th St. NE\, Calgary\, Alberta\, Canada
CATEGORIES:LIFE SKILLS
ATTACH;FMTTYPE=image/jpeg:https://www.ilrcc.ab.ca/wp-content/uploads/2023/05/download-1024x576-1.jpg
ORGANIZER;CN="ILRCC":MAILTO:ed@ilrcc.ab.ca
END:VEVENT
BEGIN:VEVENT
DTSTART;TZID=America/Edmonton:20240617T150000
DTEND;TZID=America/Edmonton:20250113T140000
DTSTAMP:20260421T133603
CREATED:20231227T014001Z
LAST-MODIFIED:20231227T014951Z
UID:10004806-1718636400-1736776800@www.ilrcc.ab.ca
SUMMARY:Summer Gardening
DESCRIPTION:May 1st  – June 19th 3:00 pm – 4:00 pm \nIn May and June\, we are doing all the planting for the Herbs + Veggies \nAugust 21 – October 9   \nOnce the vegetables are ready\, we will pull them out and start canning\, freezing\, and cooking. \nILRCC – #134\, 3359 27th St. NE \nThe program runs for 16 weeks at a cost of $100 including cost of materials. \nRegistration
URL:https://www.ilrcc.ab.ca/event/summer-gardening-2/2024-06-17/
LOCATION:ILRCC\, ILRCC - #134\, 3359 27th St. NE\, Calgary\, Alberta\, Canada
CATEGORIES:LIFE SKILLS
ATTACH;FMTTYPE=image/jpeg:https://www.ilrcc.ab.ca/wp-content/uploads/2023/05/download-1024x576-1.jpg
ORGANIZER;CN="ILRCC":MAILTO:ed@ilrcc.ab.ca
END:VEVENT
BEGIN:VEVENT
DTSTART;TZID=America/Edmonton:20240703T173000
DTEND;TZID=America/Edmonton:20241002T193000
DTSTAMP:20260421T133603
CREATED:20231227T015344Z
LAST-MODIFIED:20240219T214856Z
UID:10002496-1720027800-1727897400@www.ilrcc.ab.ca
SUMMARY:Wednesday Pizza Night
DESCRIPTION:Nov 29 – Feb 28\, 2024 \n5:30 pm – 7:30 pm \nBoston Pizza – 2836 Memorial Dr SE \nThe program runs for 12 weeks for $110. \nYou are responsible for paying for your meal and if you have a smaller appetite\, you can order from the kids menu. \nRegistration
URL:https://www.ilrcc.ab.ca/event/wednesday-pizza-night-2-2/2024-07-03/
LOCATION:Alberta
CATEGORIES:LIFE SKILLS
ATTACH;FMTTYPE=image/jpeg:https://www.ilrcc.ab.ca/wp-content/uploads/2023/05/Boston-Pizza-scaled-1.jpg
ORGANIZER;CN="ILRCC":MAILTO:ed@ilrcc.ab.ca
END:VEVENT
BEGIN:VEVENT
DTSTART;TZID=America/Edmonton:20240710T173000
DTEND;TZID=America/Edmonton:20241009T193000
DTSTAMP:20260421T133603
CREATED:20231227T015344Z
LAST-MODIFIED:20240219T214856Z
UID:10002497-1720632600-1728502200@www.ilrcc.ab.ca
SUMMARY:Wednesday Pizza Night
DESCRIPTION:Nov 29 – Feb 28\, 2024 \n5:30 pm – 7:30 pm \nBoston Pizza – 2836 Memorial Dr SE \nThe program runs for 12 weeks for $110. \nYou are responsible for paying for your meal and if you have a smaller appetite\, you can order from the kids menu. \nRegistration
URL:https://www.ilrcc.ab.ca/event/wednesday-pizza-night-2-2/2024-07-10/
LOCATION:Alberta
CATEGORIES:LIFE SKILLS
ATTACH;FMTTYPE=image/jpeg:https://www.ilrcc.ab.ca/wp-content/uploads/2023/05/Boston-Pizza-scaled-1.jpg
ORGANIZER;CN="ILRCC":MAILTO:ed@ilrcc.ab.ca
END:VEVENT
BEGIN:VEVENT
DTSTART;TZID=America/Edmonton:20240716T130000
DTEND;TZID=America/Edmonton:20241001T150000
DTSTAMP:20260421T133603
CREATED:20230829T003322Z
LAST-MODIFIED:20231227T013018Z
UID:10002311-1721134800-1727794800@www.ilrcc.ab.ca
SUMMARY:Tuesday Arts and Crafts
DESCRIPTION:Nov 14 – Feb 13\, 2024 \n1:00pm – 2:00pm \nILRCC – #134\, 3359 27th St. NE \nThe program runs for 12 weeks for $135 including the cost of materials. \nBe creative and work with your hands! Learn different styles and techniques for drawing\, painting\, and creating your art. Build with different materials and create unique arts and crafts for gifts or display at home. \n*PLEASE  NOTE: Maximum of 12 participants per session. \nRegistration
URL:https://www.ilrcc.ab.ca/event/tuesday-arts-and-crafts-2/2024-07-16/
LOCATION:Alberta
CATEGORIES:LEARN PROGRAMS
ATTACH;FMTTYPE=image/png:https://www.ilrcc.ab.ca/wp-content/uploads/2023/05/Arts-Crafts.png
ORGANIZER;CN="ILRCC":MAILTO:ed@ilrcc.ab.ca
END:VEVENT
BEGIN:VEVENT
DTSTART;TZID=America/Edmonton:20240717T173000
DTEND;TZID=America/Edmonton:20241016T193000
DTSTAMP:20260421T133603
CREATED:20231227T015344Z
LAST-MODIFIED:20240219T214856Z
UID:10002498-1721237400-1729107000@www.ilrcc.ab.ca
SUMMARY:Wednesday Pizza Night
DESCRIPTION:Nov 29 – Feb 28\, 2024 \n5:30 pm – 7:30 pm \nBoston Pizza – 2836 Memorial Dr SE \nThe program runs for 12 weeks for $110. \nYou are responsible for paying for your meal and if you have a smaller appetite\, you can order from the kids menu. \nRegistration
URL:https://www.ilrcc.ab.ca/event/wednesday-pizza-night-2-2/2024-07-17/
LOCATION:Alberta
CATEGORIES:LIFE SKILLS
ATTACH;FMTTYPE=image/jpeg:https://www.ilrcc.ab.ca/wp-content/uploads/2023/05/Boston-Pizza-scaled-1.jpg
ORGANIZER;CN="ILRCC":MAILTO:ed@ilrcc.ab.ca
END:VEVENT
BEGIN:VEVENT
DTSTART;TZID=America/Edmonton:20240718T110000
DTEND;TZID=America/Edmonton:20241003T130000
DTSTAMP:20260421T133603
CREATED:20230829T002153Z
LAST-MODIFIED:20231227T012705Z
UID:10002563-1721300400-1727960400@www.ilrcc.ab.ca
SUMMARY:Thursday Arts and Crafts
DESCRIPTION:Nov 16 – Feb 15\, 2024 \n11:00 am – 12:00 pm \nILRCC – #134\, 3359 27th St. NE \nThe program runs for 12 weeks for $135 including the cost of materials. \nEach Thursday join us and get creative\, as you choose from 2-3 different art projects to try out! \n*PLEASE  NOTE: Maximum of 12 participants per session. \nRegistration
URL:https://www.ilrcc.ab.ca/event/thursday-arts-and-crafts-2/2024-07-18/
LOCATION:Alberta
CATEGORIES:LEARN PROGRAMS
ATTACH;FMTTYPE=image/jpeg:https://www.ilrcc.ab.ca/wp-content/uploads/2023/05/istockphoto-519362488-612x612-1.jpg
ORGANIZER;CN="ILRCC":MAILTO:ed@ilrcc.ab.ca
END:VEVENT
BEGIN:VEVENT
DTSTART;TZID=America/Edmonton:20240718T140000
DTEND;TZID=America/Edmonton:20241005T150000
DTSTAMP:20260421T133603
CREATED:20240101T193831Z
LAST-MODIFIED:20240219T211556Z
UID:10005832-1721311200-1728140400@www.ilrcc.ab.ca
SUMMARY:Thursday Life Skills
DESCRIPTION:Thursdays (2:00 pm – 3:00 pm)\n\n\n12 Weeks ($135.00) Full Session\n\nDrop-in modules (Each $20.00) Pre-Registration Required\n\nContact us for start dates\n\nTopics: \n\n\nCooking Safety\, Rules\, Hygiene\, Meal Preparation (2 Sessions = $40)\n\n\nOn-Line Safety\, Cyber\, Shopping\, Banking\, Social Media (2 Sessions = $40)\n\n\nSchedule Planning (1 Session = $20)\n\n\nBudgeting 101 (2 Sessions = $40)\n\n\nPublic Safety\, Strangers\, Transit Safety\, Self Defense (3 Sessions = $60)\n\n\nTime Management (1 Session = $20)\n\n\nGoal Setting (1 Session = $20)\n\n\n\n\nRegistration
URL:https://www.ilrcc.ab.ca/event/tuesday-life-skills-2-2/2024-07-18/
LOCATION:Alberta
CATEGORIES:LIFE SKILLS
ATTACH;FMTTYPE=image/png:https://www.ilrcc.ab.ca/wp-content/uploads/2023/05/Life-Skills-1-1024x512-1.png
ORGANIZER;CN="ILRCC":MAILTO:ed@ilrcc.ab.ca
END:VEVENT
BEGIN:VEVENT
DTSTART;TZID=America/Edmonton:20240720T130000
DTEND;TZID=America/Edmonton:20241005T160000
DTSTAMP:20260421T133603
CREATED:20230829T001229Z
LAST-MODIFIED:20240219T224852Z
UID:10002626-1721480400-1728144000@www.ilrcc.ab.ca
SUMMARY:Saturday Bowling
DESCRIPTION:Dec 2 – Feb 24\, 2024                         1:00 pm – 3:00 pm \nChinook Bowladrome – 6455 Macleod Trail \nThe program runs for 12 weeks for $110. \nEach bowler pays for their bowling: $6.00/game \nRegistration
URL:https://www.ilrcc.ab.ca/event/saturday-bowling-2/2024-07-20/
LOCATION:Alberta
CATEGORIES:LEARN PROGRAMS
ATTACH;FMTTYPE=image/jpeg:https://www.ilrcc.ab.ca/wp-content/uploads/2023/05/bowling.jpg
ORGANIZER;CN="ILRCC":MAILTO:ed@ilrcc.ab.ca
END:VEVENT
BEGIN:VEVENT
DTSTART;TZID=America/Edmonton:20240723T130000
DTEND;TZID=America/Edmonton:20241008T150000
DTSTAMP:20260421T133603
CREATED:20230829T003322Z
LAST-MODIFIED:20231227T013018Z
UID:10002312-1721739600-1728399600@www.ilrcc.ab.ca
SUMMARY:Tuesday Arts and Crafts
DESCRIPTION:Nov 14 – Feb 13\, 2024 \n1:00pm – 2:00pm \nILRCC – #134\, 3359 27th St. NE \nThe program runs for 12 weeks for $135 including the cost of materials. \nBe creative and work with your hands! Learn different styles and techniques for drawing\, painting\, and creating your art. Build with different materials and create unique arts and crafts for gifts or display at home. \n*PLEASE  NOTE: Maximum of 12 participants per session. \nRegistration
URL:https://www.ilrcc.ab.ca/event/tuesday-arts-and-crafts-2/2024-07-23/
LOCATION:Alberta
CATEGORIES:LEARN PROGRAMS
ATTACH;FMTTYPE=image/png:https://www.ilrcc.ab.ca/wp-content/uploads/2023/05/Arts-Crafts.png
ORGANIZER;CN="ILRCC":MAILTO:ed@ilrcc.ab.ca
END:VEVENT
BEGIN:VEVENT
DTSTART;TZID=America/Edmonton:20240724T173000
DTEND;TZID=America/Edmonton:20241023T193000
DTSTAMP:20260421T133603
CREATED:20231227T015344Z
LAST-MODIFIED:20240219T214856Z
UID:10002499-1721842200-1729711800@www.ilrcc.ab.ca
SUMMARY:Wednesday Pizza Night
DESCRIPTION:Nov 29 – Feb 28\, 2024 \n5:30 pm – 7:30 pm \nBoston Pizza – 2836 Memorial Dr SE \nThe program runs for 12 weeks for $110. \nYou are responsible for paying for your meal and if you have a smaller appetite\, you can order from the kids menu. \nRegistration
URL:https://www.ilrcc.ab.ca/event/wednesday-pizza-night-2-2/2024-07-24/
LOCATION:Alberta
CATEGORIES:LIFE SKILLS
ATTACH;FMTTYPE=image/jpeg:https://www.ilrcc.ab.ca/wp-content/uploads/2023/05/Boston-Pizza-scaled-1.jpg
ORGANIZER;CN="ILRCC":MAILTO:ed@ilrcc.ab.ca
END:VEVENT
BEGIN:VEVENT
DTSTART;TZID=America/Edmonton:20240725T110000
DTEND;TZID=America/Edmonton:20241010T130000
DTSTAMP:20260421T133603
CREATED:20230829T002153Z
LAST-MODIFIED:20231227T012705Z
UID:10002564-1721905200-1728565200@www.ilrcc.ab.ca
SUMMARY:Thursday Arts and Crafts
DESCRIPTION:Nov 16 – Feb 15\, 2024 \n11:00 am – 12:00 pm \nILRCC – #134\, 3359 27th St. NE \nThe program runs for 12 weeks for $135 including the cost of materials. \nEach Thursday join us and get creative\, as you choose from 2-3 different art projects to try out! \n*PLEASE  NOTE: Maximum of 12 participants per session. \nRegistration
URL:https://www.ilrcc.ab.ca/event/thursday-arts-and-crafts-2/2024-07-25/
LOCATION:Alberta
CATEGORIES:LEARN PROGRAMS
ATTACH;FMTTYPE=image/jpeg:https://www.ilrcc.ab.ca/wp-content/uploads/2023/05/istockphoto-519362488-612x612-1.jpg
ORGANIZER;CN="ILRCC":MAILTO:ed@ilrcc.ab.ca
END:VEVENT
BEGIN:VEVENT
DTSTART;TZID=America/Edmonton:20240725T140000
DTEND;TZID=America/Edmonton:20241012T150000
DTSTAMP:20260421T133603
CREATED:20240101T193831Z
LAST-MODIFIED:20240219T211556Z
UID:10005833-1721916000-1728745200@www.ilrcc.ab.ca
SUMMARY:Thursday Life Skills
DESCRIPTION:Thursdays (2:00 pm – 3:00 pm)\n\n\n12 Weeks ($135.00) Full Session\n\nDrop-in modules (Each $20.00) Pre-Registration Required\n\nContact us for start dates\n\nTopics: \n\n\nCooking Safety\, Rules\, Hygiene\, Meal Preparation (2 Sessions = $40)\n\n\nOn-Line Safety\, Cyber\, Shopping\, Banking\, Social Media (2 Sessions = $40)\n\n\nSchedule Planning (1 Session = $20)\n\n\nBudgeting 101 (2 Sessions = $40)\n\n\nPublic Safety\, Strangers\, Transit Safety\, Self Defense (3 Sessions = $60)\n\n\nTime Management (1 Session = $20)\n\n\nGoal Setting (1 Session = $20)\n\n\n\n\nRegistration
URL:https://www.ilrcc.ab.ca/event/tuesday-life-skills-2-2/2024-07-25/
LOCATION:Alberta
CATEGORIES:LIFE SKILLS
ATTACH;FMTTYPE=image/png:https://www.ilrcc.ab.ca/wp-content/uploads/2023/05/Life-Skills-1-1024x512-1.png
ORGANIZER;CN="ILRCC":MAILTO:ed@ilrcc.ab.ca
END:VEVENT
BEGIN:VEVENT
DTSTART;TZID=America/Edmonton:20240727T130000
DTEND;TZID=America/Edmonton:20241012T160000
DTSTAMP:20260421T133603
CREATED:20230829T001229Z
LAST-MODIFIED:20240219T224852Z
UID:10002627-1722085200-1728748800@www.ilrcc.ab.ca
SUMMARY:Saturday Bowling
DESCRIPTION:Dec 2 – Feb 24\, 2024                         1:00 pm – 3:00 pm \nChinook Bowladrome – 6455 Macleod Trail \nThe program runs for 12 weeks for $110. \nEach bowler pays for their bowling: $6.00/game \nRegistration
URL:https://www.ilrcc.ab.ca/event/saturday-bowling-2/2024-07-27/
LOCATION:Alberta
CATEGORIES:LEARN PROGRAMS
ATTACH;FMTTYPE=image/jpeg:https://www.ilrcc.ab.ca/wp-content/uploads/2023/05/bowling.jpg
ORGANIZER;CN="ILRCC":MAILTO:ed@ilrcc.ab.ca
END:VEVENT
BEGIN:VEVENT
DTSTART;TZID=America/Edmonton:20240730T130000
DTEND;TZID=America/Edmonton:20241015T150000
DTSTAMP:20260421T133603
CREATED:20230829T003322Z
LAST-MODIFIED:20231227T013018Z
UID:10002313-1722344400-1729004400@www.ilrcc.ab.ca
SUMMARY:Tuesday Arts and Crafts
DESCRIPTION:Nov 14 – Feb 13\, 2024 \n1:00pm – 2:00pm \nILRCC – #134\, 3359 27th St. NE \nThe program runs for 12 weeks for $135 including the cost of materials. \nBe creative and work with your hands! Learn different styles and techniques for drawing\, painting\, and creating your art. Build with different materials and create unique arts and crafts for gifts or display at home. \n*PLEASE  NOTE: Maximum of 12 participants per session. \nRegistration
URL:https://www.ilrcc.ab.ca/event/tuesday-arts-and-crafts-2/2024-07-30/
LOCATION:Alberta
CATEGORIES:LEARN PROGRAMS
ATTACH;FMTTYPE=image/png:https://www.ilrcc.ab.ca/wp-content/uploads/2023/05/Arts-Crafts.png
ORGANIZER;CN="ILRCC":MAILTO:ed@ilrcc.ab.ca
END:VEVENT
BEGIN:VEVENT
DTSTART;TZID=America/Edmonton:20240731T173000
DTEND;TZID=America/Edmonton:20241030T193000
DTSTAMP:20260421T133603
CREATED:20231227T015344Z
LAST-MODIFIED:20240219T214856Z
UID:10002500-1722447000-1730316600@www.ilrcc.ab.ca
SUMMARY:Wednesday Pizza Night
DESCRIPTION:Nov 29 – Feb 28\, 2024 \n5:30 pm – 7:30 pm \nBoston Pizza – 2836 Memorial Dr SE \nThe program runs for 12 weeks for $110. \nYou are responsible for paying for your meal and if you have a smaller appetite\, you can order from the kids menu. \nRegistration
URL:https://www.ilrcc.ab.ca/event/wednesday-pizza-night-2-2/2024-07-31/
LOCATION:Alberta
CATEGORIES:LIFE SKILLS
ATTACH;FMTTYPE=image/jpeg:https://www.ilrcc.ab.ca/wp-content/uploads/2023/05/Boston-Pizza-scaled-1.jpg
ORGANIZER;CN="ILRCC":MAILTO:ed@ilrcc.ab.ca
END:VEVENT
BEGIN:VEVENT
DTSTART;TZID=America/Edmonton:20240801T110000
DTEND;TZID=America/Edmonton:20241017T130000
DTSTAMP:20260421T133603
CREATED:20230829T002153Z
LAST-MODIFIED:20231227T012705Z
UID:10002565-1722510000-1729170000@www.ilrcc.ab.ca
SUMMARY:Thursday Arts and Crafts
DESCRIPTION:Nov 16 – Feb 15\, 2024 \n11:00 am – 12:00 pm \nILRCC – #134\, 3359 27th St. NE \nThe program runs for 12 weeks for $135 including the cost of materials. \nEach Thursday join us and get creative\, as you choose from 2-3 different art projects to try out! \n*PLEASE  NOTE: Maximum of 12 participants per session. \nRegistration
URL:https://www.ilrcc.ab.ca/event/thursday-arts-and-crafts-2/2024-08-01/
LOCATION:Alberta
CATEGORIES:LEARN PROGRAMS
ATTACH;FMTTYPE=image/jpeg:https://www.ilrcc.ab.ca/wp-content/uploads/2023/05/istockphoto-519362488-612x612-1.jpg
ORGANIZER;CN="ILRCC":MAILTO:ed@ilrcc.ab.ca
END:VEVENT
END:VCALENDAR