BEGIN:VCALENDAR
VERSION:2.0
PRODID:-//ILRCC - ECPv6.15.20//NONSGML v1.0//EN
CALSCALE:GREGORIAN
METHOD:PUBLISH
X-WR-CALNAME:ILRCC
X-ORIGINAL-URL:https://www.ilrcc.ab.ca
X-WR-CALDESC:Events for ILRCC
REFRESH-INTERVAL;VALUE=DURATION:PT1H
X-Robots-Tag:noindex
X-PUBLISHED-TTL:PT1H
BEGIN:VTIMEZONE
TZID:America/Edmonton
BEGIN:DAYLIGHT
TZOFFSETFROM:-0700
TZOFFSETTO:-0600
TZNAME:MDT
DTSTART:20270314T090000
END:DAYLIGHT
BEGIN:STANDARD
TZOFFSETFROM:-0600
TZOFFSETTO:-0700
TZNAME:MST
DTSTART:20271107T080000
END:STANDARD
BEGIN:DAYLIGHT
TZOFFSETFROM:-0700
TZOFFSETTO:-0600
TZNAME:MDT
DTSTART:20280312T090000
END:DAYLIGHT
BEGIN:STANDARD
TZOFFSETFROM:-0600
TZOFFSETTO:-0700
TZNAME:MST
DTSTART:20281105T080000
END:STANDARD
BEGIN:DAYLIGHT
TZOFFSETFROM:-0700
TZOFFSETTO:-0600
TZNAME:MDT
DTSTART:20290311T090000
END:DAYLIGHT
BEGIN:STANDARD
TZOFFSETFROM:-0600
TZOFFSETTO:-0700
TZNAME:MST
DTSTART:20291104T080000
END:STANDARD
END:VTIMEZONE
BEGIN:VEVENT
DTSTART;TZID=America/Edmonton:20280413T140000
DTEND;TZID=America/Edmonton:20280701T150000
DTSTAMP:20260422T043412
CREATED:20240101T193831Z
LAST-MODIFIED:20240219T211556Z
UID:10006027-1839247200-1846076400@www.ilrcc.ab.ca
SUMMARY:Thursday Life Skills
DESCRIPTION:Thursdays (2:00 pm – 3:00 pm)\n\n\n12 Weeks ($135.00) Full Session\n\nDrop-in modules (Each $20.00) Pre-Registration Required\n\nContact us for start dates\n\nTopics: \n\n\nCooking Safety\, Rules\, Hygiene\, Meal Preparation (2 Sessions = $40)\n\n\nOn-Line Safety\, Cyber\, Shopping\, Banking\, Social Media (2 Sessions = $40)\n\n\nSchedule Planning (1 Session = $20)\n\n\nBudgeting 101 (2 Sessions = $40)\n\n\nPublic Safety\, Strangers\, Transit Safety\, Self Defense (3 Sessions = $60)\n\n\nTime Management (1 Session = $20)\n\n\nGoal Setting (1 Session = $20)\n\n\n\n\nRegistration
URL:https://www.ilrcc.ab.ca/event/tuesday-life-skills-2-2/2028-04-13/
LOCATION:Alberta
CATEGORIES:LIFE SKILLS
ATTACH;FMTTYPE=image/png:https://www.ilrcc.ab.ca/wp-content/uploads/2023/05/Life-Skills-1-1024x512-1.png
ORGANIZER;CN="ILRCC":MAILTO:ed@ilrcc.ab.ca
END:VEVENT
BEGIN:VEVENT
DTSTART;TZID=America/Edmonton:20280420T140000
DTEND;TZID=America/Edmonton:20280708T150000
DTSTAMP:20260422T043412
CREATED:20240101T193831Z
LAST-MODIFIED:20240219T211556Z
UID:10006028-1839852000-1846681200@www.ilrcc.ab.ca
SUMMARY:Thursday Life Skills
DESCRIPTION:Thursdays (2:00 pm – 3:00 pm)\n\n\n12 Weeks ($135.00) Full Session\n\nDrop-in modules (Each $20.00) Pre-Registration Required\n\nContact us for start dates\n\nTopics: \n\n\nCooking Safety\, Rules\, Hygiene\, Meal Preparation (2 Sessions = $40)\n\n\nOn-Line Safety\, Cyber\, Shopping\, Banking\, Social Media (2 Sessions = $40)\n\n\nSchedule Planning (1 Session = $20)\n\n\nBudgeting 101 (2 Sessions = $40)\n\n\nPublic Safety\, Strangers\, Transit Safety\, Self Defense (3 Sessions = $60)\n\n\nTime Management (1 Session = $20)\n\n\nGoal Setting (1 Session = $20)\n\n\n\n\nRegistration
URL:https://www.ilrcc.ab.ca/event/tuesday-life-skills-2-2/2028-04-20/
LOCATION:Alberta
CATEGORIES:LIFE SKILLS
ATTACH;FMTTYPE=image/png:https://www.ilrcc.ab.ca/wp-content/uploads/2023/05/Life-Skills-1-1024x512-1.png
ORGANIZER;CN="ILRCC":MAILTO:ed@ilrcc.ab.ca
END:VEVENT
BEGIN:VEVENT
DTSTART;TZID=America/Edmonton:20280427T140000
DTEND;TZID=America/Edmonton:20280715T150000
DTSTAMP:20260422T043412
CREATED:20240101T193831Z
LAST-MODIFIED:20240219T211556Z
UID:10006029-1840456800-1847286000@www.ilrcc.ab.ca
SUMMARY:Thursday Life Skills
DESCRIPTION:Thursdays (2:00 pm – 3:00 pm)\n\n\n12 Weeks ($135.00) Full Session\n\nDrop-in modules (Each $20.00) Pre-Registration Required\n\nContact us for start dates\n\nTopics: \n\n\nCooking Safety\, Rules\, Hygiene\, Meal Preparation (2 Sessions = $40)\n\n\nOn-Line Safety\, Cyber\, Shopping\, Banking\, Social Media (2 Sessions = $40)\n\n\nSchedule Planning (1 Session = $20)\n\n\nBudgeting 101 (2 Sessions = $40)\n\n\nPublic Safety\, Strangers\, Transit Safety\, Self Defense (3 Sessions = $60)\n\n\nTime Management (1 Session = $20)\n\n\nGoal Setting (1 Session = $20)\n\n\n\n\nRegistration
URL:https://www.ilrcc.ab.ca/event/tuesday-life-skills-2-2/2028-04-27/
LOCATION:Alberta
CATEGORIES:LIFE SKILLS
ATTACH;FMTTYPE=image/png:https://www.ilrcc.ab.ca/wp-content/uploads/2023/05/Life-Skills-1-1024x512-1.png
ORGANIZER;CN="ILRCC":MAILTO:ed@ilrcc.ab.ca
END:VEVENT
BEGIN:VEVENT
DTSTART;TZID=America/Edmonton:20280504T140000
DTEND;TZID=America/Edmonton:20280722T150000
DTSTAMP:20260422T043412
CREATED:20240101T193831Z
LAST-MODIFIED:20240219T211556Z
UID:10006030-1841061600-1847890800@www.ilrcc.ab.ca
SUMMARY:Thursday Life Skills
DESCRIPTION:Thursdays (2:00 pm – 3:00 pm)\n\n\n12 Weeks ($135.00) Full Session\n\nDrop-in modules (Each $20.00) Pre-Registration Required\n\nContact us for start dates\n\nTopics: \n\n\nCooking Safety\, Rules\, Hygiene\, Meal Preparation (2 Sessions = $40)\n\n\nOn-Line Safety\, Cyber\, Shopping\, Banking\, Social Media (2 Sessions = $40)\n\n\nSchedule Planning (1 Session = $20)\n\n\nBudgeting 101 (2 Sessions = $40)\n\n\nPublic Safety\, Strangers\, Transit Safety\, Self Defense (3 Sessions = $60)\n\n\nTime Management (1 Session = $20)\n\n\nGoal Setting (1 Session = $20)\n\n\n\n\nRegistration
URL:https://www.ilrcc.ab.ca/event/tuesday-life-skills-2-2/2028-05-04/
LOCATION:Alberta
CATEGORIES:LIFE SKILLS
ATTACH;FMTTYPE=image/png:https://www.ilrcc.ab.ca/wp-content/uploads/2023/05/Life-Skills-1-1024x512-1.png
ORGANIZER;CN="ILRCC":MAILTO:ed@ilrcc.ab.ca
END:VEVENT
BEGIN:VEVENT
DTSTART;TZID=America/Edmonton:20280504T190000
DTEND;TZID=America/Edmonton:20280706T200000
DTSTAMP:20260422T043412
CREATED:20231230T205301Z
LAST-MODIFIED:20240219T212903Z
UID:10005194-1841079600-1846526400@www.ilrcc.ab.ca
SUMMARY:Thursday Dance + Sing Movements
DESCRIPTION:January 4 – March 7\, 2024 \n7:00 pm – 8:00 pm \nILRCC – #134\, 3359 27th St. NE \nThe program runs for 8 weeks for $75. \nCome join the fun for a Karaoke & Zumba evening at ILRCC \nRegistration
URL:https://www.ilrcc.ab.ca/event/thursday-dance-sing-movements-500pm-600pm-2-2/2028-05-04/
LOCATION:Alberta
CATEGORIES:LEARN PROGRAMS
ATTACH;FMTTYPE=image/jpeg:https://www.ilrcc.ab.ca/wp-content/uploads/2023/05/Thursday-Dance-Sing-Movements.jpg
ORGANIZER;CN="ILRCC":MAILTO:ed@ilrcc.ab.ca
END:VEVENT
BEGIN:VEVENT
DTSTART;TZID=America/Edmonton:20280511T140000
DTEND;TZID=America/Edmonton:20280729T150000
DTSTAMP:20260422T043412
CREATED:20240101T193831Z
LAST-MODIFIED:20240219T211556Z
UID:10006031-1841666400-1848495600@www.ilrcc.ab.ca
SUMMARY:Thursday Life Skills
DESCRIPTION:Thursdays (2:00 pm – 3:00 pm)\n\n\n12 Weeks ($135.00) Full Session\n\nDrop-in modules (Each $20.00) Pre-Registration Required\n\nContact us for start dates\n\nTopics: \n\n\nCooking Safety\, Rules\, Hygiene\, Meal Preparation (2 Sessions = $40)\n\n\nOn-Line Safety\, Cyber\, Shopping\, Banking\, Social Media (2 Sessions = $40)\n\n\nSchedule Planning (1 Session = $20)\n\n\nBudgeting 101 (2 Sessions = $40)\n\n\nPublic Safety\, Strangers\, Transit Safety\, Self Defense (3 Sessions = $60)\n\n\nTime Management (1 Session = $20)\n\n\nGoal Setting (1 Session = $20)\n\n\n\n\nRegistration
URL:https://www.ilrcc.ab.ca/event/tuesday-life-skills-2-2/2028-05-11/
LOCATION:Alberta
CATEGORIES:LIFE SKILLS
ATTACH;FMTTYPE=image/png:https://www.ilrcc.ab.ca/wp-content/uploads/2023/05/Life-Skills-1-1024x512-1.png
ORGANIZER;CN="ILRCC":MAILTO:ed@ilrcc.ab.ca
END:VEVENT
BEGIN:VEVENT
DTSTART;TZID=America/Edmonton:20280511T190000
DTEND;TZID=America/Edmonton:20280713T200000
DTSTAMP:20260422T043412
CREATED:20231230T205301Z
LAST-MODIFIED:20240219T212903Z
UID:10005195-1841684400-1847131200@www.ilrcc.ab.ca
SUMMARY:Thursday Dance + Sing Movements
DESCRIPTION:January 4 – March 7\, 2024 \n7:00 pm – 8:00 pm \nILRCC – #134\, 3359 27th St. NE \nThe program runs for 8 weeks for $75. \nCome join the fun for a Karaoke & Zumba evening at ILRCC \nRegistration
URL:https://www.ilrcc.ab.ca/event/thursday-dance-sing-movements-500pm-600pm-2-2/2028-05-11/
LOCATION:Alberta
CATEGORIES:LEARN PROGRAMS
ATTACH;FMTTYPE=image/jpeg:https://www.ilrcc.ab.ca/wp-content/uploads/2023/05/Thursday-Dance-Sing-Movements.jpg
ORGANIZER;CN="ILRCC":MAILTO:ed@ilrcc.ab.ca
END:VEVENT
BEGIN:VEVENT
DTSTART;TZID=America/Edmonton:20280516T113000
DTEND;TZID=America/Edmonton:20280704T113000
DTSTAMP:20260422T043412
CREATED:20230704T194641Z
LAST-MODIFIED:20240219T213122Z
UID:10004751-1842089400-1846323000@www.ilrcc.ab.ca
SUMMARY:Tuesday Music + Movement
DESCRIPTION:Feb 27 – April 16\, 2024 \n11:30 pm – 12:30 pm \nILRCC – #134\, 3359 27th St. NE \nThe program runs for 8 weeks for $75. \nMusic Therapy \n  \nPlay\, Move\, and Express yourself through interactive Music and Movement. \nEnjoy games\, songs\, rhythm & beats as we make beautiful noise together! \nRegistration
URL:https://www.ilrcc.ab.ca/event/tuesday-music-movement-2/2028-05-16/
LOCATION:Alberta
CATEGORIES:LEARN PROGRAMS
ORGANIZER;CN="ILRCC":MAILTO:ed@ilrcc.ab.ca
END:VEVENT
BEGIN:VEVENT
DTSTART;TZID=America/Edmonton:20280518T140000
DTEND;TZID=America/Edmonton:20280805T150000
DTSTAMP:20260422T043412
CREATED:20240101T193831Z
LAST-MODIFIED:20240219T211556Z
UID:10006032-1842271200-1849100400@www.ilrcc.ab.ca
SUMMARY:Thursday Life Skills
DESCRIPTION:Thursdays (2:00 pm – 3:00 pm)\n\n\n12 Weeks ($135.00) Full Session\n\nDrop-in modules (Each $20.00) Pre-Registration Required\n\nContact us for start dates\n\nTopics: \n\n\nCooking Safety\, Rules\, Hygiene\, Meal Preparation (2 Sessions = $40)\n\n\nOn-Line Safety\, Cyber\, Shopping\, Banking\, Social Media (2 Sessions = $40)\n\n\nSchedule Planning (1 Session = $20)\n\n\nBudgeting 101 (2 Sessions = $40)\n\n\nPublic Safety\, Strangers\, Transit Safety\, Self Defense (3 Sessions = $60)\n\n\nTime Management (1 Session = $20)\n\n\nGoal Setting (1 Session = $20)\n\n\n\n\nRegistration
URL:https://www.ilrcc.ab.ca/event/tuesday-life-skills-2-2/2028-05-18/
LOCATION:Alberta
CATEGORIES:LIFE SKILLS
ATTACH;FMTTYPE=image/png:https://www.ilrcc.ab.ca/wp-content/uploads/2023/05/Life-Skills-1-1024x512-1.png
ORGANIZER;CN="ILRCC":MAILTO:ed@ilrcc.ab.ca
END:VEVENT
BEGIN:VEVENT
DTSTART;TZID=America/Edmonton:20280518T190000
DTEND;TZID=America/Edmonton:20280720T200000
DTSTAMP:20260422T043412
CREATED:20231230T205301Z
LAST-MODIFIED:20240219T212903Z
UID:10005196-1842289200-1847736000@www.ilrcc.ab.ca
SUMMARY:Thursday Dance + Sing Movements
DESCRIPTION:January 4 – March 7\, 2024 \n7:00 pm – 8:00 pm \nILRCC – #134\, 3359 27th St. NE \nThe program runs for 8 weeks for $75. \nCome join the fun for a Karaoke & Zumba evening at ILRCC \nRegistration
URL:https://www.ilrcc.ab.ca/event/thursday-dance-sing-movements-500pm-600pm-2-2/2028-05-18/
LOCATION:Alberta
CATEGORIES:LEARN PROGRAMS
ATTACH;FMTTYPE=image/jpeg:https://www.ilrcc.ab.ca/wp-content/uploads/2023/05/Thursday-Dance-Sing-Movements.jpg
ORGANIZER;CN="ILRCC":MAILTO:ed@ilrcc.ab.ca
END:VEVENT
BEGIN:VEVENT
DTSTART;TZID=America/Edmonton:20280523T113000
DTEND;TZID=America/Edmonton:20280711T113000
DTSTAMP:20260422T043412
CREATED:20230704T194641Z
LAST-MODIFIED:20240219T213122Z
UID:10004752-1842694200-1846927800@www.ilrcc.ab.ca
SUMMARY:Tuesday Music + Movement
DESCRIPTION:Feb 27 – April 16\, 2024 \n11:30 pm – 12:30 pm \nILRCC – #134\, 3359 27th St. NE \nThe program runs for 8 weeks for $75. \nMusic Therapy \n  \nPlay\, Move\, and Express yourself through interactive Music and Movement. \nEnjoy games\, songs\, rhythm & beats as we make beautiful noise together! \nRegistration
URL:https://www.ilrcc.ab.ca/event/tuesday-music-movement-2/2028-05-23/
LOCATION:Alberta
CATEGORIES:LEARN PROGRAMS
ORGANIZER;CN="ILRCC":MAILTO:ed@ilrcc.ab.ca
END:VEVENT
BEGIN:VEVENT
DTSTART;TZID=America/Edmonton:20280525T140000
DTEND;TZID=America/Edmonton:20280812T150000
DTSTAMP:20260422T043412
CREATED:20240101T193831Z
LAST-MODIFIED:20240219T211556Z
UID:10006033-1842876000-1849705200@www.ilrcc.ab.ca
SUMMARY:Thursday Life Skills
DESCRIPTION:Thursdays (2:00 pm – 3:00 pm)\n\n\n12 Weeks ($135.00) Full Session\n\nDrop-in modules (Each $20.00) Pre-Registration Required\n\nContact us for start dates\n\nTopics: \n\n\nCooking Safety\, Rules\, Hygiene\, Meal Preparation (2 Sessions = $40)\n\n\nOn-Line Safety\, Cyber\, Shopping\, Banking\, Social Media (2 Sessions = $40)\n\n\nSchedule Planning (1 Session = $20)\n\n\nBudgeting 101 (2 Sessions = $40)\n\n\nPublic Safety\, Strangers\, Transit Safety\, Self Defense (3 Sessions = $60)\n\n\nTime Management (1 Session = $20)\n\n\nGoal Setting (1 Session = $20)\n\n\n\n\nRegistration
URL:https://www.ilrcc.ab.ca/event/tuesday-life-skills-2-2/2028-05-25/
LOCATION:Alberta
CATEGORIES:LIFE SKILLS
ATTACH;FMTTYPE=image/png:https://www.ilrcc.ab.ca/wp-content/uploads/2023/05/Life-Skills-1-1024x512-1.png
ORGANIZER;CN="ILRCC":MAILTO:ed@ilrcc.ab.ca
END:VEVENT
BEGIN:VEVENT
DTSTART;TZID=America/Edmonton:20280525T190000
DTEND;TZID=America/Edmonton:20280727T200000
DTSTAMP:20260422T043412
CREATED:20231230T205301Z
LAST-MODIFIED:20240219T212903Z
UID:10005197-1842894000-1848340800@www.ilrcc.ab.ca
SUMMARY:Thursday Dance + Sing Movements
DESCRIPTION:January 4 – March 7\, 2024 \n7:00 pm – 8:00 pm \nILRCC – #134\, 3359 27th St. NE \nThe program runs for 8 weeks for $75. \nCome join the fun for a Karaoke & Zumba evening at ILRCC \nRegistration
URL:https://www.ilrcc.ab.ca/event/thursday-dance-sing-movements-500pm-600pm-2-2/2028-05-25/
LOCATION:Alberta
CATEGORIES:LEARN PROGRAMS
ATTACH;FMTTYPE=image/jpeg:https://www.ilrcc.ab.ca/wp-content/uploads/2023/05/Thursday-Dance-Sing-Movements.jpg
ORGANIZER;CN="ILRCC":MAILTO:ed@ilrcc.ab.ca
END:VEVENT
BEGIN:VEVENT
DTSTART;TZID=America/Edmonton:20280530T113000
DTEND;TZID=America/Edmonton:20280718T113000
DTSTAMP:20260422T043412
CREATED:20230704T194641Z
LAST-MODIFIED:20240219T213122Z
UID:10004753-1843299000-1847532600@www.ilrcc.ab.ca
SUMMARY:Tuesday Music + Movement
DESCRIPTION:Feb 27 – April 16\, 2024 \n11:30 pm – 12:30 pm \nILRCC – #134\, 3359 27th St. NE \nThe program runs for 8 weeks for $75. \nMusic Therapy \n  \nPlay\, Move\, and Express yourself through interactive Music and Movement. \nEnjoy games\, songs\, rhythm & beats as we make beautiful noise together! \nRegistration
URL:https://www.ilrcc.ab.ca/event/tuesday-music-movement-2/2028-05-30/
LOCATION:Alberta
CATEGORIES:LEARN PROGRAMS
ORGANIZER;CN="ILRCC":MAILTO:ed@ilrcc.ab.ca
END:VEVENT
BEGIN:VEVENT
DTSTART;TZID=America/Edmonton:20280601T140000
DTEND;TZID=America/Edmonton:20280819T150000
DTSTAMP:20260422T043412
CREATED:20240101T193831Z
LAST-MODIFIED:20240219T211556Z
UID:10006034-1843480800-1850310000@www.ilrcc.ab.ca
SUMMARY:Thursday Life Skills
DESCRIPTION:Thursdays (2:00 pm – 3:00 pm)\n\n\n12 Weeks ($135.00) Full Session\n\nDrop-in modules (Each $20.00) Pre-Registration Required\n\nContact us for start dates\n\nTopics: \n\n\nCooking Safety\, Rules\, Hygiene\, Meal Preparation (2 Sessions = $40)\n\n\nOn-Line Safety\, Cyber\, Shopping\, Banking\, Social Media (2 Sessions = $40)\n\n\nSchedule Planning (1 Session = $20)\n\n\nBudgeting 101 (2 Sessions = $40)\n\n\nPublic Safety\, Strangers\, Transit Safety\, Self Defense (3 Sessions = $60)\n\n\nTime Management (1 Session = $20)\n\n\nGoal Setting (1 Session = $20)\n\n\n\n\nRegistration
URL:https://www.ilrcc.ab.ca/event/tuesday-life-skills-2-2/2028-06-01/
LOCATION:Alberta
CATEGORIES:LIFE SKILLS
ATTACH;FMTTYPE=image/png:https://www.ilrcc.ab.ca/wp-content/uploads/2023/05/Life-Skills-1-1024x512-1.png
ORGANIZER;CN="ILRCC":MAILTO:ed@ilrcc.ab.ca
END:VEVENT
BEGIN:VEVENT
DTSTART;TZID=America/Edmonton:20280601T190000
DTEND;TZID=America/Edmonton:20280803T200000
DTSTAMP:20260422T043412
CREATED:20231230T205301Z
LAST-MODIFIED:20240219T212903Z
UID:10005198-1843498800-1848945600@www.ilrcc.ab.ca
SUMMARY:Thursday Dance + Sing Movements
DESCRIPTION:January 4 – March 7\, 2024 \n7:00 pm – 8:00 pm \nILRCC – #134\, 3359 27th St. NE \nThe program runs for 8 weeks for $75. \nCome join the fun for a Karaoke & Zumba evening at ILRCC \nRegistration
URL:https://www.ilrcc.ab.ca/event/thursday-dance-sing-movements-500pm-600pm-2-2/2028-06-01/
LOCATION:Alberta
CATEGORIES:LEARN PROGRAMS
ATTACH;FMTTYPE=image/jpeg:https://www.ilrcc.ab.ca/wp-content/uploads/2023/05/Thursday-Dance-Sing-Movements.jpg
ORGANIZER;CN="ILRCC":MAILTO:ed@ilrcc.ab.ca
END:VEVENT
BEGIN:VEVENT
DTSTART;TZID=America/Edmonton:20280606T113000
DTEND;TZID=America/Edmonton:20280725T113000
DTSTAMP:20260422T043412
CREATED:20230704T194641Z
LAST-MODIFIED:20240219T213122Z
UID:10004754-1843903800-1848137400@www.ilrcc.ab.ca
SUMMARY:Tuesday Music + Movement
DESCRIPTION:Feb 27 – April 16\, 2024 \n11:30 pm – 12:30 pm \nILRCC – #134\, 3359 27th St. NE \nThe program runs for 8 weeks for $75. \nMusic Therapy \n  \nPlay\, Move\, and Express yourself through interactive Music and Movement. \nEnjoy games\, songs\, rhythm & beats as we make beautiful noise together! \nRegistration
URL:https://www.ilrcc.ab.ca/event/tuesday-music-movement-2/2028-06-06/
LOCATION:Alberta
CATEGORIES:LEARN PROGRAMS
ORGANIZER;CN="ILRCC":MAILTO:ed@ilrcc.ab.ca
END:VEVENT
BEGIN:VEVENT
DTSTART;TZID=America/Edmonton:20280608T140000
DTEND;TZID=America/Edmonton:20280826T150000
DTSTAMP:20260422T043412
CREATED:20240101T193831Z
LAST-MODIFIED:20240219T211556Z
UID:10006035-1844085600-1850914800@www.ilrcc.ab.ca
SUMMARY:Thursday Life Skills
DESCRIPTION:Thursdays (2:00 pm – 3:00 pm)\n\n\n12 Weeks ($135.00) Full Session\n\nDrop-in modules (Each $20.00) Pre-Registration Required\n\nContact us for start dates\n\nTopics: \n\n\nCooking Safety\, Rules\, Hygiene\, Meal Preparation (2 Sessions = $40)\n\n\nOn-Line Safety\, Cyber\, Shopping\, Banking\, Social Media (2 Sessions = $40)\n\n\nSchedule Planning (1 Session = $20)\n\n\nBudgeting 101 (2 Sessions = $40)\n\n\nPublic Safety\, Strangers\, Transit Safety\, Self Defense (3 Sessions = $60)\n\n\nTime Management (1 Session = $20)\n\n\nGoal Setting (1 Session = $20)\n\n\n\n\nRegistration
URL:https://www.ilrcc.ab.ca/event/tuesday-life-skills-2-2/2028-06-08/
LOCATION:Alberta
CATEGORIES:LIFE SKILLS
ATTACH;FMTTYPE=image/png:https://www.ilrcc.ab.ca/wp-content/uploads/2023/05/Life-Skills-1-1024x512-1.png
ORGANIZER;CN="ILRCC":MAILTO:ed@ilrcc.ab.ca
END:VEVENT
BEGIN:VEVENT
DTSTART;TZID=America/Edmonton:20280608T190000
DTEND;TZID=America/Edmonton:20280810T200000
DTSTAMP:20260422T043412
CREATED:20231230T205301Z
LAST-MODIFIED:20240219T212903Z
UID:10005199-1844103600-1849550400@www.ilrcc.ab.ca
SUMMARY:Thursday Dance + Sing Movements
DESCRIPTION:January 4 – March 7\, 2024 \n7:00 pm – 8:00 pm \nILRCC – #134\, 3359 27th St. NE \nThe program runs for 8 weeks for $75. \nCome join the fun for a Karaoke & Zumba evening at ILRCC \nRegistration
URL:https://www.ilrcc.ab.ca/event/thursday-dance-sing-movements-500pm-600pm-2-2/2028-06-08/
LOCATION:Alberta
CATEGORIES:LEARN PROGRAMS
ATTACH;FMTTYPE=image/jpeg:https://www.ilrcc.ab.ca/wp-content/uploads/2023/05/Thursday-Dance-Sing-Movements.jpg
ORGANIZER;CN="ILRCC":MAILTO:ed@ilrcc.ab.ca
END:VEVENT
BEGIN:VEVENT
DTSTART;TZID=America/Edmonton:20280613T113000
DTEND;TZID=America/Edmonton:20280801T113000
DTSTAMP:20260422T043412
CREATED:20230704T194641Z
LAST-MODIFIED:20240219T213122Z
UID:10004755-1844508600-1848742200@www.ilrcc.ab.ca
SUMMARY:Tuesday Music + Movement
DESCRIPTION:Feb 27 – April 16\, 2024 \n11:30 pm – 12:30 pm \nILRCC – #134\, 3359 27th St. NE \nThe program runs for 8 weeks for $75. \nMusic Therapy \n  \nPlay\, Move\, and Express yourself through interactive Music and Movement. \nEnjoy games\, songs\, rhythm & beats as we make beautiful noise together! \nRegistration
URL:https://www.ilrcc.ab.ca/event/tuesday-music-movement-2/2028-06-13/
LOCATION:Alberta
CATEGORIES:LEARN PROGRAMS
ORGANIZER;CN="ILRCC":MAILTO:ed@ilrcc.ab.ca
END:VEVENT
BEGIN:VEVENT
DTSTART;TZID=America/Edmonton:20280615T140000
DTEND;TZID=America/Edmonton:20280902T150000
DTSTAMP:20260422T043412
CREATED:20240101T193831Z
LAST-MODIFIED:20240219T211556Z
UID:10006036-1844690400-1851519600@www.ilrcc.ab.ca
SUMMARY:Thursday Life Skills
DESCRIPTION:Thursdays (2:00 pm – 3:00 pm)\n\n\n12 Weeks ($135.00) Full Session\n\nDrop-in modules (Each $20.00) Pre-Registration Required\n\nContact us for start dates\n\nTopics: \n\n\nCooking Safety\, Rules\, Hygiene\, Meal Preparation (2 Sessions = $40)\n\n\nOn-Line Safety\, Cyber\, Shopping\, Banking\, Social Media (2 Sessions = $40)\n\n\nSchedule Planning (1 Session = $20)\n\n\nBudgeting 101 (2 Sessions = $40)\n\n\nPublic Safety\, Strangers\, Transit Safety\, Self Defense (3 Sessions = $60)\n\n\nTime Management (1 Session = $20)\n\n\nGoal Setting (1 Session = $20)\n\n\n\n\nRegistration
URL:https://www.ilrcc.ab.ca/event/tuesday-life-skills-2-2/2028-06-15/
LOCATION:Alberta
CATEGORIES:LIFE SKILLS
ATTACH;FMTTYPE=image/png:https://www.ilrcc.ab.ca/wp-content/uploads/2023/05/Life-Skills-1-1024x512-1.png
ORGANIZER;CN="ILRCC":MAILTO:ed@ilrcc.ab.ca
END:VEVENT
BEGIN:VEVENT
DTSTART;TZID=America/Edmonton:20280615T190000
DTEND;TZID=America/Edmonton:20280817T200000
DTSTAMP:20260422T043412
CREATED:20231230T205301Z
LAST-MODIFIED:20240219T212903Z
UID:10005200-1844708400-1850155200@www.ilrcc.ab.ca
SUMMARY:Thursday Dance + Sing Movements
DESCRIPTION:January 4 – March 7\, 2024 \n7:00 pm – 8:00 pm \nILRCC – #134\, 3359 27th St. NE \nThe program runs for 8 weeks for $75. \nCome join the fun for a Karaoke & Zumba evening at ILRCC \nRegistration
URL:https://www.ilrcc.ab.ca/event/thursday-dance-sing-movements-500pm-600pm-2-2/2028-06-15/
LOCATION:Alberta
CATEGORIES:LEARN PROGRAMS
ATTACH;FMTTYPE=image/jpeg:https://www.ilrcc.ab.ca/wp-content/uploads/2023/05/Thursday-Dance-Sing-Movements.jpg
ORGANIZER;CN="ILRCC":MAILTO:ed@ilrcc.ab.ca
END:VEVENT
BEGIN:VEVENT
DTSTART;TZID=America/Edmonton:20280620T113000
DTEND;TZID=America/Edmonton:20280808T113000
DTSTAMP:20260422T043412
CREATED:20230704T194641Z
LAST-MODIFIED:20240219T213122Z
UID:10004756-1845113400-1849347000@www.ilrcc.ab.ca
SUMMARY:Tuesday Music + Movement
DESCRIPTION:Feb 27 – April 16\, 2024 \n11:30 pm – 12:30 pm \nILRCC – #134\, 3359 27th St. NE \nThe program runs for 8 weeks for $75. \nMusic Therapy \n  \nPlay\, Move\, and Express yourself through interactive Music and Movement. \nEnjoy games\, songs\, rhythm & beats as we make beautiful noise together! \nRegistration
URL:https://www.ilrcc.ab.ca/event/tuesday-music-movement-2/2028-06-20/
LOCATION:Alberta
CATEGORIES:LEARN PROGRAMS
ORGANIZER;CN="ILRCC":MAILTO:ed@ilrcc.ab.ca
END:VEVENT
BEGIN:VEVENT
DTSTART;TZID=America/Edmonton:20280622T140000
DTEND;TZID=America/Edmonton:20280909T150000
DTSTAMP:20260422T043412
CREATED:20240101T193831Z
LAST-MODIFIED:20240219T211556Z
UID:10006037-1845295200-1852124400@www.ilrcc.ab.ca
SUMMARY:Thursday Life Skills
DESCRIPTION:Thursdays (2:00 pm – 3:00 pm)\n\n\n12 Weeks ($135.00) Full Session\n\nDrop-in modules (Each $20.00) Pre-Registration Required\n\nContact us for start dates\n\nTopics: \n\n\nCooking Safety\, Rules\, Hygiene\, Meal Preparation (2 Sessions = $40)\n\n\nOn-Line Safety\, Cyber\, Shopping\, Banking\, Social Media (2 Sessions = $40)\n\n\nSchedule Planning (1 Session = $20)\n\n\nBudgeting 101 (2 Sessions = $40)\n\n\nPublic Safety\, Strangers\, Transit Safety\, Self Defense (3 Sessions = $60)\n\n\nTime Management (1 Session = $20)\n\n\nGoal Setting (1 Session = $20)\n\n\n\n\nRegistration
URL:https://www.ilrcc.ab.ca/event/tuesday-life-skills-2-2/2028-06-22/
LOCATION:Alberta
CATEGORIES:LIFE SKILLS
ATTACH;FMTTYPE=image/png:https://www.ilrcc.ab.ca/wp-content/uploads/2023/05/Life-Skills-1-1024x512-1.png
ORGANIZER;CN="ILRCC":MAILTO:ed@ilrcc.ab.ca
END:VEVENT
BEGIN:VEVENT
DTSTART;TZID=America/Edmonton:20280622T190000
DTEND;TZID=America/Edmonton:20280824T200000
DTSTAMP:20260422T043412
CREATED:20231230T205301Z
LAST-MODIFIED:20240219T212903Z
UID:10005201-1845313200-1850760000@www.ilrcc.ab.ca
SUMMARY:Thursday Dance + Sing Movements
DESCRIPTION:January 4 – March 7\, 2024 \n7:00 pm – 8:00 pm \nILRCC – #134\, 3359 27th St. NE \nThe program runs for 8 weeks for $75. \nCome join the fun for a Karaoke & Zumba evening at ILRCC \nRegistration
URL:https://www.ilrcc.ab.ca/event/thursday-dance-sing-movements-500pm-600pm-2-2/2028-06-22/
LOCATION:Alberta
CATEGORIES:LEARN PROGRAMS
ATTACH;FMTTYPE=image/jpeg:https://www.ilrcc.ab.ca/wp-content/uploads/2023/05/Thursday-Dance-Sing-Movements.jpg
ORGANIZER;CN="ILRCC":MAILTO:ed@ilrcc.ab.ca
END:VEVENT
BEGIN:VEVENT
DTSTART;TZID=America/Edmonton:20280627T113000
DTEND;TZID=America/Edmonton:20280815T113000
DTSTAMP:20260422T043412
CREATED:20230704T194641Z
LAST-MODIFIED:20240219T213122Z
UID:10004757-1845718200-1849951800@www.ilrcc.ab.ca
SUMMARY:Tuesday Music + Movement
DESCRIPTION:Feb 27 – April 16\, 2024 \n11:30 pm – 12:30 pm \nILRCC – #134\, 3359 27th St. NE \nThe program runs for 8 weeks for $75. \nMusic Therapy \n  \nPlay\, Move\, and Express yourself through interactive Music and Movement. \nEnjoy games\, songs\, rhythm & beats as we make beautiful noise together! \nRegistration
URL:https://www.ilrcc.ab.ca/event/tuesday-music-movement-2/2028-06-27/
LOCATION:Alberta
CATEGORIES:LEARN PROGRAMS
ORGANIZER;CN="ILRCC":MAILTO:ed@ilrcc.ab.ca
END:VEVENT
BEGIN:VEVENT
DTSTART;TZID=America/Edmonton:20280629T140000
DTEND;TZID=America/Edmonton:20280916T150000
DTSTAMP:20260422T043412
CREATED:20240101T193831Z
LAST-MODIFIED:20240219T211556Z
UID:10006038-1845900000-1852729200@www.ilrcc.ab.ca
SUMMARY:Thursday Life Skills
DESCRIPTION:Thursdays (2:00 pm – 3:00 pm)\n\n\n12 Weeks ($135.00) Full Session\n\nDrop-in modules (Each $20.00) Pre-Registration Required\n\nContact us for start dates\n\nTopics: \n\n\nCooking Safety\, Rules\, Hygiene\, Meal Preparation (2 Sessions = $40)\n\n\nOn-Line Safety\, Cyber\, Shopping\, Banking\, Social Media (2 Sessions = $40)\n\n\nSchedule Planning (1 Session = $20)\n\n\nBudgeting 101 (2 Sessions = $40)\n\n\nPublic Safety\, Strangers\, Transit Safety\, Self Defense (3 Sessions = $60)\n\n\nTime Management (1 Session = $20)\n\n\nGoal Setting (1 Session = $20)\n\n\n\n\nRegistration
URL:https://www.ilrcc.ab.ca/event/tuesday-life-skills-2-2/2028-06-29/
LOCATION:Alberta
CATEGORIES:LIFE SKILLS
ATTACH;FMTTYPE=image/png:https://www.ilrcc.ab.ca/wp-content/uploads/2023/05/Life-Skills-1-1024x512-1.png
ORGANIZER;CN="ILRCC":MAILTO:ed@ilrcc.ab.ca
END:VEVENT
BEGIN:VEVENT
DTSTART;TZID=America/Edmonton:20280629T190000
DTEND;TZID=America/Edmonton:20280831T200000
DTSTAMP:20260422T043412
CREATED:20231230T205301Z
LAST-MODIFIED:20240219T212903Z
UID:10005202-1845918000-1851364800@www.ilrcc.ab.ca
SUMMARY:Thursday Dance + Sing Movements
DESCRIPTION:January 4 – March 7\, 2024 \n7:00 pm – 8:00 pm \nILRCC – #134\, 3359 27th St. NE \nThe program runs for 8 weeks for $75. \nCome join the fun for a Karaoke & Zumba evening at ILRCC \nRegistration
URL:https://www.ilrcc.ab.ca/event/thursday-dance-sing-movements-500pm-600pm-2-2/2028-06-29/
LOCATION:Alberta
CATEGORIES:LEARN PROGRAMS
ATTACH;FMTTYPE=image/jpeg:https://www.ilrcc.ab.ca/wp-content/uploads/2023/05/Thursday-Dance-Sing-Movements.jpg
ORGANIZER;CN="ILRCC":MAILTO:ed@ilrcc.ab.ca
END:VEVENT
BEGIN:VEVENT
DTSTART;TZID=America/Edmonton:20280704T113000
DTEND;TZID=America/Edmonton:20280822T113000
DTSTAMP:20260422T043412
CREATED:20230704T194641Z
LAST-MODIFIED:20240219T213122Z
UID:10004758-1846323000-1850556600@www.ilrcc.ab.ca
SUMMARY:Tuesday Music + Movement
DESCRIPTION:Feb 27 – April 16\, 2024 \n11:30 pm – 12:30 pm \nILRCC – #134\, 3359 27th St. NE \nThe program runs for 8 weeks for $75. \nMusic Therapy \n  \nPlay\, Move\, and Express yourself through interactive Music and Movement. \nEnjoy games\, songs\, rhythm & beats as we make beautiful noise together! \nRegistration
URL:https://www.ilrcc.ab.ca/event/tuesday-music-movement-2/2028-07-04/
LOCATION:Alberta
CATEGORIES:LEARN PROGRAMS
ORGANIZER;CN="ILRCC":MAILTO:ed@ilrcc.ab.ca
END:VEVENT
BEGIN:VEVENT
DTSTART;TZID=America/Edmonton:20280706T140000
DTEND;TZID=America/Edmonton:20280923T150000
DTSTAMP:20260422T043412
CREATED:20240101T193831Z
LAST-MODIFIED:20240219T211556Z
UID:10006039-1846504800-1853334000@www.ilrcc.ab.ca
SUMMARY:Thursday Life Skills
DESCRIPTION:Thursdays (2:00 pm – 3:00 pm)\n\n\n12 Weeks ($135.00) Full Session\n\nDrop-in modules (Each $20.00) Pre-Registration Required\n\nContact us for start dates\n\nTopics: \n\n\nCooking Safety\, Rules\, Hygiene\, Meal Preparation (2 Sessions = $40)\n\n\nOn-Line Safety\, Cyber\, Shopping\, Banking\, Social Media (2 Sessions = $40)\n\n\nSchedule Planning (1 Session = $20)\n\n\nBudgeting 101 (2 Sessions = $40)\n\n\nPublic Safety\, Strangers\, Transit Safety\, Self Defense (3 Sessions = $60)\n\n\nTime Management (1 Session = $20)\n\n\nGoal Setting (1 Session = $20)\n\n\n\n\nRegistration
URL:https://www.ilrcc.ab.ca/event/tuesday-life-skills-2-2/2028-07-06/
LOCATION:Alberta
CATEGORIES:LIFE SKILLS
ATTACH;FMTTYPE=image/png:https://www.ilrcc.ab.ca/wp-content/uploads/2023/05/Life-Skills-1-1024x512-1.png
ORGANIZER;CN="ILRCC":MAILTO:ed@ilrcc.ab.ca
END:VEVENT
END:VCALENDAR