BEGIN:VCALENDAR
VERSION:2.0
PRODID:-//ILRCC - ECPv6.15.20//NONSGML v1.0//EN
CALSCALE:GREGORIAN
METHOD:PUBLISH
X-WR-CALNAME:ILRCC
X-ORIGINAL-URL:https://www.ilrcc.ab.ca
X-WR-CALDESC:Events for ILRCC
REFRESH-INTERVAL;VALUE=DURATION:PT1H
X-Robots-Tag:noindex
X-PUBLISHED-TTL:PT1H
BEGIN:VTIMEZONE
TZID:America/Edmonton
BEGIN:DAYLIGHT
TZOFFSETFROM:-0700
TZOFFSETTO:-0600
TZNAME:MDT
DTSTART:20270314T090000
END:DAYLIGHT
BEGIN:STANDARD
TZOFFSETFROM:-0600
TZOFFSETTO:-0700
TZNAME:MST
DTSTART:20271107T080000
END:STANDARD
BEGIN:DAYLIGHT
TZOFFSETFROM:-0700
TZOFFSETTO:-0600
TZNAME:MDT
DTSTART:20280312T090000
END:DAYLIGHT
BEGIN:STANDARD
TZOFFSETFROM:-0600
TZOFFSETTO:-0700
TZNAME:MST
DTSTART:20281105T080000
END:STANDARD
BEGIN:DAYLIGHT
TZOFFSETFROM:-0700
TZOFFSETTO:-0600
TZNAME:MDT
DTSTART:20290311T090000
END:DAYLIGHT
BEGIN:STANDARD
TZOFFSETFROM:-0600
TZOFFSETTO:-0700
TZNAME:MST
DTSTART:20291104T080000
END:STANDARD
BEGIN:DAYLIGHT
TZOFFSETFROM:-0700
TZOFFSETTO:-0600
TZNAME:MDT
DTSTART:20300310T090000
END:DAYLIGHT
BEGIN:STANDARD
TZOFFSETFROM:-0600
TZOFFSETTO:-0700
TZNAME:MST
DTSTART:20301103T080000
END:STANDARD
END:VTIMEZONE
BEGIN:VEVENT
DTSTART;TZID=America/Edmonton:20281116T140000
DTEND;TZID=America/Edmonton:20290203T150000
DTSTAMP:20260422T145034
CREATED:20240101T193831Z
LAST-MODIFIED:20240219T211556Z
UID:10006058-1857996000-1864825200@www.ilrcc.ab.ca
SUMMARY:Thursday Life Skills
DESCRIPTION:Thursdays (2:00 pm – 3:00 pm)\n\n\n12 Weeks ($135.00) Full Session\n\nDrop-in modules (Each $20.00) Pre-Registration Required\n\nContact us for start dates\n\nTopics: \n\n\nCooking Safety\, Rules\, Hygiene\, Meal Preparation (2 Sessions = $40)\n\n\nOn-Line Safety\, Cyber\, Shopping\, Banking\, Social Media (2 Sessions = $40)\n\n\nSchedule Planning (1 Session = $20)\n\n\nBudgeting 101 (2 Sessions = $40)\n\n\nPublic Safety\, Strangers\, Transit Safety\, Self Defense (3 Sessions = $60)\n\n\nTime Management (1 Session = $20)\n\n\nGoal Setting (1 Session = $20)\n\n\n\n\nRegistration
URL:https://www.ilrcc.ab.ca/event/tuesday-life-skills-2-2/2028-11-16/
LOCATION:Alberta
CATEGORIES:LIFE SKILLS
ATTACH;FMTTYPE=image/png:https://www.ilrcc.ab.ca/wp-content/uploads/2023/05/Life-Skills-1-1024x512-1.png
ORGANIZER;CN="ILRCC":MAILTO:ed@ilrcc.ab.ca
END:VEVENT
BEGIN:VEVENT
DTSTART;TZID=America/Edmonton:20281123T140000
DTEND;TZID=America/Edmonton:20290210T150000
DTSTAMP:20260422T145034
CREATED:20240101T193831Z
LAST-MODIFIED:20240219T211556Z
UID:10006059-1858600800-1865430000@www.ilrcc.ab.ca
SUMMARY:Thursday Life Skills
DESCRIPTION:Thursdays (2:00 pm – 3:00 pm)\n\n\n12 Weeks ($135.00) Full Session\n\nDrop-in modules (Each $20.00) Pre-Registration Required\n\nContact us for start dates\n\nTopics: \n\n\nCooking Safety\, Rules\, Hygiene\, Meal Preparation (2 Sessions = $40)\n\n\nOn-Line Safety\, Cyber\, Shopping\, Banking\, Social Media (2 Sessions = $40)\n\n\nSchedule Planning (1 Session = $20)\n\n\nBudgeting 101 (2 Sessions = $40)\n\n\nPublic Safety\, Strangers\, Transit Safety\, Self Defense (3 Sessions = $60)\n\n\nTime Management (1 Session = $20)\n\n\nGoal Setting (1 Session = $20)\n\n\n\n\nRegistration
URL:https://www.ilrcc.ab.ca/event/tuesday-life-skills-2-2/2028-11-23/
LOCATION:Alberta
CATEGORIES:LIFE SKILLS
ATTACH;FMTTYPE=image/png:https://www.ilrcc.ab.ca/wp-content/uploads/2023/05/Life-Skills-1-1024x512-1.png
ORGANIZER;CN="ILRCC":MAILTO:ed@ilrcc.ab.ca
END:VEVENT
BEGIN:VEVENT
DTSTART;TZID=America/Edmonton:20281130T140000
DTEND;TZID=America/Edmonton:20290217T150000
DTSTAMP:20260422T145034
CREATED:20240101T193831Z
LAST-MODIFIED:20240219T211556Z
UID:10006060-1859205600-1866034800@www.ilrcc.ab.ca
SUMMARY:Thursday Life Skills
DESCRIPTION:Thursdays (2:00 pm – 3:00 pm)\n\n\n12 Weeks ($135.00) Full Session\n\nDrop-in modules (Each $20.00) Pre-Registration Required\n\nContact us for start dates\n\nTopics: \n\n\nCooking Safety\, Rules\, Hygiene\, Meal Preparation (2 Sessions = $40)\n\n\nOn-Line Safety\, Cyber\, Shopping\, Banking\, Social Media (2 Sessions = $40)\n\n\nSchedule Planning (1 Session = $20)\n\n\nBudgeting 101 (2 Sessions = $40)\n\n\nPublic Safety\, Strangers\, Transit Safety\, Self Defense (3 Sessions = $60)\n\n\nTime Management (1 Session = $20)\n\n\nGoal Setting (1 Session = $20)\n\n\n\n\nRegistration
URL:https://www.ilrcc.ab.ca/event/tuesday-life-skills-2-2/2028-11-30/
LOCATION:Alberta
CATEGORIES:LIFE SKILLS
ATTACH;FMTTYPE=image/png:https://www.ilrcc.ab.ca/wp-content/uploads/2023/05/Life-Skills-1-1024x512-1.png
ORGANIZER;CN="ILRCC":MAILTO:ed@ilrcc.ab.ca
END:VEVENT
BEGIN:VEVENT
DTSTART;TZID=America/Edmonton:20281130T190000
DTEND;TZID=America/Edmonton:20290201T200000
DTSTAMP:20260422T145034
CREATED:20231230T205301Z
LAST-MODIFIED:20240219T212903Z
UID:10005224-1859223600-1864670400@www.ilrcc.ab.ca
SUMMARY:Thursday Dance + Sing Movements
DESCRIPTION:January 4 – March 7\, 2024 \n7:00 pm – 8:00 pm \nILRCC – #134\, 3359 27th St. NE \nThe program runs for 8 weeks for $75. \nCome join the fun for a Karaoke & Zumba evening at ILRCC \nRegistration
URL:https://www.ilrcc.ab.ca/event/thursday-dance-sing-movements-500pm-600pm-2-2/2028-11-30/
LOCATION:Alberta
CATEGORIES:LEARN PROGRAMS
ATTACH;FMTTYPE=image/jpeg:https://www.ilrcc.ab.ca/wp-content/uploads/2023/05/Thursday-Dance-Sing-Movements.jpg
ORGANIZER;CN="ILRCC":MAILTO:ed@ilrcc.ab.ca
END:VEVENT
BEGIN:VEVENT
DTSTART;TZID=America/Edmonton:20281207T140000
DTEND;TZID=America/Edmonton:20290224T150000
DTSTAMP:20260422T145034
CREATED:20240101T193831Z
LAST-MODIFIED:20240219T211556Z
UID:10006061-1859810400-1866639600@www.ilrcc.ab.ca
SUMMARY:Thursday Life Skills
DESCRIPTION:Thursdays (2:00 pm – 3:00 pm)\n\n\n12 Weeks ($135.00) Full Session\n\nDrop-in modules (Each $20.00) Pre-Registration Required\n\nContact us for start dates\n\nTopics: \n\n\nCooking Safety\, Rules\, Hygiene\, Meal Preparation (2 Sessions = $40)\n\n\nOn-Line Safety\, Cyber\, Shopping\, Banking\, Social Media (2 Sessions = $40)\n\n\nSchedule Planning (1 Session = $20)\n\n\nBudgeting 101 (2 Sessions = $40)\n\n\nPublic Safety\, Strangers\, Transit Safety\, Self Defense (3 Sessions = $60)\n\n\nTime Management (1 Session = $20)\n\n\nGoal Setting (1 Session = $20)\n\n\n\n\nRegistration
URL:https://www.ilrcc.ab.ca/event/tuesday-life-skills-2-2/2028-12-07/
LOCATION:Alberta
CATEGORIES:LIFE SKILLS
ATTACH;FMTTYPE=image/png:https://www.ilrcc.ab.ca/wp-content/uploads/2023/05/Life-Skills-1-1024x512-1.png
ORGANIZER;CN="ILRCC":MAILTO:ed@ilrcc.ab.ca
END:VEVENT
BEGIN:VEVENT
DTSTART;TZID=America/Edmonton:20281207T190000
DTEND;TZID=America/Edmonton:20290208T200000
DTSTAMP:20260422T145034
CREATED:20231230T205301Z
LAST-MODIFIED:20240219T212903Z
UID:10005225-1859828400-1865275200@www.ilrcc.ab.ca
SUMMARY:Thursday Dance + Sing Movements
DESCRIPTION:January 4 – March 7\, 2024 \n7:00 pm – 8:00 pm \nILRCC – #134\, 3359 27th St. NE \nThe program runs for 8 weeks for $75. \nCome join the fun for a Karaoke & Zumba evening at ILRCC \nRegistration
URL:https://www.ilrcc.ab.ca/event/thursday-dance-sing-movements-500pm-600pm-2-2/2028-12-07/
LOCATION:Alberta
CATEGORIES:LEARN PROGRAMS
ATTACH;FMTTYPE=image/jpeg:https://www.ilrcc.ab.ca/wp-content/uploads/2023/05/Thursday-Dance-Sing-Movements.jpg
ORGANIZER;CN="ILRCC":MAILTO:ed@ilrcc.ab.ca
END:VEVENT
BEGIN:VEVENT
DTSTART;TZID=America/Edmonton:20281214T140000
DTEND;TZID=America/Edmonton:20290303T150000
DTSTAMP:20260422T145034
CREATED:20240101T193831Z
LAST-MODIFIED:20240219T211556Z
UID:10006062-1860415200-1867244400@www.ilrcc.ab.ca
SUMMARY:Thursday Life Skills
DESCRIPTION:Thursdays (2:00 pm – 3:00 pm)\n\n\n12 Weeks ($135.00) Full Session\n\nDrop-in modules (Each $20.00) Pre-Registration Required\n\nContact us for start dates\n\nTopics: \n\n\nCooking Safety\, Rules\, Hygiene\, Meal Preparation (2 Sessions = $40)\n\n\nOn-Line Safety\, Cyber\, Shopping\, Banking\, Social Media (2 Sessions = $40)\n\n\nSchedule Planning (1 Session = $20)\n\n\nBudgeting 101 (2 Sessions = $40)\n\n\nPublic Safety\, Strangers\, Transit Safety\, Self Defense (3 Sessions = $60)\n\n\nTime Management (1 Session = $20)\n\n\nGoal Setting (1 Session = $20)\n\n\n\n\nRegistration
URL:https://www.ilrcc.ab.ca/event/tuesday-life-skills-2-2/2028-12-14/
LOCATION:Alberta
CATEGORIES:LIFE SKILLS
ATTACH;FMTTYPE=image/png:https://www.ilrcc.ab.ca/wp-content/uploads/2023/05/Life-Skills-1-1024x512-1.png
ORGANIZER;CN="ILRCC":MAILTO:ed@ilrcc.ab.ca
END:VEVENT
BEGIN:VEVENT
DTSTART;TZID=America/Edmonton:20281214T190000
DTEND;TZID=America/Edmonton:20290215T200000
DTSTAMP:20260422T145034
CREATED:20231230T205301Z
LAST-MODIFIED:20240219T212903Z
UID:10005226-1860433200-1865880000@www.ilrcc.ab.ca
SUMMARY:Thursday Dance + Sing Movements
DESCRIPTION:January 4 – March 7\, 2024 \n7:00 pm – 8:00 pm \nILRCC – #134\, 3359 27th St. NE \nThe program runs for 8 weeks for $75. \nCome join the fun for a Karaoke & Zumba evening at ILRCC \nRegistration
URL:https://www.ilrcc.ab.ca/event/thursday-dance-sing-movements-500pm-600pm-2-2/2028-12-14/
LOCATION:Alberta
CATEGORIES:LEARN PROGRAMS
ATTACH;FMTTYPE=image/jpeg:https://www.ilrcc.ab.ca/wp-content/uploads/2023/05/Thursday-Dance-Sing-Movements.jpg
ORGANIZER;CN="ILRCC":MAILTO:ed@ilrcc.ab.ca
END:VEVENT
BEGIN:VEVENT
DTSTART;TZID=America/Edmonton:20281219T113000
DTEND;TZID=America/Edmonton:20290206T113000
DTSTAMP:20260422T145034
CREATED:20230704T194641Z
LAST-MODIFIED:20240219T213122Z
UID:10004782-1860838200-1865071800@www.ilrcc.ab.ca
SUMMARY:Tuesday Music + Movement
DESCRIPTION:Feb 27 – April 16\, 2024 \n11:30 pm – 12:30 pm \nILRCC – #134\, 3359 27th St. NE \nThe program runs for 8 weeks for $75. \nMusic Therapy \n  \nPlay\, Move\, and Express yourself through interactive Music and Movement. \nEnjoy games\, songs\, rhythm & beats as we make beautiful noise together! \nRegistration
URL:https://www.ilrcc.ab.ca/event/tuesday-music-movement-2/2028-12-19/
LOCATION:Alberta
CATEGORIES:LEARN PROGRAMS
ORGANIZER;CN="ILRCC":MAILTO:ed@ilrcc.ab.ca
END:VEVENT
BEGIN:VEVENT
DTSTART;TZID=America/Edmonton:20281221T140000
DTEND;TZID=America/Edmonton:20290310T150000
DTSTAMP:20260422T145034
CREATED:20240101T193831Z
LAST-MODIFIED:20240219T211556Z
UID:10006063-1861020000-1867849200@www.ilrcc.ab.ca
SUMMARY:Thursday Life Skills
DESCRIPTION:Thursdays (2:00 pm – 3:00 pm)\n\n\n12 Weeks ($135.00) Full Session\n\nDrop-in modules (Each $20.00) Pre-Registration Required\n\nContact us for start dates\n\nTopics: \n\n\nCooking Safety\, Rules\, Hygiene\, Meal Preparation (2 Sessions = $40)\n\n\nOn-Line Safety\, Cyber\, Shopping\, Banking\, Social Media (2 Sessions = $40)\n\n\nSchedule Planning (1 Session = $20)\n\n\nBudgeting 101 (2 Sessions = $40)\n\n\nPublic Safety\, Strangers\, Transit Safety\, Self Defense (3 Sessions = $60)\n\n\nTime Management (1 Session = $20)\n\n\nGoal Setting (1 Session = $20)\n\n\n\n\nRegistration
URL:https://www.ilrcc.ab.ca/event/tuesday-life-skills-2-2/2028-12-21/
LOCATION:Alberta
CATEGORIES:LIFE SKILLS
ATTACH;FMTTYPE=image/png:https://www.ilrcc.ab.ca/wp-content/uploads/2023/05/Life-Skills-1-1024x512-1.png
ORGANIZER;CN="ILRCC":MAILTO:ed@ilrcc.ab.ca
END:VEVENT
BEGIN:VEVENT
DTSTART;TZID=America/Edmonton:20281221T190000
DTEND;TZID=America/Edmonton:20290222T200000
DTSTAMP:20260422T145034
CREATED:20231230T205301Z
LAST-MODIFIED:20240219T212903Z
UID:10005227-1861038000-1866484800@www.ilrcc.ab.ca
SUMMARY:Thursday Dance + Sing Movements
DESCRIPTION:January 4 – March 7\, 2024 \n7:00 pm – 8:00 pm \nILRCC – #134\, 3359 27th St. NE \nThe program runs for 8 weeks for $75. \nCome join the fun for a Karaoke & Zumba evening at ILRCC \nRegistration
URL:https://www.ilrcc.ab.ca/event/thursday-dance-sing-movements-500pm-600pm-2-2/2028-12-21/
LOCATION:Alberta
CATEGORIES:LEARN PROGRAMS
ATTACH;FMTTYPE=image/jpeg:https://www.ilrcc.ab.ca/wp-content/uploads/2023/05/Thursday-Dance-Sing-Movements.jpg
ORGANIZER;CN="ILRCC":MAILTO:ed@ilrcc.ab.ca
END:VEVENT
BEGIN:VEVENT
DTSTART;TZID=America/Edmonton:20281226T113000
DTEND;TZID=America/Edmonton:20290213T113000
DTSTAMP:20260422T145034
CREATED:20230704T194641Z
LAST-MODIFIED:20240219T213122Z
UID:10004783-1861443000-1865676600@www.ilrcc.ab.ca
SUMMARY:Tuesday Music + Movement
DESCRIPTION:Feb 27 – April 16\, 2024 \n11:30 pm – 12:30 pm \nILRCC – #134\, 3359 27th St. NE \nThe program runs for 8 weeks for $75. \nMusic Therapy \n  \nPlay\, Move\, and Express yourself through interactive Music and Movement. \nEnjoy games\, songs\, rhythm & beats as we make beautiful noise together! \nRegistration
URL:https://www.ilrcc.ab.ca/event/tuesday-music-movement-2/2028-12-26/
LOCATION:Alberta
CATEGORIES:LEARN PROGRAMS
ORGANIZER;CN="ILRCC":MAILTO:ed@ilrcc.ab.ca
END:VEVENT
BEGIN:VEVENT
DTSTART;TZID=America/Edmonton:20281228T140000
DTEND;TZID=America/Edmonton:20290317T150000
DTSTAMP:20260422T145034
CREATED:20240101T193831Z
LAST-MODIFIED:20240219T211556Z
UID:10006064-1861624800-1868454000@www.ilrcc.ab.ca
SUMMARY:Thursday Life Skills
DESCRIPTION:Thursdays (2:00 pm – 3:00 pm)\n\n\n12 Weeks ($135.00) Full Session\n\nDrop-in modules (Each $20.00) Pre-Registration Required\n\nContact us for start dates\n\nTopics: \n\n\nCooking Safety\, Rules\, Hygiene\, Meal Preparation (2 Sessions = $40)\n\n\nOn-Line Safety\, Cyber\, Shopping\, Banking\, Social Media (2 Sessions = $40)\n\n\nSchedule Planning (1 Session = $20)\n\n\nBudgeting 101 (2 Sessions = $40)\n\n\nPublic Safety\, Strangers\, Transit Safety\, Self Defense (3 Sessions = $60)\n\n\nTime Management (1 Session = $20)\n\n\nGoal Setting (1 Session = $20)\n\n\n\n\nRegistration
URL:https://www.ilrcc.ab.ca/event/tuesday-life-skills-2-2/2028-12-28/
LOCATION:Alberta
CATEGORIES:LIFE SKILLS
ATTACH;FMTTYPE=image/png:https://www.ilrcc.ab.ca/wp-content/uploads/2023/05/Life-Skills-1-1024x512-1.png
ORGANIZER;CN="ILRCC":MAILTO:ed@ilrcc.ab.ca
END:VEVENT
BEGIN:VEVENT
DTSTART;TZID=America/Edmonton:20281228T190000
DTEND;TZID=America/Edmonton:20290301T200000
DTSTAMP:20260422T145034
CREATED:20231230T205301Z
LAST-MODIFIED:20240219T212903Z
UID:10005228-1861642800-1867089600@www.ilrcc.ab.ca
SUMMARY:Thursday Dance + Sing Movements
DESCRIPTION:January 4 – March 7\, 2024 \n7:00 pm – 8:00 pm \nILRCC – #134\, 3359 27th St. NE \nThe program runs for 8 weeks for $75. \nCome join the fun for a Karaoke & Zumba evening at ILRCC \nRegistration
URL:https://www.ilrcc.ab.ca/event/thursday-dance-sing-movements-500pm-600pm-2-2/2028-12-28/
LOCATION:Alberta
CATEGORIES:LEARN PROGRAMS
ATTACH;FMTTYPE=image/jpeg:https://www.ilrcc.ab.ca/wp-content/uploads/2023/05/Thursday-Dance-Sing-Movements.jpg
ORGANIZER;CN="ILRCC":MAILTO:ed@ilrcc.ab.ca
END:VEVENT
BEGIN:VEVENT
DTSTART;TZID=America/Edmonton:20290102T113000
DTEND;TZID=America/Edmonton:20290220T113000
DTSTAMP:20260422T145034
CREATED:20230704T194641Z
LAST-MODIFIED:20240219T213122Z
UID:10004784-1862047800-1866281400@www.ilrcc.ab.ca
SUMMARY:Tuesday Music + Movement
DESCRIPTION:Feb 27 – April 16\, 2024 \n11:30 pm – 12:30 pm \nILRCC – #134\, 3359 27th St. NE \nThe program runs for 8 weeks for $75. \nMusic Therapy \n  \nPlay\, Move\, and Express yourself through interactive Music and Movement. \nEnjoy games\, songs\, rhythm & beats as we make beautiful noise together! \nRegistration
URL:https://www.ilrcc.ab.ca/event/tuesday-music-movement-2/2029-01-02/
LOCATION:Alberta
CATEGORIES:LEARN PROGRAMS
ORGANIZER;CN="ILRCC":MAILTO:ed@ilrcc.ab.ca
END:VEVENT
BEGIN:VEVENT
DTSTART;TZID=America/Edmonton:20290104T140000
DTEND;TZID=America/Edmonton:20290324T150000
DTSTAMP:20260422T145034
CREATED:20240101T193831Z
LAST-MODIFIED:20240219T211556Z
UID:10006065-1862229600-1869058800@www.ilrcc.ab.ca
SUMMARY:Thursday Life Skills
DESCRIPTION:Thursdays (2:00 pm – 3:00 pm)\n\n\n12 Weeks ($135.00) Full Session\n\nDrop-in modules (Each $20.00) Pre-Registration Required\n\nContact us for start dates\n\nTopics: \n\n\nCooking Safety\, Rules\, Hygiene\, Meal Preparation (2 Sessions = $40)\n\n\nOn-Line Safety\, Cyber\, Shopping\, Banking\, Social Media (2 Sessions = $40)\n\n\nSchedule Planning (1 Session = $20)\n\n\nBudgeting 101 (2 Sessions = $40)\n\n\nPublic Safety\, Strangers\, Transit Safety\, Self Defense (3 Sessions = $60)\n\n\nTime Management (1 Session = $20)\n\n\nGoal Setting (1 Session = $20)\n\n\n\n\nRegistration
URL:https://www.ilrcc.ab.ca/event/tuesday-life-skills-2-2/2029-01-04/
LOCATION:Alberta
CATEGORIES:LIFE SKILLS
ATTACH;FMTTYPE=image/png:https://www.ilrcc.ab.ca/wp-content/uploads/2023/05/Life-Skills-1-1024x512-1.png
ORGANIZER;CN="ILRCC":MAILTO:ed@ilrcc.ab.ca
END:VEVENT
BEGIN:VEVENT
DTSTART;TZID=America/Edmonton:20290104T190000
DTEND;TZID=America/Edmonton:20290308T200000
DTSTAMP:20260422T145034
CREATED:20231230T205301Z
LAST-MODIFIED:20240219T212903Z
UID:10005229-1862247600-1867694400@www.ilrcc.ab.ca
SUMMARY:Thursday Dance + Sing Movements
DESCRIPTION:January 4 – March 7\, 2024 \n7:00 pm – 8:00 pm \nILRCC – #134\, 3359 27th St. NE \nThe program runs for 8 weeks for $75. \nCome join the fun for a Karaoke & Zumba evening at ILRCC \nRegistration
URL:https://www.ilrcc.ab.ca/event/thursday-dance-sing-movements-500pm-600pm-2-2/2029-01-04/
LOCATION:Alberta
CATEGORIES:LEARN PROGRAMS
ATTACH;FMTTYPE=image/jpeg:https://www.ilrcc.ab.ca/wp-content/uploads/2023/05/Thursday-Dance-Sing-Movements.jpg
ORGANIZER;CN="ILRCC":MAILTO:ed@ilrcc.ab.ca
END:VEVENT
BEGIN:VEVENT
DTSTART;TZID=America/Edmonton:20290109T113000
DTEND;TZID=America/Edmonton:20290227T113000
DTSTAMP:20260422T145034
CREATED:20230704T194641Z
LAST-MODIFIED:20240219T213122Z
UID:10004785-1862652600-1866886200@www.ilrcc.ab.ca
SUMMARY:Tuesday Music + Movement
DESCRIPTION:Feb 27 – April 16\, 2024 \n11:30 pm – 12:30 pm \nILRCC – #134\, 3359 27th St. NE \nThe program runs for 8 weeks for $75. \nMusic Therapy \n  \nPlay\, Move\, and Express yourself through interactive Music and Movement. \nEnjoy games\, songs\, rhythm & beats as we make beautiful noise together! \nRegistration
URL:https://www.ilrcc.ab.ca/event/tuesday-music-movement-2/2029-01-09/
LOCATION:Alberta
CATEGORIES:LEARN PROGRAMS
ORGANIZER;CN="ILRCC":MAILTO:ed@ilrcc.ab.ca
END:VEVENT
BEGIN:VEVENT
DTSTART;TZID=America/Edmonton:20290111T140000
DTEND;TZID=America/Edmonton:20290331T150000
DTSTAMP:20260422T145034
CREATED:20240101T193831Z
LAST-MODIFIED:20240219T211556Z
UID:10006066-1862834400-1869663600@www.ilrcc.ab.ca
SUMMARY:Thursday Life Skills
DESCRIPTION:Thursdays (2:00 pm – 3:00 pm)\n\n\n12 Weeks ($135.00) Full Session\n\nDrop-in modules (Each $20.00) Pre-Registration Required\n\nContact us for start dates\n\nTopics: \n\n\nCooking Safety\, Rules\, Hygiene\, Meal Preparation (2 Sessions = $40)\n\n\nOn-Line Safety\, Cyber\, Shopping\, Banking\, Social Media (2 Sessions = $40)\n\n\nSchedule Planning (1 Session = $20)\n\n\nBudgeting 101 (2 Sessions = $40)\n\n\nPublic Safety\, Strangers\, Transit Safety\, Self Defense (3 Sessions = $60)\n\n\nTime Management (1 Session = $20)\n\n\nGoal Setting (1 Session = $20)\n\n\n\n\nRegistration
URL:https://www.ilrcc.ab.ca/event/tuesday-life-skills-2-2/2029-01-11/
LOCATION:Alberta
CATEGORIES:LIFE SKILLS
ATTACH;FMTTYPE=image/png:https://www.ilrcc.ab.ca/wp-content/uploads/2023/05/Life-Skills-1-1024x512-1.png
ORGANIZER;CN="ILRCC":MAILTO:ed@ilrcc.ab.ca
END:VEVENT
BEGIN:VEVENT
DTSTART;TZID=America/Edmonton:20290111T190000
DTEND;TZID=America/Edmonton:20290315T200000
DTSTAMP:20260422T145034
CREATED:20231230T205301Z
LAST-MODIFIED:20240219T212903Z
UID:10005230-1862852400-1868299200@www.ilrcc.ab.ca
SUMMARY:Thursday Dance + Sing Movements
DESCRIPTION:January 4 – March 7\, 2024 \n7:00 pm – 8:00 pm \nILRCC – #134\, 3359 27th St. NE \nThe program runs for 8 weeks for $75. \nCome join the fun for a Karaoke & Zumba evening at ILRCC \nRegistration
URL:https://www.ilrcc.ab.ca/event/thursday-dance-sing-movements-500pm-600pm-2-2/2029-01-11/
LOCATION:Alberta
CATEGORIES:LEARN PROGRAMS
ATTACH;FMTTYPE=image/jpeg:https://www.ilrcc.ab.ca/wp-content/uploads/2023/05/Thursday-Dance-Sing-Movements.jpg
ORGANIZER;CN="ILRCC":MAILTO:ed@ilrcc.ab.ca
END:VEVENT
BEGIN:VEVENT
DTSTART;TZID=America/Edmonton:20290116T113000
DTEND;TZID=America/Edmonton:20290306T113000
DTSTAMP:20260422T145034
CREATED:20230704T194641Z
LAST-MODIFIED:20240219T213122Z
UID:10004786-1863257400-1867491000@www.ilrcc.ab.ca
SUMMARY:Tuesday Music + Movement
DESCRIPTION:Feb 27 – April 16\, 2024 \n11:30 pm – 12:30 pm \nILRCC – #134\, 3359 27th St. NE \nThe program runs for 8 weeks for $75. \nMusic Therapy \n  \nPlay\, Move\, and Express yourself through interactive Music and Movement. \nEnjoy games\, songs\, rhythm & beats as we make beautiful noise together! \nRegistration
URL:https://www.ilrcc.ab.ca/event/tuesday-music-movement-2/2029-01-16/
LOCATION:Alberta
CATEGORIES:LEARN PROGRAMS
ORGANIZER;CN="ILRCC":MAILTO:ed@ilrcc.ab.ca
END:VEVENT
BEGIN:VEVENT
DTSTART;TZID=America/Edmonton:20290118T140000
DTEND;TZID=America/Edmonton:20290407T150000
DTSTAMP:20260422T145034
CREATED:20240101T193831Z
LAST-MODIFIED:20240219T211556Z
UID:10006067-1863439200-1870268400@www.ilrcc.ab.ca
SUMMARY:Thursday Life Skills
DESCRIPTION:Thursdays (2:00 pm – 3:00 pm)\n\n\n12 Weeks ($135.00) Full Session\n\nDrop-in modules (Each $20.00) Pre-Registration Required\n\nContact us for start dates\n\nTopics: \n\n\nCooking Safety\, Rules\, Hygiene\, Meal Preparation (2 Sessions = $40)\n\n\nOn-Line Safety\, Cyber\, Shopping\, Banking\, Social Media (2 Sessions = $40)\n\n\nSchedule Planning (1 Session = $20)\n\n\nBudgeting 101 (2 Sessions = $40)\n\n\nPublic Safety\, Strangers\, Transit Safety\, Self Defense (3 Sessions = $60)\n\n\nTime Management (1 Session = $20)\n\n\nGoal Setting (1 Session = $20)\n\n\n\n\nRegistration
URL:https://www.ilrcc.ab.ca/event/tuesday-life-skills-2-2/2029-01-18/
LOCATION:Alberta
CATEGORIES:LIFE SKILLS
ATTACH;FMTTYPE=image/png:https://www.ilrcc.ab.ca/wp-content/uploads/2023/05/Life-Skills-1-1024x512-1.png
ORGANIZER;CN="ILRCC":MAILTO:ed@ilrcc.ab.ca
END:VEVENT
BEGIN:VEVENT
DTSTART;TZID=America/Edmonton:20290118T190000
DTEND;TZID=America/Edmonton:20290322T200000
DTSTAMP:20260422T145034
CREATED:20231230T205301Z
LAST-MODIFIED:20240219T212903Z
UID:10005231-1863457200-1868904000@www.ilrcc.ab.ca
SUMMARY:Thursday Dance + Sing Movements
DESCRIPTION:January 4 – March 7\, 2024 \n7:00 pm – 8:00 pm \nILRCC – #134\, 3359 27th St. NE \nThe program runs for 8 weeks for $75. \nCome join the fun for a Karaoke & Zumba evening at ILRCC \nRegistration
URL:https://www.ilrcc.ab.ca/event/thursday-dance-sing-movements-500pm-600pm-2-2/2029-01-18/
LOCATION:Alberta
CATEGORIES:LEARN PROGRAMS
ATTACH;FMTTYPE=image/jpeg:https://www.ilrcc.ab.ca/wp-content/uploads/2023/05/Thursday-Dance-Sing-Movements.jpg
ORGANIZER;CN="ILRCC":MAILTO:ed@ilrcc.ab.ca
END:VEVENT
BEGIN:VEVENT
DTSTART;TZID=America/Edmonton:20290123T113000
DTEND;TZID=America/Edmonton:20290313T113000
DTSTAMP:20260422T145034
CREATED:20230704T194641Z
LAST-MODIFIED:20240219T213122Z
UID:10004787-1863862200-1868095800@www.ilrcc.ab.ca
SUMMARY:Tuesday Music + Movement
DESCRIPTION:Feb 27 – April 16\, 2024 \n11:30 pm – 12:30 pm \nILRCC – #134\, 3359 27th St. NE \nThe program runs for 8 weeks for $75. \nMusic Therapy \n  \nPlay\, Move\, and Express yourself through interactive Music and Movement. \nEnjoy games\, songs\, rhythm & beats as we make beautiful noise together! \nRegistration
URL:https://www.ilrcc.ab.ca/event/tuesday-music-movement-2/2029-01-23/
LOCATION:Alberta
CATEGORIES:LEARN PROGRAMS
ORGANIZER;CN="ILRCC":MAILTO:ed@ilrcc.ab.ca
END:VEVENT
BEGIN:VEVENT
DTSTART;TZID=America/Edmonton:20290125T140000
DTEND;TZID=America/Edmonton:20290414T150000
DTSTAMP:20260422T145034
CREATED:20240101T193831Z
LAST-MODIFIED:20240219T211556Z
UID:10006068-1864044000-1870873200@www.ilrcc.ab.ca
SUMMARY:Thursday Life Skills
DESCRIPTION:Thursdays (2:00 pm – 3:00 pm)\n\n\n12 Weeks ($135.00) Full Session\n\nDrop-in modules (Each $20.00) Pre-Registration Required\n\nContact us for start dates\n\nTopics: \n\n\nCooking Safety\, Rules\, Hygiene\, Meal Preparation (2 Sessions = $40)\n\n\nOn-Line Safety\, Cyber\, Shopping\, Banking\, Social Media (2 Sessions = $40)\n\n\nSchedule Planning (1 Session = $20)\n\n\nBudgeting 101 (2 Sessions = $40)\n\n\nPublic Safety\, Strangers\, Transit Safety\, Self Defense (3 Sessions = $60)\n\n\nTime Management (1 Session = $20)\n\n\nGoal Setting (1 Session = $20)\n\n\n\n\nRegistration
URL:https://www.ilrcc.ab.ca/event/tuesday-life-skills-2-2/2029-01-25/
LOCATION:Alberta
CATEGORIES:LIFE SKILLS
ATTACH;FMTTYPE=image/png:https://www.ilrcc.ab.ca/wp-content/uploads/2023/05/Life-Skills-1-1024x512-1.png
ORGANIZER;CN="ILRCC":MAILTO:ed@ilrcc.ab.ca
END:VEVENT
BEGIN:VEVENT
DTSTART;TZID=America/Edmonton:20290125T190000
DTEND;TZID=America/Edmonton:20290329T200000
DTSTAMP:20260422T145034
CREATED:20231230T205301Z
LAST-MODIFIED:20240219T212903Z
UID:10005232-1864062000-1869508800@www.ilrcc.ab.ca
SUMMARY:Thursday Dance + Sing Movements
DESCRIPTION:January 4 – March 7\, 2024 \n7:00 pm – 8:00 pm \nILRCC – #134\, 3359 27th St. NE \nThe program runs for 8 weeks for $75. \nCome join the fun for a Karaoke & Zumba evening at ILRCC \nRegistration
URL:https://www.ilrcc.ab.ca/event/thursday-dance-sing-movements-500pm-600pm-2-2/2029-01-25/
LOCATION:Alberta
CATEGORIES:LEARN PROGRAMS
ATTACH;FMTTYPE=image/jpeg:https://www.ilrcc.ab.ca/wp-content/uploads/2023/05/Thursday-Dance-Sing-Movements.jpg
ORGANIZER;CN="ILRCC":MAILTO:ed@ilrcc.ab.ca
END:VEVENT
BEGIN:VEVENT
DTSTART;TZID=America/Edmonton:20290130T113000
DTEND;TZID=America/Edmonton:20290320T113000
DTSTAMP:20260422T145034
CREATED:20230704T194641Z
LAST-MODIFIED:20240219T213122Z
UID:10004788-1864467000-1868700600@www.ilrcc.ab.ca
SUMMARY:Tuesday Music + Movement
DESCRIPTION:Feb 27 – April 16\, 2024 \n11:30 pm – 12:30 pm \nILRCC – #134\, 3359 27th St. NE \nThe program runs for 8 weeks for $75. \nMusic Therapy \n  \nPlay\, Move\, and Express yourself through interactive Music and Movement. \nEnjoy games\, songs\, rhythm & beats as we make beautiful noise together! \nRegistration
URL:https://www.ilrcc.ab.ca/event/tuesday-music-movement-2/2029-01-30/
LOCATION:Alberta
CATEGORIES:LEARN PROGRAMS
ORGANIZER;CN="ILRCC":MAILTO:ed@ilrcc.ab.ca
END:VEVENT
BEGIN:VEVENT
DTSTART;TZID=America/Edmonton:20290201T140000
DTEND;TZID=America/Edmonton:20290421T150000
DTSTAMP:20260422T145034
CREATED:20240101T193831Z
LAST-MODIFIED:20240219T211556Z
UID:10006069-1864648800-1871478000@www.ilrcc.ab.ca
SUMMARY:Thursday Life Skills
DESCRIPTION:Thursdays (2:00 pm – 3:00 pm)\n\n\n12 Weeks ($135.00) Full Session\n\nDrop-in modules (Each $20.00) Pre-Registration Required\n\nContact us for start dates\n\nTopics: \n\n\nCooking Safety\, Rules\, Hygiene\, Meal Preparation (2 Sessions = $40)\n\n\nOn-Line Safety\, Cyber\, Shopping\, Banking\, Social Media (2 Sessions = $40)\n\n\nSchedule Planning (1 Session = $20)\n\n\nBudgeting 101 (2 Sessions = $40)\n\n\nPublic Safety\, Strangers\, Transit Safety\, Self Defense (3 Sessions = $60)\n\n\nTime Management (1 Session = $20)\n\n\nGoal Setting (1 Session = $20)\n\n\n\n\nRegistration
URL:https://www.ilrcc.ab.ca/event/tuesday-life-skills-2-2/2029-02-01/
LOCATION:Alberta
CATEGORIES:LIFE SKILLS
ATTACH;FMTTYPE=image/png:https://www.ilrcc.ab.ca/wp-content/uploads/2023/05/Life-Skills-1-1024x512-1.png
ORGANIZER;CN="ILRCC":MAILTO:ed@ilrcc.ab.ca
END:VEVENT
BEGIN:VEVENT
DTSTART;TZID=America/Edmonton:20290201T190000
DTEND;TZID=America/Edmonton:20290405T200000
DTSTAMP:20260422T145034
CREATED:20231230T205301Z
LAST-MODIFIED:20240219T212903Z
UID:10005233-1864666800-1870113600@www.ilrcc.ab.ca
SUMMARY:Thursday Dance + Sing Movements
DESCRIPTION:January 4 – March 7\, 2024 \n7:00 pm – 8:00 pm \nILRCC – #134\, 3359 27th St. NE \nThe program runs for 8 weeks for $75. \nCome join the fun for a Karaoke & Zumba evening at ILRCC \nRegistration
URL:https://www.ilrcc.ab.ca/event/thursday-dance-sing-movements-500pm-600pm-2-2/2029-02-01/
LOCATION:Alberta
CATEGORIES:LEARN PROGRAMS
ATTACH;FMTTYPE=image/jpeg:https://www.ilrcc.ab.ca/wp-content/uploads/2023/05/Thursday-Dance-Sing-Movements.jpg
ORGANIZER;CN="ILRCC":MAILTO:ed@ilrcc.ab.ca
END:VEVENT
BEGIN:VEVENT
DTSTART;TZID=America/Edmonton:20290206T113000
DTEND;TZID=America/Edmonton:20290327T113000
DTSTAMP:20260422T145034
CREATED:20230704T194641Z
LAST-MODIFIED:20240219T213122Z
UID:10004789-1865071800-1869305400@www.ilrcc.ab.ca
SUMMARY:Tuesday Music + Movement
DESCRIPTION:Feb 27 – April 16\, 2024 \n11:30 pm – 12:30 pm \nILRCC – #134\, 3359 27th St. NE \nThe program runs for 8 weeks for $75. \nMusic Therapy \n  \nPlay\, Move\, and Express yourself through interactive Music and Movement. \nEnjoy games\, songs\, rhythm & beats as we make beautiful noise together! \nRegistration
URL:https://www.ilrcc.ab.ca/event/tuesday-music-movement-2/2029-02-06/
LOCATION:Alberta
CATEGORIES:LEARN PROGRAMS
ORGANIZER;CN="ILRCC":MAILTO:ed@ilrcc.ab.ca
END:VEVENT
END:VCALENDAR