BEGIN:VCALENDAR
VERSION:2.0
PRODID:-//ILRCC - ECPv6.15.20//NONSGML v1.0//EN
CALSCALE:GREGORIAN
METHOD:PUBLISH
X-ORIGINAL-URL:https://www.ilrcc.ab.ca
X-WR-CALDESC:Events for ILRCC
REFRESH-INTERVAL;VALUE=DURATION:PT1H
X-Robots-Tag:noindex
X-PUBLISHED-TTL:PT1H
BEGIN:VTIMEZONE
TZID:America/Edmonton
BEGIN:DAYLIGHT
TZOFFSETFROM:-0700
TZOFFSETTO:-0600
TZNAME:MDT
DTSTART:20280312T090000
END:DAYLIGHT
BEGIN:STANDARD
TZOFFSETFROM:-0600
TZOFFSETTO:-0700
TZNAME:MST
DTSTART:20281105T080000
END:STANDARD
BEGIN:DAYLIGHT
TZOFFSETFROM:-0700
TZOFFSETTO:-0600
TZNAME:MDT
DTSTART:20290311T090000
END:DAYLIGHT
BEGIN:STANDARD
TZOFFSETFROM:-0600
TZOFFSETTO:-0700
TZNAME:MST
DTSTART:20291104T080000
END:STANDARD
BEGIN:DAYLIGHT
TZOFFSETFROM:-0700
TZOFFSETTO:-0600
TZNAME:MDT
DTSTART:20300310T090000
END:DAYLIGHT
BEGIN:STANDARD
TZOFFSETFROM:-0600
TZOFFSETTO:-0700
TZNAME:MST
DTSTART:20301103T080000
END:STANDARD
END:VTIMEZONE
BEGIN:VEVENT
DTSTART;TZID=America/Edmonton:20290215T140000
DTEND;TZID=America/Edmonton:20290505T150000
DTSTAMP:20260422T191913
CREATED:20240101T193831Z
LAST-MODIFIED:20240219T211556Z
UID:10006071-1865858400-1872687600@www.ilrcc.ab.ca
SUMMARY:Thursday Life Skills
DESCRIPTION:Thursdays (2:00 pm – 3:00 pm)\n\n\n12 Weeks ($135.00) Full Session\n\nDrop-in modules (Each $20.00) Pre-Registration Required\n\nContact us for start dates\n\nTopics: \n\n\nCooking Safety\, Rules\, Hygiene\, Meal Preparation (2 Sessions = $40)\n\n\nOn-Line Safety\, Cyber\, Shopping\, Banking\, Social Media (2 Sessions = $40)\n\n\nSchedule Planning (1 Session = $20)\n\n\nBudgeting 101 (2 Sessions = $40)\n\n\nPublic Safety\, Strangers\, Transit Safety\, Self Defense (3 Sessions = $60)\n\n\nTime Management (1 Session = $20)\n\n\nGoal Setting (1 Session = $20)\n\n\n\n\nRegistration
URL:https://www.ilrcc.ab.ca/event/tuesday-life-skills-2-2/2029-02-15/
LOCATION:Alberta
CATEGORIES:LIFE SKILLS
ATTACH;FMTTYPE=image/png:https://www.ilrcc.ab.ca/wp-content/uploads/2023/05/Life-Skills-1-1024x512-1.png
ORGANIZER;CN="ILRCC":MAILTO:ed@ilrcc.ab.ca
END:VEVENT
BEGIN:VEVENT
DTSTART;TZID=America/Edmonton:20290222T140000
DTEND;TZID=America/Edmonton:20290512T150000
DTSTAMP:20260422T191913
CREATED:20240101T193831Z
LAST-MODIFIED:20240219T211556Z
UID:10006072-1866463200-1873292400@www.ilrcc.ab.ca
SUMMARY:Thursday Life Skills
DESCRIPTION:Thursdays (2:00 pm – 3:00 pm)\n\n\n12 Weeks ($135.00) Full Session\n\nDrop-in modules (Each $20.00) Pre-Registration Required\n\nContact us for start dates\n\nTopics: \n\n\nCooking Safety\, Rules\, Hygiene\, Meal Preparation (2 Sessions = $40)\n\n\nOn-Line Safety\, Cyber\, Shopping\, Banking\, Social Media (2 Sessions = $40)\n\n\nSchedule Planning (1 Session = $20)\n\n\nBudgeting 101 (2 Sessions = $40)\n\n\nPublic Safety\, Strangers\, Transit Safety\, Self Defense (3 Sessions = $60)\n\n\nTime Management (1 Session = $20)\n\n\nGoal Setting (1 Session = $20)\n\n\n\n\nRegistration
URL:https://www.ilrcc.ab.ca/event/tuesday-life-skills-2-2/2029-02-22/
LOCATION:Alberta
CATEGORIES:LIFE SKILLS
ATTACH;FMTTYPE=image/png:https://www.ilrcc.ab.ca/wp-content/uploads/2023/05/Life-Skills-1-1024x512-1.png
ORGANIZER;CN="ILRCC":MAILTO:ed@ilrcc.ab.ca
END:VEVENT
BEGIN:VEVENT
DTSTART;TZID=America/Edmonton:20290301T140000
DTEND;TZID=America/Edmonton:20290519T150000
DTSTAMP:20260422T191913
CREATED:20240101T193831Z
LAST-MODIFIED:20240219T211556Z
UID:10006073-1867068000-1873897200@www.ilrcc.ab.ca
SUMMARY:Thursday Life Skills
DESCRIPTION:Thursdays (2:00 pm – 3:00 pm)\n\n\n12 Weeks ($135.00) Full Session\n\nDrop-in modules (Each $20.00) Pre-Registration Required\n\nContact us for start dates\n\nTopics: \n\n\nCooking Safety\, Rules\, Hygiene\, Meal Preparation (2 Sessions = $40)\n\n\nOn-Line Safety\, Cyber\, Shopping\, Banking\, Social Media (2 Sessions = $40)\n\n\nSchedule Planning (1 Session = $20)\n\n\nBudgeting 101 (2 Sessions = $40)\n\n\nPublic Safety\, Strangers\, Transit Safety\, Self Defense (3 Sessions = $60)\n\n\nTime Management (1 Session = $20)\n\n\nGoal Setting (1 Session = $20)\n\n\n\n\nRegistration
URL:https://www.ilrcc.ab.ca/event/tuesday-life-skills-2-2/2029-03-01/
LOCATION:Alberta
CATEGORIES:LIFE SKILLS
ATTACH;FMTTYPE=image/png:https://www.ilrcc.ab.ca/wp-content/uploads/2023/05/Life-Skills-1-1024x512-1.png
ORGANIZER;CN="ILRCC":MAILTO:ed@ilrcc.ab.ca
END:VEVENT
BEGIN:VEVENT
DTSTART;TZID=America/Edmonton:20290301T190000
DTEND;TZID=America/Edmonton:20290503T200000
DTSTAMP:20260422T191913
CREATED:20231230T205301Z
LAST-MODIFIED:20240219T212903Z
UID:10006084-1867086000-1872532800@www.ilrcc.ab.ca
SUMMARY:Thursday Dance + Sing Movements
DESCRIPTION:January 4 – March 7\, 2024 \n7:00 pm – 8:00 pm \nILRCC – #134\, 3359 27th St. NE \nThe program runs for 8 weeks for $75. \nCome join the fun for a Karaoke & Zumba evening at ILRCC \nRegistration
URL:https://www.ilrcc.ab.ca/event/thursday-dance-sing-movements-500pm-600pm-2-2/2029-03-01/
LOCATION:Alberta
CATEGORIES:LEARN PROGRAMS
ATTACH;FMTTYPE=image/jpeg:https://www.ilrcc.ab.ca/wp-content/uploads/2023/05/Thursday-Dance-Sing-Movements.jpg
ORGANIZER;CN="ILRCC":MAILTO:ed@ilrcc.ab.ca
END:VEVENT
BEGIN:VEVENT
DTSTART;TZID=America/Edmonton:20290308T140000
DTEND;TZID=America/Edmonton:20290526T150000
DTSTAMP:20260422T191913
CREATED:20240101T193831Z
LAST-MODIFIED:20240219T211556Z
UID:10006074-1867672800-1874502000@www.ilrcc.ab.ca
SUMMARY:Thursday Life Skills
DESCRIPTION:Thursdays (2:00 pm – 3:00 pm)\n\n\n12 Weeks ($135.00) Full Session\n\nDrop-in modules (Each $20.00) Pre-Registration Required\n\nContact us for start dates\n\nTopics: \n\n\nCooking Safety\, Rules\, Hygiene\, Meal Preparation (2 Sessions = $40)\n\n\nOn-Line Safety\, Cyber\, Shopping\, Banking\, Social Media (2 Sessions = $40)\n\n\nSchedule Planning (1 Session = $20)\n\n\nBudgeting 101 (2 Sessions = $40)\n\n\nPublic Safety\, Strangers\, Transit Safety\, Self Defense (3 Sessions = $60)\n\n\nTime Management (1 Session = $20)\n\n\nGoal Setting (1 Session = $20)\n\n\n\n\nRegistration
URL:https://www.ilrcc.ab.ca/event/tuesday-life-skills-2-2/2029-03-08/
LOCATION:Alberta
CATEGORIES:LIFE SKILLS
ATTACH;FMTTYPE=image/png:https://www.ilrcc.ab.ca/wp-content/uploads/2023/05/Life-Skills-1-1024x512-1.png
ORGANIZER;CN="ILRCC":MAILTO:ed@ilrcc.ab.ca
END:VEVENT
BEGIN:VEVENT
DTSTART;TZID=America/Edmonton:20290308T190000
DTEND;TZID=America/Edmonton:20290510T200000
DTSTAMP:20260422T191913
CREATED:20231230T205301Z
LAST-MODIFIED:20240219T212903Z
UID:10006085-1867690800-1873137600@www.ilrcc.ab.ca
SUMMARY:Thursday Dance + Sing Movements
DESCRIPTION:January 4 – March 7\, 2024 \n7:00 pm – 8:00 pm \nILRCC – #134\, 3359 27th St. NE \nThe program runs for 8 weeks for $75. \nCome join the fun for a Karaoke & Zumba evening at ILRCC \nRegistration
URL:https://www.ilrcc.ab.ca/event/thursday-dance-sing-movements-500pm-600pm-2-2/2029-03-08/
LOCATION:Alberta
CATEGORIES:LEARN PROGRAMS
ATTACH;FMTTYPE=image/jpeg:https://www.ilrcc.ab.ca/wp-content/uploads/2023/05/Thursday-Dance-Sing-Movements.jpg
ORGANIZER;CN="ILRCC":MAILTO:ed@ilrcc.ab.ca
END:VEVENT
BEGIN:VEVENT
DTSTART;TZID=America/Edmonton:20290313T113000
DTEND;TZID=America/Edmonton:20290501T113000
DTSTAMP:20260422T191913
CREATED:20230704T194641Z
LAST-MODIFIED:20240219T213122Z
UID:10006095-1868095800-1872329400@www.ilrcc.ab.ca
SUMMARY:Tuesday Music + Movement
DESCRIPTION:Feb 27 – April 16\, 2024 \n11:30 pm – 12:30 pm \nILRCC – #134\, 3359 27th St. NE \nThe program runs for 8 weeks for $75. \nMusic Therapy \n  \nPlay\, Move\, and Express yourself through interactive Music and Movement. \nEnjoy games\, songs\, rhythm & beats as we make beautiful noise together! \nRegistration
URL:https://www.ilrcc.ab.ca/event/tuesday-music-movement-2/2029-03-13/
LOCATION:Alberta
CATEGORIES:LEARN PROGRAMS
ORGANIZER;CN="ILRCC":MAILTO:ed@ilrcc.ab.ca
END:VEVENT
BEGIN:VEVENT
DTSTART;TZID=America/Edmonton:20290315T140000
DTEND;TZID=America/Edmonton:20290602T150000
DTSTAMP:20260422T191913
CREATED:20240101T193831Z
LAST-MODIFIED:20240219T211556Z
UID:10006075-1868277600-1875106800@www.ilrcc.ab.ca
SUMMARY:Thursday Life Skills
DESCRIPTION:Thursdays (2:00 pm – 3:00 pm)\n\n\n12 Weeks ($135.00) Full Session\n\nDrop-in modules (Each $20.00) Pre-Registration Required\n\nContact us for start dates\n\nTopics: \n\n\nCooking Safety\, Rules\, Hygiene\, Meal Preparation (2 Sessions = $40)\n\n\nOn-Line Safety\, Cyber\, Shopping\, Banking\, Social Media (2 Sessions = $40)\n\n\nSchedule Planning (1 Session = $20)\n\n\nBudgeting 101 (2 Sessions = $40)\n\n\nPublic Safety\, Strangers\, Transit Safety\, Self Defense (3 Sessions = $60)\n\n\nTime Management (1 Session = $20)\n\n\nGoal Setting (1 Session = $20)\n\n\n\n\nRegistration
URL:https://www.ilrcc.ab.ca/event/tuesday-life-skills-2-2/2029-03-15/
LOCATION:Alberta
CATEGORIES:LIFE SKILLS
ATTACH;FMTTYPE=image/png:https://www.ilrcc.ab.ca/wp-content/uploads/2023/05/Life-Skills-1-1024x512-1.png
ORGANIZER;CN="ILRCC":MAILTO:ed@ilrcc.ab.ca
END:VEVENT
BEGIN:VEVENT
DTSTART;TZID=America/Edmonton:20290315T190000
DTEND;TZID=America/Edmonton:20290517T200000
DTSTAMP:20260422T191913
CREATED:20231230T205301Z
LAST-MODIFIED:20240219T212903Z
UID:10006086-1868295600-1873742400@www.ilrcc.ab.ca
SUMMARY:Thursday Dance + Sing Movements
DESCRIPTION:January 4 – March 7\, 2024 \n7:00 pm – 8:00 pm \nILRCC – #134\, 3359 27th St. NE \nThe program runs for 8 weeks for $75. \nCome join the fun for a Karaoke & Zumba evening at ILRCC \nRegistration
URL:https://www.ilrcc.ab.ca/event/thursday-dance-sing-movements-500pm-600pm-2-2/2029-03-15/
LOCATION:Alberta
CATEGORIES:LEARN PROGRAMS
ATTACH;FMTTYPE=image/jpeg:https://www.ilrcc.ab.ca/wp-content/uploads/2023/05/Thursday-Dance-Sing-Movements.jpg
ORGANIZER;CN="ILRCC":MAILTO:ed@ilrcc.ab.ca
END:VEVENT
BEGIN:VEVENT
DTSTART;TZID=America/Edmonton:20290320T113000
DTEND;TZID=America/Edmonton:20290508T113000
DTSTAMP:20260422T191913
CREATED:20230704T194641Z
LAST-MODIFIED:20240219T213122Z
UID:10006096-1868700600-1872934200@www.ilrcc.ab.ca
SUMMARY:Tuesday Music + Movement
DESCRIPTION:Feb 27 – April 16\, 2024 \n11:30 pm – 12:30 pm \nILRCC – #134\, 3359 27th St. NE \nThe program runs for 8 weeks for $75. \nMusic Therapy \n  \nPlay\, Move\, and Express yourself through interactive Music and Movement. \nEnjoy games\, songs\, rhythm & beats as we make beautiful noise together! \nRegistration
URL:https://www.ilrcc.ab.ca/event/tuesday-music-movement-2/2029-03-20/
LOCATION:Alberta
CATEGORIES:LEARN PROGRAMS
ORGANIZER;CN="ILRCC":MAILTO:ed@ilrcc.ab.ca
END:VEVENT
BEGIN:VEVENT
DTSTART;TZID=America/Edmonton:20290322T140000
DTEND;TZID=America/Edmonton:20290609T150000
DTSTAMP:20260422T191913
CREATED:20240101T193831Z
LAST-MODIFIED:20240219T211556Z
UID:10006076-1868882400-1875711600@www.ilrcc.ab.ca
SUMMARY:Thursday Life Skills
DESCRIPTION:Thursdays (2:00 pm – 3:00 pm)\n\n\n12 Weeks ($135.00) Full Session\n\nDrop-in modules (Each $20.00) Pre-Registration Required\n\nContact us for start dates\n\nTopics: \n\n\nCooking Safety\, Rules\, Hygiene\, Meal Preparation (2 Sessions = $40)\n\n\nOn-Line Safety\, Cyber\, Shopping\, Banking\, Social Media (2 Sessions = $40)\n\n\nSchedule Planning (1 Session = $20)\n\n\nBudgeting 101 (2 Sessions = $40)\n\n\nPublic Safety\, Strangers\, Transit Safety\, Self Defense (3 Sessions = $60)\n\n\nTime Management (1 Session = $20)\n\n\nGoal Setting (1 Session = $20)\n\n\n\n\nRegistration
URL:https://www.ilrcc.ab.ca/event/tuesday-life-skills-2-2/2029-03-22/
LOCATION:Alberta
CATEGORIES:LIFE SKILLS
ATTACH;FMTTYPE=image/png:https://www.ilrcc.ab.ca/wp-content/uploads/2023/05/Life-Skills-1-1024x512-1.png
ORGANIZER;CN="ILRCC":MAILTO:ed@ilrcc.ab.ca
END:VEVENT
BEGIN:VEVENT
DTSTART;TZID=America/Edmonton:20290322T190000
DTEND;TZID=America/Edmonton:20290524T200000
DTSTAMP:20260422T191913
CREATED:20231230T205301Z
LAST-MODIFIED:20240219T212903Z
UID:10006087-1868900400-1874347200@www.ilrcc.ab.ca
SUMMARY:Thursday Dance + Sing Movements
DESCRIPTION:January 4 – March 7\, 2024 \n7:00 pm – 8:00 pm \nILRCC – #134\, 3359 27th St. NE \nThe program runs for 8 weeks for $75. \nCome join the fun for a Karaoke & Zumba evening at ILRCC \nRegistration
URL:https://www.ilrcc.ab.ca/event/thursday-dance-sing-movements-500pm-600pm-2-2/2029-03-22/
LOCATION:Alberta
CATEGORIES:LEARN PROGRAMS
ATTACH;FMTTYPE=image/jpeg:https://www.ilrcc.ab.ca/wp-content/uploads/2023/05/Thursday-Dance-Sing-Movements.jpg
ORGANIZER;CN="ILRCC":MAILTO:ed@ilrcc.ab.ca
END:VEVENT
BEGIN:VEVENT
DTSTART;TZID=America/Edmonton:20290327T113000
DTEND;TZID=America/Edmonton:20290515T113000
DTSTAMP:20260422T191913
CREATED:20230704T194641Z
LAST-MODIFIED:20240219T213122Z
UID:10006097-1869305400-1873539000@www.ilrcc.ab.ca
SUMMARY:Tuesday Music + Movement
DESCRIPTION:Feb 27 – April 16\, 2024 \n11:30 pm – 12:30 pm \nILRCC – #134\, 3359 27th St. NE \nThe program runs for 8 weeks for $75. \nMusic Therapy \n  \nPlay\, Move\, and Express yourself through interactive Music and Movement. \nEnjoy games\, songs\, rhythm & beats as we make beautiful noise together! \nRegistration
URL:https://www.ilrcc.ab.ca/event/tuesday-music-movement-2/2029-03-27/
LOCATION:Alberta
CATEGORIES:LEARN PROGRAMS
ORGANIZER;CN="ILRCC":MAILTO:ed@ilrcc.ab.ca
END:VEVENT
BEGIN:VEVENT
DTSTART;TZID=America/Edmonton:20290329T140000
DTEND;TZID=America/Edmonton:20290616T150000
DTSTAMP:20260422T191913
CREATED:20240101T193831Z
LAST-MODIFIED:20240219T211556Z
UID:10006077-1869487200-1876316400@www.ilrcc.ab.ca
SUMMARY:Thursday Life Skills
DESCRIPTION:Thursdays (2:00 pm – 3:00 pm)\n\n\n12 Weeks ($135.00) Full Session\n\nDrop-in modules (Each $20.00) Pre-Registration Required\n\nContact us for start dates\n\nTopics: \n\n\nCooking Safety\, Rules\, Hygiene\, Meal Preparation (2 Sessions = $40)\n\n\nOn-Line Safety\, Cyber\, Shopping\, Banking\, Social Media (2 Sessions = $40)\n\n\nSchedule Planning (1 Session = $20)\n\n\nBudgeting 101 (2 Sessions = $40)\n\n\nPublic Safety\, Strangers\, Transit Safety\, Self Defense (3 Sessions = $60)\n\n\nTime Management (1 Session = $20)\n\n\nGoal Setting (1 Session = $20)\n\n\n\n\nRegistration
URL:https://www.ilrcc.ab.ca/event/tuesday-life-skills-2-2/2029-03-29/
LOCATION:Alberta
CATEGORIES:LIFE SKILLS
ATTACH;FMTTYPE=image/png:https://www.ilrcc.ab.ca/wp-content/uploads/2023/05/Life-Skills-1-1024x512-1.png
ORGANIZER;CN="ILRCC":MAILTO:ed@ilrcc.ab.ca
END:VEVENT
BEGIN:VEVENT
DTSTART;TZID=America/Edmonton:20290329T190000
DTEND;TZID=America/Edmonton:20290531T200000
DTSTAMP:20260422T191913
CREATED:20231230T205301Z
LAST-MODIFIED:20240219T212903Z
UID:10006088-1869505200-1874952000@www.ilrcc.ab.ca
SUMMARY:Thursday Dance + Sing Movements
DESCRIPTION:January 4 – March 7\, 2024 \n7:00 pm – 8:00 pm \nILRCC – #134\, 3359 27th St. NE \nThe program runs for 8 weeks for $75. \nCome join the fun for a Karaoke & Zumba evening at ILRCC \nRegistration
URL:https://www.ilrcc.ab.ca/event/thursday-dance-sing-movements-500pm-600pm-2-2/2029-03-29/
LOCATION:Alberta
CATEGORIES:LEARN PROGRAMS
ATTACH;FMTTYPE=image/jpeg:https://www.ilrcc.ab.ca/wp-content/uploads/2023/05/Thursday-Dance-Sing-Movements.jpg
ORGANIZER;CN="ILRCC":MAILTO:ed@ilrcc.ab.ca
END:VEVENT
BEGIN:VEVENT
DTSTART;TZID=America/Edmonton:20290403T113000
DTEND;TZID=America/Edmonton:20290522T113000
DTSTAMP:20260422T191913
CREATED:20230704T194641Z
LAST-MODIFIED:20240219T213122Z
UID:10006098-1869910200-1874143800@www.ilrcc.ab.ca
SUMMARY:Tuesday Music + Movement
DESCRIPTION:Feb 27 – April 16\, 2024 \n11:30 pm – 12:30 pm \nILRCC – #134\, 3359 27th St. NE \nThe program runs for 8 weeks for $75. \nMusic Therapy \n  \nPlay\, Move\, and Express yourself through interactive Music and Movement. \nEnjoy games\, songs\, rhythm & beats as we make beautiful noise together! \nRegistration
URL:https://www.ilrcc.ab.ca/event/tuesday-music-movement-2/2029-04-03/
LOCATION:Alberta
CATEGORIES:LEARN PROGRAMS
ORGANIZER;CN="ILRCC":MAILTO:ed@ilrcc.ab.ca
END:VEVENT
BEGIN:VEVENT
DTSTART;TZID=America/Edmonton:20290405T140000
DTEND;TZID=America/Edmonton:20290623T150000
DTSTAMP:20260422T191913
CREATED:20240101T193831Z
LAST-MODIFIED:20240219T211556Z
UID:10006078-1870092000-1876921200@www.ilrcc.ab.ca
SUMMARY:Thursday Life Skills
DESCRIPTION:Thursdays (2:00 pm – 3:00 pm)\n\n\n12 Weeks ($135.00) Full Session\n\nDrop-in modules (Each $20.00) Pre-Registration Required\n\nContact us for start dates\n\nTopics: \n\n\nCooking Safety\, Rules\, Hygiene\, Meal Preparation (2 Sessions = $40)\n\n\nOn-Line Safety\, Cyber\, Shopping\, Banking\, Social Media (2 Sessions = $40)\n\n\nSchedule Planning (1 Session = $20)\n\n\nBudgeting 101 (2 Sessions = $40)\n\n\nPublic Safety\, Strangers\, Transit Safety\, Self Defense (3 Sessions = $60)\n\n\nTime Management (1 Session = $20)\n\n\nGoal Setting (1 Session = $20)\n\n\n\n\nRegistration
URL:https://www.ilrcc.ab.ca/event/tuesday-life-skills-2-2/2029-04-05/
LOCATION:Alberta
CATEGORIES:LIFE SKILLS
ATTACH;FMTTYPE=image/png:https://www.ilrcc.ab.ca/wp-content/uploads/2023/05/Life-Skills-1-1024x512-1.png
ORGANIZER;CN="ILRCC":MAILTO:ed@ilrcc.ab.ca
END:VEVENT
BEGIN:VEVENT
DTSTART;TZID=America/Edmonton:20290405T190000
DTEND;TZID=America/Edmonton:20290607T200000
DTSTAMP:20260422T191913
CREATED:20231230T205301Z
LAST-MODIFIED:20240219T212903Z
UID:10006089-1870110000-1875556800@www.ilrcc.ab.ca
SUMMARY:Thursday Dance + Sing Movements
DESCRIPTION:January 4 – March 7\, 2024 \n7:00 pm – 8:00 pm \nILRCC – #134\, 3359 27th St. NE \nThe program runs for 8 weeks for $75. \nCome join the fun for a Karaoke & Zumba evening at ILRCC \nRegistration
URL:https://www.ilrcc.ab.ca/event/thursday-dance-sing-movements-500pm-600pm-2-2/2029-04-05/
LOCATION:Alberta
CATEGORIES:LEARN PROGRAMS
ATTACH;FMTTYPE=image/jpeg:https://www.ilrcc.ab.ca/wp-content/uploads/2023/05/Thursday-Dance-Sing-Movements.jpg
ORGANIZER;CN="ILRCC":MAILTO:ed@ilrcc.ab.ca
END:VEVENT
BEGIN:VEVENT
DTSTART;TZID=America/Edmonton:20290412T140000
DTEND;TZID=America/Edmonton:20290630T150000
DTSTAMP:20260422T191913
CREATED:20240101T193831Z
LAST-MODIFIED:20240219T211556Z
UID:10006079-1870696800-1877526000@www.ilrcc.ab.ca
SUMMARY:Thursday Life Skills
DESCRIPTION:Thursdays (2:00 pm – 3:00 pm)\n\n\n12 Weeks ($135.00) Full Session\n\nDrop-in modules (Each $20.00) Pre-Registration Required\n\nContact us for start dates\n\nTopics: \n\n\nCooking Safety\, Rules\, Hygiene\, Meal Preparation (2 Sessions = $40)\n\n\nOn-Line Safety\, Cyber\, Shopping\, Banking\, Social Media (2 Sessions = $40)\n\n\nSchedule Planning (1 Session = $20)\n\n\nBudgeting 101 (2 Sessions = $40)\n\n\nPublic Safety\, Strangers\, Transit Safety\, Self Defense (3 Sessions = $60)\n\n\nTime Management (1 Session = $20)\n\n\nGoal Setting (1 Session = $20)\n\n\n\n\nRegistration
URL:https://www.ilrcc.ab.ca/event/tuesday-life-skills-2-2/2029-04-12/
LOCATION:Alberta
CATEGORIES:LIFE SKILLS
ATTACH;FMTTYPE=image/png:https://www.ilrcc.ab.ca/wp-content/uploads/2023/05/Life-Skills-1-1024x512-1.png
ORGANIZER;CN="ILRCC":MAILTO:ed@ilrcc.ab.ca
END:VEVENT
BEGIN:VEVENT
DTSTART;TZID=America/Edmonton:20290412T190000
DTEND;TZID=America/Edmonton:20290614T200000
DTSTAMP:20260422T191913
CREATED:20231230T205301Z
LAST-MODIFIED:20240219T212903Z
UID:10006090-1870714800-1876161600@www.ilrcc.ab.ca
SUMMARY:Thursday Dance + Sing Movements
DESCRIPTION:January 4 – March 7\, 2024 \n7:00 pm – 8:00 pm \nILRCC – #134\, 3359 27th St. NE \nThe program runs for 8 weeks for $75. \nCome join the fun for a Karaoke & Zumba evening at ILRCC \nRegistration
URL:https://www.ilrcc.ab.ca/event/thursday-dance-sing-movements-500pm-600pm-2-2/2029-04-12/
LOCATION:Alberta
CATEGORIES:LEARN PROGRAMS
ATTACH;FMTTYPE=image/jpeg:https://www.ilrcc.ab.ca/wp-content/uploads/2023/05/Thursday-Dance-Sing-Movements.jpg
ORGANIZER;CN="ILRCC":MAILTO:ed@ilrcc.ab.ca
END:VEVENT
BEGIN:VEVENT
DTSTART;TZID=America/Edmonton:20290419T140000
DTEND;TZID=America/Edmonton:20290707T150000
DTSTAMP:20260422T191913
CREATED:20240101T193831Z
LAST-MODIFIED:20240219T211556Z
UID:10006080-1871301600-1878130800@www.ilrcc.ab.ca
SUMMARY:Thursday Life Skills
DESCRIPTION:Thursdays (2:00 pm – 3:00 pm)\n\n\n12 Weeks ($135.00) Full Session\n\nDrop-in modules (Each $20.00) Pre-Registration Required\n\nContact us for start dates\n\nTopics: \n\n\nCooking Safety\, Rules\, Hygiene\, Meal Preparation (2 Sessions = $40)\n\n\nOn-Line Safety\, Cyber\, Shopping\, Banking\, Social Media (2 Sessions = $40)\n\n\nSchedule Planning (1 Session = $20)\n\n\nBudgeting 101 (2 Sessions = $40)\n\n\nPublic Safety\, Strangers\, Transit Safety\, Self Defense (3 Sessions = $60)\n\n\nTime Management (1 Session = $20)\n\n\nGoal Setting (1 Session = $20)\n\n\n\n\nRegistration
URL:https://www.ilrcc.ab.ca/event/tuesday-life-skills-2-2/2029-04-19/
LOCATION:Alberta
CATEGORIES:LIFE SKILLS
ATTACH;FMTTYPE=image/png:https://www.ilrcc.ab.ca/wp-content/uploads/2023/05/Life-Skills-1-1024x512-1.png
ORGANIZER;CN="ILRCC":MAILTO:ed@ilrcc.ab.ca
END:VEVENT
BEGIN:VEVENT
DTSTART;TZID=America/Edmonton:20290419T190000
DTEND;TZID=America/Edmonton:20290621T200000
DTSTAMP:20260422T191913
CREATED:20231230T205301Z
LAST-MODIFIED:20240219T212903Z
UID:10006091-1871319600-1876766400@www.ilrcc.ab.ca
SUMMARY:Thursday Dance + Sing Movements
DESCRIPTION:January 4 – March 7\, 2024 \n7:00 pm – 8:00 pm \nILRCC – #134\, 3359 27th St. NE \nThe program runs for 8 weeks for $75. \nCome join the fun for a Karaoke & Zumba evening at ILRCC \nRegistration
URL:https://www.ilrcc.ab.ca/event/thursday-dance-sing-movements-500pm-600pm-2-2/2029-04-19/
LOCATION:Alberta
CATEGORIES:LEARN PROGRAMS
ATTACH;FMTTYPE=image/jpeg:https://www.ilrcc.ab.ca/wp-content/uploads/2023/05/Thursday-Dance-Sing-Movements.jpg
ORGANIZER;CN="ILRCC":MAILTO:ed@ilrcc.ab.ca
END:VEVENT
BEGIN:VEVENT
DTSTART;TZID=America/Edmonton:20290426T140000
DTEND;TZID=America/Edmonton:20290714T150000
DTSTAMP:20260422T191913
CREATED:20240101T193831Z
LAST-MODIFIED:20240219T211556Z
UID:10006081-1871906400-1878735600@www.ilrcc.ab.ca
SUMMARY:Thursday Life Skills
DESCRIPTION:Thursdays (2:00 pm – 3:00 pm)\n\n\n12 Weeks ($135.00) Full Session\n\nDrop-in modules (Each $20.00) Pre-Registration Required\n\nContact us for start dates\n\nTopics: \n\n\nCooking Safety\, Rules\, Hygiene\, Meal Preparation (2 Sessions = $40)\n\n\nOn-Line Safety\, Cyber\, Shopping\, Banking\, Social Media (2 Sessions = $40)\n\n\nSchedule Planning (1 Session = $20)\n\n\nBudgeting 101 (2 Sessions = $40)\n\n\nPublic Safety\, Strangers\, Transit Safety\, Self Defense (3 Sessions = $60)\n\n\nTime Management (1 Session = $20)\n\n\nGoal Setting (1 Session = $20)\n\n\n\n\nRegistration
URL:https://www.ilrcc.ab.ca/event/tuesday-life-skills-2-2/2029-04-26/
LOCATION:Alberta
CATEGORIES:LIFE SKILLS
ATTACH;FMTTYPE=image/png:https://www.ilrcc.ab.ca/wp-content/uploads/2023/05/Life-Skills-1-1024x512-1.png
ORGANIZER;CN="ILRCC":MAILTO:ed@ilrcc.ab.ca
END:VEVENT
BEGIN:VEVENT
DTSTART;TZID=America/Edmonton:20290503T140000
DTEND;TZID=America/Edmonton:20290721T150000
DTSTAMP:20260422T191913
CREATED:20240101T193831Z
LAST-MODIFIED:20240219T211556Z
UID:10006082-1872511200-1879340400@www.ilrcc.ab.ca
SUMMARY:Thursday Life Skills
DESCRIPTION:Thursdays (2:00 pm – 3:00 pm)\n\n\n12 Weeks ($135.00) Full Session\n\nDrop-in modules (Each $20.00) Pre-Registration Required\n\nContact us for start dates\n\nTopics: \n\n\nCooking Safety\, Rules\, Hygiene\, Meal Preparation (2 Sessions = $40)\n\n\nOn-Line Safety\, Cyber\, Shopping\, Banking\, Social Media (2 Sessions = $40)\n\n\nSchedule Planning (1 Session = $20)\n\n\nBudgeting 101 (2 Sessions = $40)\n\n\nPublic Safety\, Strangers\, Transit Safety\, Self Defense (3 Sessions = $60)\n\n\nTime Management (1 Session = $20)\n\n\nGoal Setting (1 Session = $20)\n\n\n\n\nRegistration
URL:https://www.ilrcc.ab.ca/event/tuesday-life-skills-2-2/2029-05-03/
LOCATION:Alberta
CATEGORIES:LIFE SKILLS
ATTACH;FMTTYPE=image/png:https://www.ilrcc.ab.ca/wp-content/uploads/2023/05/Life-Skills-1-1024x512-1.png
ORGANIZER;CN="ILRCC":MAILTO:ed@ilrcc.ab.ca
END:VEVENT
END:VCALENDAR