BEGIN:VCALENDAR
VERSION:2.0
PRODID:-//ILRCC - ECPv6.15.20//NONSGML v1.0//EN
CALSCALE:GREGORIAN
METHOD:PUBLISH
X-ORIGINAL-URL:https://www.ilrcc.ab.ca
X-WR-CALDESC:Events for ILRCC
REFRESH-INTERVAL;VALUE=DURATION:PT1H
X-Robots-Tag:noindex
X-PUBLISHED-TTL:PT1H
BEGIN:VTIMEZONE
TZID:America/Edmonton
BEGIN:DAYLIGHT
TZOFFSETFROM:-0700
TZOFFSETTO:-0600
TZNAME:MDT
DTSTART:20230312T090000
END:DAYLIGHT
BEGIN:STANDARD
TZOFFSETFROM:-0600
TZOFFSETTO:-0700
TZNAME:MST
DTSTART:20231105T080000
END:STANDARD
BEGIN:DAYLIGHT
TZOFFSETFROM:-0700
TZOFFSETTO:-0600
TZNAME:MDT
DTSTART:20240310T090000
END:DAYLIGHT
BEGIN:STANDARD
TZOFFSETFROM:-0600
TZOFFSETTO:-0700
TZNAME:MST
DTSTART:20241103T080000
END:STANDARD
BEGIN:DAYLIGHT
TZOFFSETFROM:-0700
TZOFFSETTO:-0600
TZNAME:MDT
DTSTART:20250309T090000
END:DAYLIGHT
BEGIN:STANDARD
TZOFFSETFROM:-0600
TZOFFSETTO:-0700
TZNAME:MST
DTSTART:20251102T080000
END:STANDARD
END:VTIMEZONE
BEGIN:VEVENT
DTSTART;TZID=America/Edmonton:20240924T113000
DTEND;TZID=America/Edmonton:20241112T103000
DTSTAMP:20260420T160834
CREATED:20230704T194641Z
LAST-MODIFIED:20240219T213122Z
UID:10004561-1727177400-1731407400@www.ilrcc.ab.ca
SUMMARY:Tuesday Music + Movement
DESCRIPTION:Feb 27 – April 16\, 2024 \n11:30 pm – 12:30 pm \nILRCC – #134\, 3359 27th St. NE \nThe program runs for 8 weeks for $75. \nMusic Therapy \n  \nPlay\, Move\, and Express yourself through interactive Music and Movement. \nEnjoy games\, songs\, rhythm & beats as we make beautiful noise together! \nRegistration
URL:https://www.ilrcc.ab.ca/event/tuesday-music-movement-2/2024-09-24/
CATEGORIES:LEARN PROGRAMS
ORGANIZER;CN="ILRCC":MAILTO:ed@ilrcc.ab.ca
END:VEVENT
BEGIN:VEVENT
DTSTART;TZID=America/Edmonton:20240919T190000
DTEND;TZID=America/Edmonton:20241121T190000
DTSTAMP:20260420T160834
CREATED:20231230T205301Z
LAST-MODIFIED:20240219T212903Z
UID:10005005-1726772400-1732215600@www.ilrcc.ab.ca
SUMMARY:Thursday Dance + Sing Movements
DESCRIPTION:January 4 – March 7\, 2024 \n7:00 pm – 8:00 pm \nILRCC – #134\, 3359 27th St. NE \nThe program runs for 8 weeks for $75. \nCome join the fun for a Karaoke & Zumba evening at ILRCC \nRegistration
URL:https://www.ilrcc.ab.ca/event/thursday-dance-sing-movements-500pm-600pm-2-2/2024-09-19/
CATEGORIES:LEARN PROGRAMS
ATTACH;FMTTYPE=image/jpeg:https://www.ilrcc.ab.ca/wp-content/uploads/2023/05/Thursday-Dance-Sing-Movements.jpg
ORGANIZER;CN="ILRCC":MAILTO:ed@ilrcc.ab.ca
END:VEVENT
BEGIN:VEVENT
DTSTART;TZID=America/Edmonton:20240919T140000
DTEND;TZID=America/Edmonton:20241207T140000
DTSTAMP:20260420T160834
CREATED:20240101T193831Z
LAST-MODIFIED:20240219T211556Z
UID:10005841-1726754400-1733580000@www.ilrcc.ab.ca
SUMMARY:Thursday Life Skills
DESCRIPTION:Thursdays (2:00 pm – 3:00 pm)\n\n\n12 Weeks ($135.00) Full Session\n\nDrop-in modules (Each $20.00) Pre-Registration Required\n\nContact us for start dates\n\nTopics: \n\n\nCooking Safety\, Rules\, Hygiene\, Meal Preparation (2 Sessions = $40)\n\n\nOn-Line Safety\, Cyber\, Shopping\, Banking\, Social Media (2 Sessions = $40)\n\n\nSchedule Planning (1 Session = $20)\n\n\nBudgeting 101 (2 Sessions = $40)\n\n\nPublic Safety\, Strangers\, Transit Safety\, Self Defense (3 Sessions = $60)\n\n\nTime Management (1 Session = $20)\n\n\nGoal Setting (1 Session = $20)\n\n\n\n\nRegistration
URL:https://www.ilrcc.ab.ca/event/tuesday-life-skills-2-2/2024-09-19/
CATEGORIES:LIFE SKILLS
ATTACH;FMTTYPE=image/png:https://www.ilrcc.ab.ca/wp-content/uploads/2023/05/Life-Skills-1-1024x512-1.png
ORGANIZER;CN="ILRCC":MAILTO:ed@ilrcc.ab.ca
END:VEVENT
BEGIN:VEVENT
DTSTART;VALUE=DATE:20240918
DTEND;VALUE=DATE:20240919
DTSTAMP:20260420T160834
CREATED:20230520T211759Z
LAST-MODIFIED:20230523T170651Z
UID:10002702-1726617600-1726703999@www.ilrcc.ab.ca
SUMMARY:Wednesday Media & Advertising
DESCRIPTION:“My Voice\, My Choice” is a newsletter for people with disabilities\, by people with disabilities. The team will come together and share ideas\, advocacy\, education\, and stories. Every month we will create and design a new edition for print and digital distribution. \nVolunteer program. Must commit to a minimum of 1 month to volunteer for the newsletter. \nJoin us and become part of our Newsletter team. We need editors\, photographers\, story writers\, artists\, and designers. Come showcase your talents!! \nRegistration
URL:https://www.ilrcc.ab.ca/event/wednesday-media-advertising/2024-09-18/
LOCATION:ILRCC\, ILRCC - #134\, 3359 27th St. NE\, Calgary\, Alberta\, Canada
CATEGORIES:LIFE SKILLS
ATTACH;FMTTYPE=image/jpeg:https://www.ilrcc.ab.ca/wp-content/uploads/2023/05/desktop-magazine-keyboard-design.jpg
ORGANIZER;CN="ILRCC":MAILTO:ed@ilrcc.ab.ca
END:VEVENT
BEGIN:VEVENT
DTSTART;TZID=America/Edmonton:20240917T113000
DTEND;TZID=America/Edmonton:20241105T103000
DTSTAMP:20260420T160834
CREATED:20230704T194641Z
LAST-MODIFIED:20240219T213122Z
UID:10004560-1726572600-1730802600@www.ilrcc.ab.ca
SUMMARY:Tuesday Music + Movement
DESCRIPTION:Feb 27 – April 16\, 2024 \n11:30 pm – 12:30 pm \nILRCC – #134\, 3359 27th St. NE \nThe program runs for 8 weeks for $75. \nMusic Therapy \n  \nPlay\, Move\, and Express yourself through interactive Music and Movement. \nEnjoy games\, songs\, rhythm & beats as we make beautiful noise together! \nRegistration
URL:https://www.ilrcc.ab.ca/event/tuesday-music-movement-2/2024-09-17/
CATEGORIES:LEARN PROGRAMS
ORGANIZER;CN="ILRCC":MAILTO:ed@ilrcc.ab.ca
END:VEVENT
BEGIN:VEVENT
DTSTART;TZID=America/Edmonton:20240912T190000
DTEND;TZID=America/Edmonton:20241114T190000
DTSTAMP:20260420T160834
CREATED:20231230T205301Z
LAST-MODIFIED:20240219T212903Z
UID:10005004-1726167600-1731610800@www.ilrcc.ab.ca
SUMMARY:Thursday Dance + Sing Movements
DESCRIPTION:January 4 – March 7\, 2024 \n7:00 pm – 8:00 pm \nILRCC – #134\, 3359 27th St. NE \nThe program runs for 8 weeks for $75. \nCome join the fun for a Karaoke & Zumba evening at ILRCC \nRegistration
URL:https://www.ilrcc.ab.ca/event/thursday-dance-sing-movements-500pm-600pm-2-2/2024-09-12/
CATEGORIES:LEARN PROGRAMS
ATTACH;FMTTYPE=image/jpeg:https://www.ilrcc.ab.ca/wp-content/uploads/2023/05/Thursday-Dance-Sing-Movements.jpg
ORGANIZER;CN="ILRCC":MAILTO:ed@ilrcc.ab.ca
END:VEVENT
BEGIN:VEVENT
DTSTART;TZID=America/Edmonton:20240912T140000
DTEND;TZID=America/Edmonton:20241130T140000
DTSTAMP:20260420T160834
CREATED:20240101T193831Z
LAST-MODIFIED:20240219T211556Z
UID:10005840-1726149600-1732975200@www.ilrcc.ab.ca
SUMMARY:Thursday Life Skills
DESCRIPTION:Thursdays (2:00 pm – 3:00 pm)\n\n\n12 Weeks ($135.00) Full Session\n\nDrop-in modules (Each $20.00) Pre-Registration Required\n\nContact us for start dates\n\nTopics: \n\n\nCooking Safety\, Rules\, Hygiene\, Meal Preparation (2 Sessions = $40)\n\n\nOn-Line Safety\, Cyber\, Shopping\, Banking\, Social Media (2 Sessions = $40)\n\n\nSchedule Planning (1 Session = $20)\n\n\nBudgeting 101 (2 Sessions = $40)\n\n\nPublic Safety\, Strangers\, Transit Safety\, Self Defense (3 Sessions = $60)\n\n\nTime Management (1 Session = $20)\n\n\nGoal Setting (1 Session = $20)\n\n\n\n\nRegistration
URL:https://www.ilrcc.ab.ca/event/tuesday-life-skills-2-2/2024-09-12/
CATEGORIES:LIFE SKILLS
ATTACH;FMTTYPE=image/png:https://www.ilrcc.ab.ca/wp-content/uploads/2023/05/Life-Skills-1-1024x512-1.png
ORGANIZER;CN="ILRCC":MAILTO:ed@ilrcc.ab.ca
END:VEVENT
BEGIN:VEVENT
DTSTART;VALUE=DATE:20240911
DTEND;VALUE=DATE:20240912
DTSTAMP:20260420T160834
CREATED:20230520T211759Z
LAST-MODIFIED:20230523T170651Z
UID:10002701-1726012800-1726099199@www.ilrcc.ab.ca
SUMMARY:Wednesday Media & Advertising
DESCRIPTION:“My Voice\, My Choice” is a newsletter for people with disabilities\, by people with disabilities. The team will come together and share ideas\, advocacy\, education\, and stories. Every month we will create and design a new edition for print and digital distribution. \nVolunteer program. Must commit to a minimum of 1 month to volunteer for the newsletter. \nJoin us and become part of our Newsletter team. We need editors\, photographers\, story writers\, artists\, and designers. Come showcase your talents!! \nRegistration
URL:https://www.ilrcc.ab.ca/event/wednesday-media-advertising/2024-09-11/
LOCATION:ILRCC\, ILRCC - #134\, 3359 27th St. NE\, Calgary\, Alberta\, Canada
CATEGORIES:LIFE SKILLS
ATTACH;FMTTYPE=image/jpeg:https://www.ilrcc.ab.ca/wp-content/uploads/2023/05/desktop-magazine-keyboard-design.jpg
ORGANIZER;CN="ILRCC":MAILTO:ed@ilrcc.ab.ca
END:VEVENT
BEGIN:VEVENT
DTSTART;TZID=America/Edmonton:20240910T113000
DTEND;TZID=America/Edmonton:20241029T113000
DTSTAMP:20260420T160834
CREATED:20230704T194641Z
LAST-MODIFIED:20240219T213122Z
UID:10004559-1725967800-1730201400@www.ilrcc.ab.ca
SUMMARY:Tuesday Music + Movement
DESCRIPTION:Feb 27 – April 16\, 2024 \n11:30 pm – 12:30 pm \nILRCC – #134\, 3359 27th St. NE \nThe program runs for 8 weeks for $75. \nMusic Therapy \n  \nPlay\, Move\, and Express yourself through interactive Music and Movement. \nEnjoy games\, songs\, rhythm & beats as we make beautiful noise together! \nRegistration
URL:https://www.ilrcc.ab.ca/event/tuesday-music-movement-2/2024-09-10/
CATEGORIES:LEARN PROGRAMS
ORGANIZER;CN="ILRCC":MAILTO:ed@ilrcc.ab.ca
END:VEVENT
BEGIN:VEVENT
DTSTART;TZID=America/Edmonton:20240905T190000
DTEND;TZID=America/Edmonton:20241107T190000
DTSTAMP:20260420T160834
CREATED:20231230T205301Z
LAST-MODIFIED:20240219T212903Z
UID:10005003-1725562800-1731006000@www.ilrcc.ab.ca
SUMMARY:Thursday Dance + Sing Movements
DESCRIPTION:January 4 – March 7\, 2024 \n7:00 pm – 8:00 pm \nILRCC – #134\, 3359 27th St. NE \nThe program runs for 8 weeks for $75. \nCome join the fun for a Karaoke & Zumba evening at ILRCC \nRegistration
URL:https://www.ilrcc.ab.ca/event/thursday-dance-sing-movements-500pm-600pm-2-2/2024-09-05/
CATEGORIES:LEARN PROGRAMS
ATTACH;FMTTYPE=image/jpeg:https://www.ilrcc.ab.ca/wp-content/uploads/2023/05/Thursday-Dance-Sing-Movements.jpg
ORGANIZER;CN="ILRCC":MAILTO:ed@ilrcc.ab.ca
END:VEVENT
BEGIN:VEVENT
DTSTART;TZID=America/Edmonton:20240905T140000
DTEND;TZID=America/Edmonton:20241123T140000
DTSTAMP:20260420T160834
CREATED:20240101T193831Z
LAST-MODIFIED:20240219T211556Z
UID:10005839-1725544800-1732370400@www.ilrcc.ab.ca
SUMMARY:Thursday Life Skills
DESCRIPTION:Thursdays (2:00 pm – 3:00 pm)\n\n\n12 Weeks ($135.00) Full Session\n\nDrop-in modules (Each $20.00) Pre-Registration Required\n\nContact us for start dates\n\nTopics: \n\n\nCooking Safety\, Rules\, Hygiene\, Meal Preparation (2 Sessions = $40)\n\n\nOn-Line Safety\, Cyber\, Shopping\, Banking\, Social Media (2 Sessions = $40)\n\n\nSchedule Planning (1 Session = $20)\n\n\nBudgeting 101 (2 Sessions = $40)\n\n\nPublic Safety\, Strangers\, Transit Safety\, Self Defense (3 Sessions = $60)\n\n\nTime Management (1 Session = $20)\n\n\nGoal Setting (1 Session = $20)\n\n\n\n\nRegistration
URL:https://www.ilrcc.ab.ca/event/tuesday-life-skills-2-2/2024-09-05/
CATEGORIES:LIFE SKILLS
ATTACH;FMTTYPE=image/png:https://www.ilrcc.ab.ca/wp-content/uploads/2023/05/Life-Skills-1-1024x512-1.png
ORGANIZER;CN="ILRCC":MAILTO:ed@ilrcc.ab.ca
END:VEVENT
BEGIN:VEVENT
DTSTART;VALUE=DATE:20240904
DTEND;VALUE=DATE:20240905
DTSTAMP:20260420T160834
CREATED:20230520T211759Z
LAST-MODIFIED:20230523T170651Z
UID:10002700-1725408000-1725494399@www.ilrcc.ab.ca
SUMMARY:Wednesday Media & Advertising
DESCRIPTION:“My Voice\, My Choice” is a newsletter for people with disabilities\, by people with disabilities. The team will come together and share ideas\, advocacy\, education\, and stories. Every month we will create and design a new edition for print and digital distribution. \nVolunteer program. Must commit to a minimum of 1 month to volunteer for the newsletter. \nJoin us and become part of our Newsletter team. We need editors\, photographers\, story writers\, artists\, and designers. Come showcase your talents!! \nRegistration
URL:https://www.ilrcc.ab.ca/event/wednesday-media-advertising/2024-09-04/
LOCATION:ILRCC\, ILRCC - #134\, 3359 27th St. NE\, Calgary\, Alberta\, Canada
CATEGORIES:LIFE SKILLS
ATTACH;FMTTYPE=image/jpeg:https://www.ilrcc.ab.ca/wp-content/uploads/2023/05/desktop-magazine-keyboard-design.jpg
ORGANIZER;CN="ILRCC":MAILTO:ed@ilrcc.ab.ca
END:VEVENT
BEGIN:VEVENT
DTSTART;TZID=America/Edmonton:20240903T113000
DTEND;TZID=America/Edmonton:20241022T113000
DTSTAMP:20260420T160834
CREATED:20230704T194641Z
LAST-MODIFIED:20240219T213122Z
UID:10004558-1725363000-1729596600@www.ilrcc.ab.ca
SUMMARY:Tuesday Music + Movement
DESCRIPTION:Feb 27 – April 16\, 2024 \n11:30 pm – 12:30 pm \nILRCC – #134\, 3359 27th St. NE \nThe program runs for 8 weeks for $75. \nMusic Therapy \n  \nPlay\, Move\, and Express yourself through interactive Music and Movement. \nEnjoy games\, songs\, rhythm & beats as we make beautiful noise together! \nRegistration
URL:https://www.ilrcc.ab.ca/event/tuesday-music-movement-2/2024-09-03/
CATEGORIES:LEARN PROGRAMS
ORGANIZER;CN="ILRCC":MAILTO:ed@ilrcc.ab.ca
END:VEVENT
BEGIN:VEVENT
DTSTART;TZID=America/Edmonton:20240829T190000
DTEND;TZID=America/Edmonton:20241031T200000
DTSTAMP:20260420T160834
CREATED:20231230T205301Z
LAST-MODIFIED:20240219T212903Z
UID:10005002-1724958000-1730404800@www.ilrcc.ab.ca
SUMMARY:Thursday Dance + Sing Movements
DESCRIPTION:January 4 – March 7\, 2024 \n7:00 pm – 8:00 pm \nILRCC – #134\, 3359 27th St. NE \nThe program runs for 8 weeks for $75. \nCome join the fun for a Karaoke & Zumba evening at ILRCC \nRegistration
URL:https://www.ilrcc.ab.ca/event/thursday-dance-sing-movements-500pm-600pm-2-2/2024-08-29/
CATEGORIES:LEARN PROGRAMS
ATTACH;FMTTYPE=image/jpeg:https://www.ilrcc.ab.ca/wp-content/uploads/2023/05/Thursday-Dance-Sing-Movements.jpg
ORGANIZER;CN="ILRCC":MAILTO:ed@ilrcc.ab.ca
END:VEVENT
BEGIN:VEVENT
DTSTART;TZID=America/Edmonton:20240829T140000
DTEND;TZID=America/Edmonton:20241116T140000
DTSTAMP:20260420T160834
CREATED:20240101T193831Z
LAST-MODIFIED:20240219T211556Z
UID:10005838-1724940000-1731765600@www.ilrcc.ab.ca
SUMMARY:Thursday Life Skills
DESCRIPTION:Thursdays (2:00 pm – 3:00 pm)\n\n\n12 Weeks ($135.00) Full Session\n\nDrop-in modules (Each $20.00) Pre-Registration Required\n\nContact us for start dates\n\nTopics: \n\n\nCooking Safety\, Rules\, Hygiene\, Meal Preparation (2 Sessions = $40)\n\n\nOn-Line Safety\, Cyber\, Shopping\, Banking\, Social Media (2 Sessions = $40)\n\n\nSchedule Planning (1 Session = $20)\n\n\nBudgeting 101 (2 Sessions = $40)\n\n\nPublic Safety\, Strangers\, Transit Safety\, Self Defense (3 Sessions = $60)\n\n\nTime Management (1 Session = $20)\n\n\nGoal Setting (1 Session = $20)\n\n\n\n\nRegistration
URL:https://www.ilrcc.ab.ca/event/tuesday-life-skills-2-2/2024-08-29/
CATEGORIES:LIFE SKILLS
ATTACH;FMTTYPE=image/png:https://www.ilrcc.ab.ca/wp-content/uploads/2023/05/Life-Skills-1-1024x512-1.png
ORGANIZER;CN="ILRCC":MAILTO:ed@ilrcc.ab.ca
END:VEVENT
BEGIN:VEVENT
DTSTART;VALUE=DATE:20240828
DTEND;VALUE=DATE:20240829
DTSTAMP:20260420T160834
CREATED:20230520T211759Z
LAST-MODIFIED:20230523T170651Z
UID:10002699-1724803200-1724889599@www.ilrcc.ab.ca
SUMMARY:Wednesday Media & Advertising
DESCRIPTION:“My Voice\, My Choice” is a newsletter for people with disabilities\, by people with disabilities. The team will come together and share ideas\, advocacy\, education\, and stories. Every month we will create and design a new edition for print and digital distribution. \nVolunteer program. Must commit to a minimum of 1 month to volunteer for the newsletter. \nJoin us and become part of our Newsletter team. We need editors\, photographers\, story writers\, artists\, and designers. Come showcase your talents!! \nRegistration
URL:https://www.ilrcc.ab.ca/event/wednesday-media-advertising/2024-08-28/
LOCATION:ILRCC\, ILRCC - #134\, 3359 27th St. NE\, Calgary\, Alberta\, Canada
CATEGORIES:LIFE SKILLS
ATTACH;FMTTYPE=image/jpeg:https://www.ilrcc.ab.ca/wp-content/uploads/2023/05/desktop-magazine-keyboard-design.jpg
ORGANIZER;CN="ILRCC":MAILTO:ed@ilrcc.ab.ca
END:VEVENT
BEGIN:VEVENT
DTSTART;TZID=America/Edmonton:20240827T113000
DTEND;TZID=America/Edmonton:20241015T113000
DTSTAMP:20260420T160834
CREATED:20230704T194641Z
LAST-MODIFIED:20240219T213122Z
UID:10004557-1724758200-1728991800@www.ilrcc.ab.ca
SUMMARY:Tuesday Music + Movement
DESCRIPTION:Feb 27 – April 16\, 2024 \n11:30 pm – 12:30 pm \nILRCC – #134\, 3359 27th St. NE \nThe program runs for 8 weeks for $75. \nMusic Therapy \n  \nPlay\, Move\, and Express yourself through interactive Music and Movement. \nEnjoy games\, songs\, rhythm & beats as we make beautiful noise together! \nRegistration
URL:https://www.ilrcc.ab.ca/event/tuesday-music-movement-2/2024-08-27/
CATEGORIES:LEARN PROGRAMS
ORGANIZER;CN="ILRCC":MAILTO:ed@ilrcc.ab.ca
END:VEVENT
BEGIN:VEVENT
DTSTART;TZID=America/Edmonton:20240824T130000
DTEND;TZID=America/Edmonton:20241109T150000
DTSTAMP:20260420T160834
CREATED:20230829T001229Z
LAST-MODIFIED:20240219T224852Z
UID:10002631-1724504400-1731164400@www.ilrcc.ab.ca
SUMMARY:Saturday Bowling
DESCRIPTION:Dec 2 – Feb 24\, 2024                         1:00 pm – 3:00 pm \nChinook Bowladrome – 6455 Macleod Trail \nThe program runs for 12 weeks for $110. \nEach bowler pays for their bowling: $6.00/game \nRegistration
URL:https://www.ilrcc.ab.ca/event/saturday-bowling-2/2024-08-24/
CATEGORIES:LEARN PROGRAMS
ATTACH;FMTTYPE=image/jpeg:https://www.ilrcc.ab.ca/wp-content/uploads/2023/05/bowling.jpg
ORGANIZER;CN="ILRCC":MAILTO:ed@ilrcc.ab.ca
END:VEVENT
BEGIN:VEVENT
DTSTART;TZID=America/Edmonton:20240822T190000
DTEND;TZID=America/Edmonton:20241024T200000
DTSTAMP:20260420T160834
CREATED:20231230T205301Z
LAST-MODIFIED:20240219T212903Z
UID:10005001-1724353200-1729800000@www.ilrcc.ab.ca
SUMMARY:Thursday Dance + Sing Movements
DESCRIPTION:January 4 – March 7\, 2024 \n7:00 pm – 8:00 pm \nILRCC – #134\, 3359 27th St. NE \nThe program runs for 8 weeks for $75. \nCome join the fun for a Karaoke & Zumba evening at ILRCC \nRegistration
URL:https://www.ilrcc.ab.ca/event/thursday-dance-sing-movements-500pm-600pm-2-2/2024-08-22/
CATEGORIES:LEARN PROGRAMS
ATTACH;FMTTYPE=image/jpeg:https://www.ilrcc.ab.ca/wp-content/uploads/2023/05/Thursday-Dance-Sing-Movements.jpg
ORGANIZER;CN="ILRCC":MAILTO:ed@ilrcc.ab.ca
END:VEVENT
BEGIN:VEVENT
DTSTART;TZID=America/Edmonton:20240822T140000
DTEND;TZID=America/Edmonton:20241109T140000
DTSTAMP:20260420T160834
CREATED:20240101T193831Z
LAST-MODIFIED:20240219T211556Z
UID:10005837-1724335200-1731160800@www.ilrcc.ab.ca
SUMMARY:Thursday Life Skills
DESCRIPTION:Thursdays (2:00 pm – 3:00 pm)\n\n\n12 Weeks ($135.00) Full Session\n\nDrop-in modules (Each $20.00) Pre-Registration Required\n\nContact us for start dates\n\nTopics: \n\n\nCooking Safety\, Rules\, Hygiene\, Meal Preparation (2 Sessions = $40)\n\n\nOn-Line Safety\, Cyber\, Shopping\, Banking\, Social Media (2 Sessions = $40)\n\n\nSchedule Planning (1 Session = $20)\n\n\nBudgeting 101 (2 Sessions = $40)\n\n\nPublic Safety\, Strangers\, Transit Safety\, Self Defense (3 Sessions = $60)\n\n\nTime Management (1 Session = $20)\n\n\nGoal Setting (1 Session = $20)\n\n\n\n\nRegistration
URL:https://www.ilrcc.ab.ca/event/tuesday-life-skills-2-2/2024-08-22/
CATEGORIES:LIFE SKILLS
ATTACH;FMTTYPE=image/png:https://www.ilrcc.ab.ca/wp-content/uploads/2023/05/Life-Skills-1-1024x512-1.png
ORGANIZER;CN="ILRCC":MAILTO:ed@ilrcc.ab.ca
END:VEVENT
BEGIN:VEVENT
DTSTART;TZID=America/Edmonton:20240822T123000
DTEND;TZID=America/Edmonton:20241003T140000
DTSTAMP:20260420T160834
CREATED:20231227T015940Z
LAST-MODIFIED:20231230T183121Z
UID:10004882-1724329800-1727964000@www.ilrcc.ab.ca
SUMMARY:Thursday Cooking Lunch
DESCRIPTION:Dec 7 – Jan 18 (Full)\n \nTaking registrations for January 25 – February 29\, 2024 \n12:30 pm – 2:00 pm \nILRCC – #134\, 3359 27th St. NE \nThe program runs for 6 weeks for $75 including the cost of food. \nThis 6-week\, 1.5-hour-per-session\, cooking course is designed for all ability levels. Each week includes approximately 1 hour and 15 minutes of cooking and ends with sharing the meal preparation and cleaning up. \n*PLEASE  NOTE: Maximum of 6 participants per session. \nRegistration
URL:https://www.ilrcc.ab.ca/event/thursday-cooking-lunch/2024-08-22/
CATEGORIES:LIFE SKILLS
ATTACH;FMTTYPE=image/jpeg:https://www.ilrcc.ab.ca/wp-content/uploads/2023/05/cooking-1024x683-1.jpg
ORGANIZER;CN="ILRCC":MAILTO:ed@ilrcc.ab.ca
END:VEVENT
BEGIN:VEVENT
DTSTART;TZID=America/Edmonton:20240821T173000
DTEND;TZID=America/Edmonton:20241120T183000
DTSTAMP:20260420T160834
CREATED:20231227T015344Z
LAST-MODIFIED:20240219T214856Z
UID:10002503-1724261400-1732127400@www.ilrcc.ab.ca
SUMMARY:Wednesday Pizza Night
DESCRIPTION:Nov 29 – Feb 28\, 2024 \n5:30 pm – 7:30 pm \nBoston Pizza – 2836 Memorial Dr SE \nThe program runs for 12 weeks for $110. \nYou are responsible for paying for your meal and if you have a smaller appetite\, you can order from the kids menu. \nRegistration
URL:https://www.ilrcc.ab.ca/event/wednesday-pizza-night-2-2/2024-08-21/
CATEGORIES:LIFE SKILLS
ATTACH;FMTTYPE=image/jpeg:https://www.ilrcc.ab.ca/wp-content/uploads/2023/05/Boston-Pizza-scaled-1.jpg
ORGANIZER;CN="ILRCC":MAILTO:ed@ilrcc.ab.ca
END:VEVENT
BEGIN:VEVENT
DTSTART;TZID=America/Edmonton:20240821T123000
DTEND;TZID=America/Edmonton:20241009T140000
DTSTAMP:20260420T160834
CREATED:20231227T015556Z
LAST-MODIFIED:20240219T214220Z
UID:10004051-1724243400-1728482400@www.ilrcc.ab.ca
SUMMARY:Wednesday Cooking Lunch
DESCRIPTION:Jan 24 – Feb 29\, 2024 \n12:30 pm – 2:00 pm \nILRCC – #134\, 3359 27th St. NE \nThe program runs for 6 weeks for $75 including the cost of food. \nThis 6-week\, 1.5-hour-per-session\, cooking course is designed for all ability levels. Each week includes approximately 1 hour and 15 minutes of cooking and ends with sharing the meal preparation and cleaning up. \n*PLEASE  NOTE: Maximum of 6 participants per session. \nRegistration
URL:https://www.ilrcc.ab.ca/event/wednesday-afternoon-cooking-2-2-2/2024-08-21/
CATEGORIES:LIFE SKILLS
ATTACH;FMTTYPE=image/jpeg:https://www.ilrcc.ab.ca/wp-content/uploads/2023/05/cooking-1024x683-1.jpg
ORGANIZER;CN="ILRCC":MAILTO:ed@ilrcc.ab.ca
END:VEVENT
BEGIN:VEVENT
DTSTART;VALUE=DATE:20240821
DTEND;VALUE=DATE:20240822
DTSTAMP:20260420T160834
CREATED:20230520T211759Z
LAST-MODIFIED:20230523T170651Z
UID:10002698-1724198400-1724284799@www.ilrcc.ab.ca
SUMMARY:Wednesday Media & Advertising
DESCRIPTION:“My Voice\, My Choice” is a newsletter for people with disabilities\, by people with disabilities. The team will come together and share ideas\, advocacy\, education\, and stories. Every month we will create and design a new edition for print and digital distribution. \nVolunteer program. Must commit to a minimum of 1 month to volunteer for the newsletter. \nJoin us and become part of our Newsletter team. We need editors\, photographers\, story writers\, artists\, and designers. Come showcase your talents!! \nRegistration
URL:https://www.ilrcc.ab.ca/event/wednesday-media-advertising/2024-08-21/
LOCATION:ILRCC\, ILRCC - #134\, 3359 27th St. NE\, Calgary\, Alberta\, Canada
CATEGORIES:LIFE SKILLS
ATTACH;FMTTYPE=image/jpeg:https://www.ilrcc.ab.ca/wp-content/uploads/2023/05/desktop-magazine-keyboard-design.jpg
ORGANIZER;CN="ILRCC":MAILTO:ed@ilrcc.ab.ca
END:VEVENT
BEGIN:VEVENT
DTSTART;TZID=America/Edmonton:20240820T113000
DTEND;TZID=America/Edmonton:20241008T113000
DTSTAMP:20260420T160834
CREATED:20230704T194641Z
LAST-MODIFIED:20240219T213122Z
UID:10004556-1724153400-1728387000@www.ilrcc.ab.ca
SUMMARY:Tuesday Music + Movement
DESCRIPTION:Feb 27 – April 16\, 2024 \n11:30 pm – 12:30 pm \nILRCC – #134\, 3359 27th St. NE \nThe program runs for 8 weeks for $75. \nMusic Therapy \n  \nPlay\, Move\, and Express yourself through interactive Music and Movement. \nEnjoy games\, songs\, rhythm & beats as we make beautiful noise together! \nRegistration
URL:https://www.ilrcc.ab.ca/event/tuesday-music-movement-2/2024-08-20/
CATEGORIES:LEARN PROGRAMS
ORGANIZER;CN="ILRCC":MAILTO:ed@ilrcc.ab.ca
END:VEVENT
BEGIN:VEVENT
DTSTART;TZID=America/Edmonton:20240817T130000
DTEND;TZID=America/Edmonton:20241102T160000
DTSTAMP:20260420T160834
CREATED:20230829T001229Z
LAST-MODIFIED:20240219T224852Z
UID:10002630-1723899600-1730563200@www.ilrcc.ab.ca
SUMMARY:Saturday Bowling
DESCRIPTION:Dec 2 – Feb 24\, 2024                         1:00 pm – 3:00 pm \nChinook Bowladrome – 6455 Macleod Trail \nThe program runs for 12 weeks for $110. \nEach bowler pays for their bowling: $6.00/game \nRegistration
URL:https://www.ilrcc.ab.ca/event/saturday-bowling-2/2024-08-17/
CATEGORIES:LEARN PROGRAMS
ATTACH;FMTTYPE=image/jpeg:https://www.ilrcc.ab.ca/wp-content/uploads/2023/05/bowling.jpg
ORGANIZER;CN="ILRCC":MAILTO:ed@ilrcc.ab.ca
END:VEVENT
BEGIN:VEVENT
DTSTART;TZID=America/Edmonton:20240815T190000
DTEND;TZID=America/Edmonton:20241017T200000
DTSTAMP:20260420T160834
CREATED:20231230T205301Z
LAST-MODIFIED:20240219T212903Z
UID:10005000-1723748400-1729195200@www.ilrcc.ab.ca
SUMMARY:Thursday Dance + Sing Movements
DESCRIPTION:January 4 – March 7\, 2024 \n7:00 pm – 8:00 pm \nILRCC – #134\, 3359 27th St. NE \nThe program runs for 8 weeks for $75. \nCome join the fun for a Karaoke & Zumba evening at ILRCC \nRegistration
URL:https://www.ilrcc.ab.ca/event/thursday-dance-sing-movements-500pm-600pm-2-2/2024-08-15/
CATEGORIES:LEARN PROGRAMS
ATTACH;FMTTYPE=image/jpeg:https://www.ilrcc.ab.ca/wp-content/uploads/2023/05/Thursday-Dance-Sing-Movements.jpg
ORGANIZER;CN="ILRCC":MAILTO:ed@ilrcc.ab.ca
END:VEVENT
BEGIN:VEVENT
DTSTART;TZID=America/Edmonton:20240815T140000
DTEND;TZID=America/Edmonton:20241102T150000
DTSTAMP:20260420T160834
CREATED:20240101T193831Z
LAST-MODIFIED:20240219T211556Z
UID:10005836-1723730400-1730559600@www.ilrcc.ab.ca
SUMMARY:Thursday Life Skills
DESCRIPTION:Thursdays (2:00 pm – 3:00 pm)\n\n\n12 Weeks ($135.00) Full Session\n\nDrop-in modules (Each $20.00) Pre-Registration Required\n\nContact us for start dates\n\nTopics: \n\n\nCooking Safety\, Rules\, Hygiene\, Meal Preparation (2 Sessions = $40)\n\n\nOn-Line Safety\, Cyber\, Shopping\, Banking\, Social Media (2 Sessions = $40)\n\n\nSchedule Planning (1 Session = $20)\n\n\nBudgeting 101 (2 Sessions = $40)\n\n\nPublic Safety\, Strangers\, Transit Safety\, Self Defense (3 Sessions = $60)\n\n\nTime Management (1 Session = $20)\n\n\nGoal Setting (1 Session = $20)\n\n\n\n\nRegistration
URL:https://www.ilrcc.ab.ca/event/tuesday-life-skills-2-2/2024-08-15/
CATEGORIES:LIFE SKILLS
ATTACH;FMTTYPE=image/png:https://www.ilrcc.ab.ca/wp-content/uploads/2023/05/Life-Skills-1-1024x512-1.png
ORGANIZER;CN="ILRCC":MAILTO:ed@ilrcc.ab.ca
END:VEVENT
BEGIN:VEVENT
DTSTART;TZID=America/Edmonton:20240815T123000
DTEND;TZID=America/Edmonton:20240926T140000
DTSTAMP:20260420T160834
CREATED:20231227T015940Z
LAST-MODIFIED:20231230T183121Z
UID:10004881-1723725000-1727359200@www.ilrcc.ab.ca
SUMMARY:Thursday Cooking Lunch
DESCRIPTION:Dec 7 – Jan 18 (Full)\n \nTaking registrations for January 25 – February 29\, 2024 \n12:30 pm – 2:00 pm \nILRCC – #134\, 3359 27th St. NE \nThe program runs for 6 weeks for $75 including the cost of food. \nThis 6-week\, 1.5-hour-per-session\, cooking course is designed for all ability levels. Each week includes approximately 1 hour and 15 minutes of cooking and ends with sharing the meal preparation and cleaning up. \n*PLEASE  NOTE: Maximum of 6 participants per session. \nRegistration
URL:https://www.ilrcc.ab.ca/event/thursday-cooking-lunch/2024-08-15/
CATEGORIES:LIFE SKILLS
ATTACH;FMTTYPE=image/jpeg:https://www.ilrcc.ab.ca/wp-content/uploads/2023/05/cooking-1024x683-1.jpg
ORGANIZER;CN="ILRCC":MAILTO:ed@ilrcc.ab.ca
END:VEVENT
BEGIN:VEVENT
DTSTART;TZID=America/Edmonton:20240815T110000
DTEND;TZID=America/Edmonton:20241031T130000
DTSTAMP:20260420T160834
CREATED:20230829T002153Z
LAST-MODIFIED:20231227T012705Z
UID:10002567-1723719600-1730379600@www.ilrcc.ab.ca
SUMMARY:Thursday Arts and Crafts
DESCRIPTION:Nov 16 – Feb 15\, 2024 \n11:00 am – 12:00 pm \nILRCC – #134\, 3359 27th St. NE \nThe program runs for 12 weeks for $135 including the cost of materials. \nEach Thursday join us and get creative\, as you choose from 2-3 different art projects to try out! \n*PLEASE  NOTE: Maximum of 12 participants per session. \nRegistration
URL:https://www.ilrcc.ab.ca/event/thursday-arts-and-crafts-2/2024-08-15/
CATEGORIES:LEARN PROGRAMS
ATTACH;FMTTYPE=image/jpeg:https://www.ilrcc.ab.ca/wp-content/uploads/2023/05/istockphoto-519362488-612x612-1.jpg
ORGANIZER;CN="ILRCC":MAILTO:ed@ilrcc.ab.ca
END:VEVENT
END:VCALENDAR