BEGIN:VCALENDAR
VERSION:2.0
PRODID:-//ILRCC - ECPv6.15.20//NONSGML v1.0//EN
CALSCALE:GREGORIAN
METHOD:PUBLISH
X-ORIGINAL-URL:https://www.ilrcc.ab.ca
X-WR-CALDESC:Events for ILRCC
REFRESH-INTERVAL;VALUE=DURATION:PT1H
X-Robots-Tag:noindex
X-PUBLISHED-TTL:PT1H
BEGIN:VTIMEZONE
TZID:America/Edmonton
BEGIN:DAYLIGHT
TZOFFSETFROM:-0700
TZOFFSETTO:-0600
TZNAME:MDT
DTSTART:20230312T090000
END:DAYLIGHT
BEGIN:STANDARD
TZOFFSETFROM:-0600
TZOFFSETTO:-0700
TZNAME:MST
DTSTART:20231105T080000
END:STANDARD
BEGIN:DAYLIGHT
TZOFFSETFROM:-0700
TZOFFSETTO:-0600
TZNAME:MDT
DTSTART:20240310T090000
END:DAYLIGHT
BEGIN:STANDARD
TZOFFSETFROM:-0600
TZOFFSETTO:-0700
TZNAME:MST
DTSTART:20241103T080000
END:STANDARD
BEGIN:DAYLIGHT
TZOFFSETFROM:-0700
TZOFFSETTO:-0600
TZNAME:MDT
DTSTART:20250309T090000
END:DAYLIGHT
BEGIN:STANDARD
TZOFFSETFROM:-0600
TZOFFSETTO:-0700
TZNAME:MST
DTSTART:20251102T080000
END:STANDARD
BEGIN:DAYLIGHT
TZOFFSETFROM:-0700
TZOFFSETTO:-0600
TZNAME:MDT
DTSTART:20260308T090000
END:DAYLIGHT
BEGIN:STANDARD
TZOFFSETFROM:-0600
TZOFFSETTO:-0700
TZNAME:MST
DTSTART:20261101T080000
END:STANDARD
END:VTIMEZONE
BEGIN:VEVENT
DTSTART;TZID=America/Edmonton:20240702T113000
DTEND;TZID=America/Edmonton:20240820T113000
DTSTAMP:20260421T100140
CREATED:20230704T194641Z
LAST-MODIFIED:20240219T213122Z
UID:10004549-1719919800-1724153400@www.ilrcc.ab.ca
SUMMARY:Tuesday Music + Movement
DESCRIPTION:Feb 27 – April 16\, 2024 \n11:30 pm – 12:30 pm \nILRCC – #134\, 3359 27th St. NE \nThe program runs for 8 weeks for $75. \nMusic Therapy \n  \nPlay\, Move\, and Express yourself through interactive Music and Movement. \nEnjoy games\, songs\, rhythm & beats as we make beautiful noise together! \nRegistration
URL:https://www.ilrcc.ab.ca/event/tuesday-music-movement-2/2024-07-02/
CATEGORIES:LEARN PROGRAMS
ORGANIZER;CN="ILRCC":MAILTO:ed@ilrcc.ab.ca
END:VEVENT
BEGIN:VEVENT
DTSTART;TZID=America/Edmonton:20240701T180000
DTEND;TZID=America/Edmonton:20240701T191500
DTSTAMP:20260421T100140
CREATED:20230814T205507Z
LAST-MODIFIED:20230807T184622Z
UID:10002247-1719856800-1719861300@www.ilrcc.ab.ca
SUMMARY:Monday Arts and Drawing
DESCRIPTION:May 15th – July 31st \n6:00pm – 7:15pm \nILRCC – #134\, 3359 27th St. NE \nProgram runs for 12 weeks at a cost of $135 includes cost of materials. \nEach Monday evening join us and get creative!! \n*PLEASE  NOTE: Maximum of 12 participants per session. \nRegistration
URL:https://www.ilrcc.ab.ca/event/monday-arts-and-drawing-2/2024-07-01/
LOCATION:ILRCC\, ILRCC - #134\, 3359 27th St. NE\, Calgary\, Alberta\, Canada
CATEGORIES:LEARN PROGRAMS
ATTACH;FMTTYPE=image/jpeg:https://www.ilrcc.ab.ca/wp-content/uploads/2023/05/100-diy-string-art-flower-cards-1.jpg
ORGANIZER;CN="ILRCC":MAILTO:ed@ilrcc.ab.ca
END:VEVENT
BEGIN:VEVENT
DTSTART;TZID=America/Edmonton:20240701T123000
DTEND;TZID=America/Edmonton:20240819T140000
DTSTAMP:20260421T100140
CREATED:20240101T194716Z
LAST-MODIFIED:20240219T212035Z
UID:10005527-1719837000-1724076000@www.ilrcc.ab.ca
SUMMARY:Jewelry Making
DESCRIPTION:Mondays – Dates will be determined as soon as we have enough registrations \n2:30 pm – 3:30 pm \nILRCC – #134\, 3359 27th St. NE \nThe program runs for 8 weeks for $90. including supplies \nEach Monday join us and make some bracelets\, necklaces\, earrings\, and ankle bracelets \n*PLEASE  NOTE: Maximum of 8 participants per session. \nRegistration
URL:https://www.ilrcc.ab.ca/event/jewelry-making/2024-07-01/
CATEGORIES:LEARN PROGRAMS
ATTACH;FMTTYPE=image/jpeg:https://www.ilrcc.ab.ca/wp-content/uploads/2023/12/Jewelry-making.jpg
ORGANIZER;CN="ILRCC":MAILTO:ed@ilrcc.ab.ca
END:VEVENT
BEGIN:VEVENT
DTSTART;TZID=America/Edmonton:20240701T123000
DTEND;TZID=America/Edmonton:20240819T140000
DTSTAMP:20260421T100140
CREATED:20231230T185033Z
LAST-MODIFIED:20240219T213916Z
UID:10004961-1719837000-1724076000@www.ilrcc.ab.ca
SUMMARY:Monday Scrapbooking
DESCRIPTION:Mondays – Dates will be determined as soon as we have 4 participants \n12:30 pm – 2:00 pm \nILRCC – #134\, 3359 27th St. NE \nThe program runs for 8 weeks for $90. You bring the photo album and will we supply the rest. \nEach Monday join us and get creative\, as you choose the pictures that you would like to use and bring your photos to life in your own photo album. \n*PLEASE  NOTE: Maximum of 8 participants per session. \nRegistration
URL:https://www.ilrcc.ab.ca/event/monday-scrapbooking/2024-07-01/
CATEGORIES:LIFE SKILLS
ATTACH;FMTTYPE=image/jpeg:https://www.ilrcc.ab.ca/wp-content/uploads/2023/12/scapbooking.jpg
ORGANIZER;CN="ILRCC":MAILTO:ed@ilrcc.ab.ca
END:VEVENT
BEGIN:VEVENT
DTSTART;TZID=America/Edmonton:20240629T130000
DTEND;TZID=America/Edmonton:20240914T160000
DTSTAMP:20260421T100140
CREATED:20230829T001229Z
LAST-MODIFIED:20240219T224852Z
UID:10002623-1719666000-1726329600@www.ilrcc.ab.ca
SUMMARY:Saturday Bowling
DESCRIPTION:Dec 2 – Feb 24\, 2024                         1:00 pm – 3:00 pm \nChinook Bowladrome – 6455 Macleod Trail \nThe program runs for 12 weeks for $110. \nEach bowler pays for their bowling: $6.00/game \nRegistration
URL:https://www.ilrcc.ab.ca/event/saturday-bowling-2/2024-06-29/
CATEGORIES:LEARN PROGRAMS
ATTACH;FMTTYPE=image/jpeg:https://www.ilrcc.ab.ca/wp-content/uploads/2023/05/bowling.jpg
ORGANIZER;CN="ILRCC":MAILTO:ed@ilrcc.ab.ca
END:VEVENT
BEGIN:VEVENT
DTSTART;TZID=America/Edmonton:20240627T190000
DTEND;TZID=America/Edmonton:20240829T200000
DTSTAMP:20260421T100140
CREATED:20231230T205301Z
LAST-MODIFIED:20240219T212903Z
UID:10004993-1719514800-1724961600@www.ilrcc.ab.ca
SUMMARY:Thursday Dance + Sing Movements
DESCRIPTION:January 4 – March 7\, 2024 \n7:00 pm – 8:00 pm \nILRCC – #134\, 3359 27th St. NE \nThe program runs for 8 weeks for $75. \nCome join the fun for a Karaoke & Zumba evening at ILRCC \nRegistration
URL:https://www.ilrcc.ab.ca/event/thursday-dance-sing-movements-500pm-600pm-2-2/2024-06-27/
CATEGORIES:LEARN PROGRAMS
ATTACH;FMTTYPE=image/jpeg:https://www.ilrcc.ab.ca/wp-content/uploads/2023/05/Thursday-Dance-Sing-Movements.jpg
ORGANIZER;CN="ILRCC":MAILTO:ed@ilrcc.ab.ca
END:VEVENT
BEGIN:VEVENT
DTSTART;TZID=America/Edmonton:20240627T140000
DTEND;TZID=America/Edmonton:20240914T150000
DTSTAMP:20260421T100140
CREATED:20240101T193831Z
LAST-MODIFIED:20240219T211556Z
UID:10005829-1719496800-1726326000@www.ilrcc.ab.ca
SUMMARY:Thursday Life Skills
DESCRIPTION:Thursdays (2:00 pm – 3:00 pm)\n\n\n12 Weeks ($135.00) Full Session\n\nDrop-in modules (Each $20.00) Pre-Registration Required\n\nContact us for start dates\n\nTopics: \n\n\nCooking Safety\, Rules\, Hygiene\, Meal Preparation (2 Sessions = $40)\n\n\nOn-Line Safety\, Cyber\, Shopping\, Banking\, Social Media (2 Sessions = $40)\n\n\nSchedule Planning (1 Session = $20)\n\n\nBudgeting 101 (2 Sessions = $40)\n\n\nPublic Safety\, Strangers\, Transit Safety\, Self Defense (3 Sessions = $60)\n\n\nTime Management (1 Session = $20)\n\n\nGoal Setting (1 Session = $20)\n\n\n\n\nRegistration
URL:https://www.ilrcc.ab.ca/event/tuesday-life-skills-2-2/2024-06-27/
CATEGORIES:LIFE SKILLS
ATTACH;FMTTYPE=image/png:https://www.ilrcc.ab.ca/wp-content/uploads/2023/05/Life-Skills-1-1024x512-1.png
ORGANIZER;CN="ILRCC":MAILTO:ed@ilrcc.ab.ca
END:VEVENT
BEGIN:VEVENT
DTSTART;TZID=America/Edmonton:20240627T123000
DTEND;TZID=America/Edmonton:20240808T140000
DTSTAMP:20260421T100140
CREATED:20231227T015940Z
LAST-MODIFIED:20231230T183121Z
UID:10004874-1719491400-1723125600@www.ilrcc.ab.ca
SUMMARY:Thursday Cooking Lunch
DESCRIPTION:Dec 7 – Jan 18 (Full)\n \nTaking registrations for January 25 – February 29\, 2024 \n12:30 pm – 2:00 pm \nILRCC – #134\, 3359 27th St. NE \nThe program runs for 6 weeks for $75 including the cost of food. \nThis 6-week\, 1.5-hour-per-session\, cooking course is designed for all ability levels. Each week includes approximately 1 hour and 15 minutes of cooking and ends with sharing the meal preparation and cleaning up. \n*PLEASE  NOTE: Maximum of 6 participants per session. \nRegistration
URL:https://www.ilrcc.ab.ca/event/thursday-cooking-lunch/2024-06-27/
CATEGORIES:LIFE SKILLS
ATTACH;FMTTYPE=image/jpeg:https://www.ilrcc.ab.ca/wp-content/uploads/2023/05/cooking-1024x683-1.jpg
ORGANIZER;CN="ILRCC":MAILTO:ed@ilrcc.ab.ca
END:VEVENT
BEGIN:VEVENT
DTSTART;TZID=America/Edmonton:20240627T110000
DTEND;TZID=America/Edmonton:20240912T130000
DTSTAMP:20260421T100140
CREATED:20230829T002153Z
LAST-MODIFIED:20231227T012705Z
UID:10002560-1719486000-1726146000@www.ilrcc.ab.ca
SUMMARY:Thursday Arts and Crafts
DESCRIPTION:Nov 16 – Feb 15\, 2024 \n11:00 am – 12:00 pm \nILRCC – #134\, 3359 27th St. NE \nThe program runs for 12 weeks for $135 including the cost of materials. \nEach Thursday join us and get creative\, as you choose from 2-3 different art projects to try out! \n*PLEASE  NOTE: Maximum of 12 participants per session. \nRegistration
URL:https://www.ilrcc.ab.ca/event/thursday-arts-and-crafts-2/2024-06-27/
CATEGORIES:LEARN PROGRAMS
ATTACH;FMTTYPE=image/jpeg:https://www.ilrcc.ab.ca/wp-content/uploads/2023/05/istockphoto-519362488-612x612-1.jpg
ORGANIZER;CN="ILRCC":MAILTO:ed@ilrcc.ab.ca
END:VEVENT
BEGIN:VEVENT
DTSTART;TZID=America/Edmonton:20240626T173000
DTEND;TZID=America/Edmonton:20240925T193000
DTSTAMP:20260421T100140
CREATED:20231227T015344Z
LAST-MODIFIED:20240219T214856Z
UID:10002495-1719423000-1727292600@www.ilrcc.ab.ca
SUMMARY:Wednesday Pizza Night
DESCRIPTION:Nov 29 – Feb 28\, 2024 \n5:30 pm – 7:30 pm \nBoston Pizza – 2836 Memorial Dr SE \nThe program runs for 12 weeks for $110. \nYou are responsible for paying for your meal and if you have a smaller appetite\, you can order from the kids menu. \nRegistration
URL:https://www.ilrcc.ab.ca/event/wednesday-pizza-night-2-2/2024-06-26/
CATEGORIES:LIFE SKILLS
ATTACH;FMTTYPE=image/jpeg:https://www.ilrcc.ab.ca/wp-content/uploads/2023/05/Boston-Pizza-scaled-1.jpg
ORGANIZER;CN="ILRCC":MAILTO:ed@ilrcc.ab.ca
END:VEVENT
BEGIN:VEVENT
DTSTART;TZID=America/Edmonton:20240626T123000
DTEND;TZID=America/Edmonton:20240814T140000
DTSTAMP:20260421T100140
CREATED:20231227T015556Z
LAST-MODIFIED:20240219T214220Z
UID:10004043-1719405000-1723644000@www.ilrcc.ab.ca
SUMMARY:Wednesday Cooking Lunch
DESCRIPTION:Jan 24 – Feb 29\, 2024 \n12:30 pm – 2:00 pm \nILRCC – #134\, 3359 27th St. NE \nThe program runs for 6 weeks for $75 including the cost of food. \nThis 6-week\, 1.5-hour-per-session\, cooking course is designed for all ability levels. Each week includes approximately 1 hour and 15 minutes of cooking and ends with sharing the meal preparation and cleaning up. \n*PLEASE  NOTE: Maximum of 6 participants per session. \nRegistration
URL:https://www.ilrcc.ab.ca/event/wednesday-afternoon-cooking-2-2-2/2024-06-26/
CATEGORIES:LIFE SKILLS
ATTACH;FMTTYPE=image/jpeg:https://www.ilrcc.ab.ca/wp-content/uploads/2023/05/cooking-1024x683-1.jpg
ORGANIZER;CN="ILRCC":MAILTO:ed@ilrcc.ab.ca
END:VEVENT
BEGIN:VEVENT
DTSTART;VALUE=DATE:20240626
DTEND;VALUE=DATE:20240627
DTSTAMP:20260421T100140
CREATED:20230520T211759Z
LAST-MODIFIED:20230523T170651Z
UID:10002690-1719360000-1719446399@www.ilrcc.ab.ca
SUMMARY:Wednesday Media & Advertising
DESCRIPTION:“My Voice\, My Choice” is a newsletter for people with disabilities\, by people with disabilities. The team will come together and share ideas\, advocacy\, education\, and stories. Every month we will create and design a new edition for print and digital distribution. \nVolunteer program. Must commit to a minimum of 1 month to volunteer for the newsletter. \nJoin us and become part of our Newsletter team. We need editors\, photographers\, story writers\, artists\, and designers. Come showcase your talents!! \nRegistration
URL:https://www.ilrcc.ab.ca/event/wednesday-media-advertising/2024-06-26/
LOCATION:ILRCC\, ILRCC - #134\, 3359 27th St. NE\, Calgary\, Alberta\, Canada
CATEGORIES:LIFE SKILLS
ATTACH;FMTTYPE=image/jpeg:https://www.ilrcc.ab.ca/wp-content/uploads/2023/05/desktop-magazine-keyboard-design.jpg
ORGANIZER;CN="ILRCC":MAILTO:ed@ilrcc.ab.ca
END:VEVENT
BEGIN:VEVENT
DTSTART;TZID=America/Edmonton:20240625T130000
DTEND;TZID=America/Edmonton:20240910T150000
DTSTAMP:20260421T100140
CREATED:20230829T003322Z
LAST-MODIFIED:20231227T013018Z
UID:10002308-1719320400-1725980400@www.ilrcc.ab.ca
SUMMARY:Tuesday Arts and Crafts
DESCRIPTION:Nov 14 – Feb 13\, 2024 \n1:00pm – 2:00pm \nILRCC – #134\, 3359 27th St. NE \nThe program runs for 12 weeks for $135 including the cost of materials. \nBe creative and work with your hands! Learn different styles and techniques for drawing\, painting\, and creating your art. Build with different materials and create unique arts and crafts for gifts or display at home. \n*PLEASE  NOTE: Maximum of 12 participants per session. \nRegistration
URL:https://www.ilrcc.ab.ca/event/tuesday-arts-and-crafts-2/2024-06-25/
CATEGORIES:LEARN PROGRAMS
ATTACH;FMTTYPE=image/png:https://www.ilrcc.ab.ca/wp-content/uploads/2023/05/Arts-Crafts.png
ORGANIZER;CN="ILRCC":MAILTO:ed@ilrcc.ab.ca
END:VEVENT
BEGIN:VEVENT
DTSTART;TZID=America/Edmonton:20240625T113000
DTEND;TZID=America/Edmonton:20240813T113000
DTSTAMP:20260421T100140
CREATED:20230704T194641Z
LAST-MODIFIED:20240219T213122Z
UID:10004548-1719315000-1723548600@www.ilrcc.ab.ca
SUMMARY:Tuesday Music + Movement
DESCRIPTION:Feb 27 – April 16\, 2024 \n11:30 pm – 12:30 pm \nILRCC – #134\, 3359 27th St. NE \nThe program runs for 8 weeks for $75. \nMusic Therapy \n  \nPlay\, Move\, and Express yourself through interactive Music and Movement. \nEnjoy games\, songs\, rhythm & beats as we make beautiful noise together! \nRegistration
URL:https://www.ilrcc.ab.ca/event/tuesday-music-movement-2/2024-06-25/
CATEGORIES:LEARN PROGRAMS
ORGANIZER;CN="ILRCC":MAILTO:ed@ilrcc.ab.ca
END:VEVENT
BEGIN:VEVENT
DTSTART;TZID=America/Edmonton:20240624T180000
DTEND;TZID=America/Edmonton:20240624T191500
DTSTAMP:20260421T100140
CREATED:20230814T205507Z
LAST-MODIFIED:20230807T184622Z
UID:10002246-1719252000-1719256500@www.ilrcc.ab.ca
SUMMARY:Monday Arts and Drawing
DESCRIPTION:May 15th – July 31st \n6:00pm – 7:15pm \nILRCC – #134\, 3359 27th St. NE \nProgram runs for 12 weeks at a cost of $135 includes cost of materials. \nEach Monday evening join us and get creative!! \n*PLEASE  NOTE: Maximum of 12 participants per session. \nRegistration
URL:https://www.ilrcc.ab.ca/event/monday-arts-and-drawing-2/2024-06-24/
LOCATION:ILRCC\, ILRCC - #134\, 3359 27th St. NE\, Calgary\, Alberta\, Canada
CATEGORIES:LEARN PROGRAMS
ATTACH;FMTTYPE=image/jpeg:https://www.ilrcc.ab.ca/wp-content/uploads/2023/05/100-diy-string-art-flower-cards-1.jpg
ORGANIZER;CN="ILRCC":MAILTO:ed@ilrcc.ab.ca
END:VEVENT
BEGIN:VEVENT
DTSTART;TZID=America/Edmonton:20240624T123000
DTEND;TZID=America/Edmonton:20240812T140000
DTSTAMP:20260421T100140
CREATED:20240101T194716Z
LAST-MODIFIED:20240219T212035Z
UID:10005526-1719232200-1723471200@www.ilrcc.ab.ca
SUMMARY:Jewelry Making
DESCRIPTION:Mondays – Dates will be determined as soon as we have enough registrations \n2:30 pm – 3:30 pm \nILRCC – #134\, 3359 27th St. NE \nThe program runs for 8 weeks for $90. including supplies \nEach Monday join us and make some bracelets\, necklaces\, earrings\, and ankle bracelets \n*PLEASE  NOTE: Maximum of 8 participants per session. \nRegistration
URL:https://www.ilrcc.ab.ca/event/jewelry-making/2024-06-24/
CATEGORIES:LEARN PROGRAMS
ATTACH;FMTTYPE=image/jpeg:https://www.ilrcc.ab.ca/wp-content/uploads/2023/12/Jewelry-making.jpg
ORGANIZER;CN="ILRCC":MAILTO:ed@ilrcc.ab.ca
END:VEVENT
BEGIN:VEVENT
DTSTART;TZID=America/Edmonton:20240624T123000
DTEND;TZID=America/Edmonton:20240812T140000
DTSTAMP:20260421T100140
CREATED:20231230T185033Z
LAST-MODIFIED:20240219T213916Z
UID:10004960-1719232200-1723471200@www.ilrcc.ab.ca
SUMMARY:Monday Scrapbooking
DESCRIPTION:Mondays – Dates will be determined as soon as we have 4 participants \n12:30 pm – 2:00 pm \nILRCC – #134\, 3359 27th St. NE \nThe program runs for 8 weeks for $90. You bring the photo album and will we supply the rest. \nEach Monday join us and get creative\, as you choose the pictures that you would like to use and bring your photos to life in your own photo album. \n*PLEASE  NOTE: Maximum of 8 participants per session. \nRegistration
URL:https://www.ilrcc.ab.ca/event/monday-scrapbooking/2024-06-24/
CATEGORIES:LIFE SKILLS
ATTACH;FMTTYPE=image/jpeg:https://www.ilrcc.ab.ca/wp-content/uploads/2023/12/scapbooking.jpg
ORGANIZER;CN="ILRCC":MAILTO:ed@ilrcc.ab.ca
END:VEVENT
BEGIN:VEVENT
DTSTART;TZID=America/Edmonton:20240622T130000
DTEND;TZID=America/Edmonton:20240907T160000
DTSTAMP:20260421T100140
CREATED:20230829T001229Z
LAST-MODIFIED:20240219T224852Z
UID:10002622-1719061200-1725724800@www.ilrcc.ab.ca
SUMMARY:Saturday Bowling
DESCRIPTION:Dec 2 – Feb 24\, 2024                         1:00 pm – 3:00 pm \nChinook Bowladrome – 6455 Macleod Trail \nThe program runs for 12 weeks for $110. \nEach bowler pays for their bowling: $6.00/game \nRegistration
URL:https://www.ilrcc.ab.ca/event/saturday-bowling-2/2024-06-22/
CATEGORIES:LEARN PROGRAMS
ATTACH;FMTTYPE=image/jpeg:https://www.ilrcc.ab.ca/wp-content/uploads/2023/05/bowling.jpg
ORGANIZER;CN="ILRCC":MAILTO:ed@ilrcc.ab.ca
END:VEVENT
BEGIN:VEVENT
DTSTART;TZID=America/Edmonton:20240620T190000
DTEND;TZID=America/Edmonton:20240822T200000
DTSTAMP:20260421T100140
CREATED:20231230T205301Z
LAST-MODIFIED:20240219T212903Z
UID:10004992-1718910000-1724356800@www.ilrcc.ab.ca
SUMMARY:Thursday Dance + Sing Movements
DESCRIPTION:January 4 – March 7\, 2024 \n7:00 pm – 8:00 pm \nILRCC – #134\, 3359 27th St. NE \nThe program runs for 8 weeks for $75. \nCome join the fun for a Karaoke & Zumba evening at ILRCC \nRegistration
URL:https://www.ilrcc.ab.ca/event/thursday-dance-sing-movements-500pm-600pm-2-2/2024-06-20/
CATEGORIES:LEARN PROGRAMS
ATTACH;FMTTYPE=image/jpeg:https://www.ilrcc.ab.ca/wp-content/uploads/2023/05/Thursday-Dance-Sing-Movements.jpg
ORGANIZER;CN="ILRCC":MAILTO:ed@ilrcc.ab.ca
END:VEVENT
BEGIN:VEVENT
DTSTART;TZID=America/Edmonton:20240620T140000
DTEND;TZID=America/Edmonton:20240907T150000
DTSTAMP:20260421T100140
CREATED:20240101T193831Z
LAST-MODIFIED:20240219T211556Z
UID:10005828-1718892000-1725721200@www.ilrcc.ab.ca
SUMMARY:Thursday Life Skills
DESCRIPTION:Thursdays (2:00 pm – 3:00 pm)\n\n\n12 Weeks ($135.00) Full Session\n\nDrop-in modules (Each $20.00) Pre-Registration Required\n\nContact us for start dates\n\nTopics: \n\n\nCooking Safety\, Rules\, Hygiene\, Meal Preparation (2 Sessions = $40)\n\n\nOn-Line Safety\, Cyber\, Shopping\, Banking\, Social Media (2 Sessions = $40)\n\n\nSchedule Planning (1 Session = $20)\n\n\nBudgeting 101 (2 Sessions = $40)\n\n\nPublic Safety\, Strangers\, Transit Safety\, Self Defense (3 Sessions = $60)\n\n\nTime Management (1 Session = $20)\n\n\nGoal Setting (1 Session = $20)\n\n\n\n\nRegistration
URL:https://www.ilrcc.ab.ca/event/tuesday-life-skills-2-2/2024-06-20/
CATEGORIES:LIFE SKILLS
ATTACH;FMTTYPE=image/png:https://www.ilrcc.ab.ca/wp-content/uploads/2023/05/Life-Skills-1-1024x512-1.png
ORGANIZER;CN="ILRCC":MAILTO:ed@ilrcc.ab.ca
END:VEVENT
BEGIN:VEVENT
DTSTART;TZID=America/Edmonton:20240620T123000
DTEND;TZID=America/Edmonton:20240801T140000
DTSTAMP:20260421T100140
CREATED:20231227T015940Z
LAST-MODIFIED:20231230T183121Z
UID:10004873-1718886600-1722520800@www.ilrcc.ab.ca
SUMMARY:Thursday Cooking Lunch
DESCRIPTION:Dec 7 – Jan 18 (Full)\n \nTaking registrations for January 25 – February 29\, 2024 \n12:30 pm – 2:00 pm \nILRCC – #134\, 3359 27th St. NE \nThe program runs for 6 weeks for $75 including the cost of food. \nThis 6-week\, 1.5-hour-per-session\, cooking course is designed for all ability levels. Each week includes approximately 1 hour and 15 minutes of cooking and ends with sharing the meal preparation and cleaning up. \n*PLEASE  NOTE: Maximum of 6 participants per session. \nRegistration
URL:https://www.ilrcc.ab.ca/event/thursday-cooking-lunch/2024-06-20/
CATEGORIES:LIFE SKILLS
ATTACH;FMTTYPE=image/jpeg:https://www.ilrcc.ab.ca/wp-content/uploads/2023/05/cooking-1024x683-1.jpg
ORGANIZER;CN="ILRCC":MAILTO:ed@ilrcc.ab.ca
END:VEVENT
BEGIN:VEVENT
DTSTART;TZID=America/Edmonton:20240620T110000
DTEND;TZID=America/Edmonton:20240905T130000
DTSTAMP:20260421T100140
CREATED:20230829T002153Z
LAST-MODIFIED:20231227T012705Z
UID:10002559-1718881200-1725541200@www.ilrcc.ab.ca
SUMMARY:Thursday Arts and Crafts
DESCRIPTION:Nov 16 – Feb 15\, 2024 \n11:00 am – 12:00 pm \nILRCC – #134\, 3359 27th St. NE \nThe program runs for 12 weeks for $135 including the cost of materials. \nEach Thursday join us and get creative\, as you choose from 2-3 different art projects to try out! \n*PLEASE  NOTE: Maximum of 12 participants per session. \nRegistration
URL:https://www.ilrcc.ab.ca/event/thursday-arts-and-crafts-2/2024-06-20/
CATEGORIES:LEARN PROGRAMS
ATTACH;FMTTYPE=image/jpeg:https://www.ilrcc.ab.ca/wp-content/uploads/2023/05/istockphoto-519362488-612x612-1.jpg
ORGANIZER;CN="ILRCC":MAILTO:ed@ilrcc.ab.ca
END:VEVENT
BEGIN:VEVENT
DTSTART;TZID=America/Edmonton:20240619T173000
DTEND;TZID=America/Edmonton:20240918T193000
DTSTAMP:20260421T100140
CREATED:20231227T015344Z
LAST-MODIFIED:20240219T214856Z
UID:10002494-1718818200-1726687800@www.ilrcc.ab.ca
SUMMARY:Wednesday Pizza Night
DESCRIPTION:Nov 29 – Feb 28\, 2024 \n5:30 pm – 7:30 pm \nBoston Pizza – 2836 Memorial Dr SE \nThe program runs for 12 weeks for $110. \nYou are responsible for paying for your meal and if you have a smaller appetite\, you can order from the kids menu. \nRegistration
URL:https://www.ilrcc.ab.ca/event/wednesday-pizza-night-2-2/2024-06-19/
CATEGORIES:LIFE SKILLS
ATTACH;FMTTYPE=image/jpeg:https://www.ilrcc.ab.ca/wp-content/uploads/2023/05/Boston-Pizza-scaled-1.jpg
ORGANIZER;CN="ILRCC":MAILTO:ed@ilrcc.ab.ca
END:VEVENT
BEGIN:VEVENT
DTSTART;TZID=America/Edmonton:20240619T123000
DTEND;TZID=America/Edmonton:20240807T140000
DTSTAMP:20260421T100140
CREATED:20231227T015556Z
LAST-MODIFIED:20240219T214220Z
UID:10004042-1718800200-1723039200@www.ilrcc.ab.ca
SUMMARY:Wednesday Cooking Lunch
DESCRIPTION:Jan 24 – Feb 29\, 2024 \n12:30 pm – 2:00 pm \nILRCC – #134\, 3359 27th St. NE \nThe program runs for 6 weeks for $75 including the cost of food. \nThis 6-week\, 1.5-hour-per-session\, cooking course is designed for all ability levels. Each week includes approximately 1 hour and 15 minutes of cooking and ends with sharing the meal preparation and cleaning up. \n*PLEASE  NOTE: Maximum of 6 participants per session. \nRegistration
URL:https://www.ilrcc.ab.ca/event/wednesday-afternoon-cooking-2-2-2/2024-06-19/
CATEGORIES:LIFE SKILLS
ATTACH;FMTTYPE=image/jpeg:https://www.ilrcc.ab.ca/wp-content/uploads/2023/05/cooking-1024x683-1.jpg
ORGANIZER;CN="ILRCC":MAILTO:ed@ilrcc.ab.ca
END:VEVENT
BEGIN:VEVENT
DTSTART;VALUE=DATE:20240619
DTEND;VALUE=DATE:20240620
DTSTAMP:20260421T100140
CREATED:20230520T211759Z
LAST-MODIFIED:20230523T170651Z
UID:10002689-1718755200-1718841599@www.ilrcc.ab.ca
SUMMARY:Wednesday Media & Advertising
DESCRIPTION:“My Voice\, My Choice” is a newsletter for people with disabilities\, by people with disabilities. The team will come together and share ideas\, advocacy\, education\, and stories. Every month we will create and design a new edition for print and digital distribution. \nVolunteer program. Must commit to a minimum of 1 month to volunteer for the newsletter. \nJoin us and become part of our Newsletter team. We need editors\, photographers\, story writers\, artists\, and designers. Come showcase your talents!! \nRegistration
URL:https://www.ilrcc.ab.ca/event/wednesday-media-advertising/2024-06-19/
LOCATION:ILRCC\, ILRCC - #134\, 3359 27th St. NE\, Calgary\, Alberta\, Canada
CATEGORIES:LIFE SKILLS
ATTACH;FMTTYPE=image/jpeg:https://www.ilrcc.ab.ca/wp-content/uploads/2023/05/desktop-magazine-keyboard-design.jpg
ORGANIZER;CN="ILRCC":MAILTO:ed@ilrcc.ab.ca
END:VEVENT
BEGIN:VEVENT
DTSTART;TZID=America/Edmonton:20240618T130000
DTEND;TZID=America/Edmonton:20240903T150000
DTSTAMP:20260421T100140
CREATED:20230829T003322Z
LAST-MODIFIED:20231227T013018Z
UID:10002307-1718715600-1725375600@www.ilrcc.ab.ca
SUMMARY:Tuesday Arts and Crafts
DESCRIPTION:Nov 14 – Feb 13\, 2024 \n1:00pm – 2:00pm \nILRCC – #134\, 3359 27th St. NE \nThe program runs for 12 weeks for $135 including the cost of materials. \nBe creative and work with your hands! Learn different styles and techniques for drawing\, painting\, and creating your art. Build with different materials and create unique arts and crafts for gifts or display at home. \n*PLEASE  NOTE: Maximum of 12 participants per session. \nRegistration
URL:https://www.ilrcc.ab.ca/event/tuesday-arts-and-crafts-2/2024-06-18/
CATEGORIES:LEARN PROGRAMS
ATTACH;FMTTYPE=image/png:https://www.ilrcc.ab.ca/wp-content/uploads/2023/05/Arts-Crafts.png
ORGANIZER;CN="ILRCC":MAILTO:ed@ilrcc.ab.ca
END:VEVENT
BEGIN:VEVENT
DTSTART;TZID=America/Edmonton:20240618T113000
DTEND;TZID=America/Edmonton:20240806T113000
DTSTAMP:20260421T100140
CREATED:20230704T194641Z
LAST-MODIFIED:20240219T213122Z
UID:10004547-1718710200-1722943800@www.ilrcc.ab.ca
SUMMARY:Tuesday Music + Movement
DESCRIPTION:Feb 27 – April 16\, 2024 \n11:30 pm – 12:30 pm \nILRCC – #134\, 3359 27th St. NE \nThe program runs for 8 weeks for $75. \nMusic Therapy \n  \nPlay\, Move\, and Express yourself through interactive Music and Movement. \nEnjoy games\, songs\, rhythm & beats as we make beautiful noise together! \nRegistration
URL:https://www.ilrcc.ab.ca/event/tuesday-music-movement-2/2024-06-18/
CATEGORIES:LEARN PROGRAMS
ORGANIZER;CN="ILRCC":MAILTO:ed@ilrcc.ab.ca
END:VEVENT
BEGIN:VEVENT
DTSTART;TZID=America/Edmonton:20240617T180000
DTEND;TZID=America/Edmonton:20240617T191500
DTSTAMP:20260421T100140
CREATED:20230814T205507Z
LAST-MODIFIED:20230807T184622Z
UID:10002245-1718647200-1718651700@www.ilrcc.ab.ca
SUMMARY:Monday Arts and Drawing
DESCRIPTION:May 15th – July 31st \n6:00pm – 7:15pm \nILRCC – #134\, 3359 27th St. NE \nProgram runs for 12 weeks at a cost of $135 includes cost of materials. \nEach Monday evening join us and get creative!! \n*PLEASE  NOTE: Maximum of 12 participants per session. \nRegistration
URL:https://www.ilrcc.ab.ca/event/monday-arts-and-drawing-2/2024-06-17/
LOCATION:ILRCC\, ILRCC - #134\, 3359 27th St. NE\, Calgary\, Alberta\, Canada
CATEGORIES:LEARN PROGRAMS
ATTACH;FMTTYPE=image/jpeg:https://www.ilrcc.ab.ca/wp-content/uploads/2023/05/100-diy-string-art-flower-cards-1.jpg
ORGANIZER;CN="ILRCC":MAILTO:ed@ilrcc.ab.ca
END:VEVENT
BEGIN:VEVENT
DTSTART;TZID=America/Edmonton:20240617T150000
DTEND;TZID=America/Edmonton:20250113T140000
DTSTAMP:20260421T100140
CREATED:20231227T014001Z
LAST-MODIFIED:20231227T014951Z
UID:10004806-1718636400-1736776800@www.ilrcc.ab.ca
SUMMARY:Summer Gardening
DESCRIPTION:May 1st  – June 19th 3:00 pm – 4:00 pm \nIn May and June\, we are doing all the planting for the Herbs + Veggies \nAugust 21 – October 9   \nOnce the vegetables are ready\, we will pull them out and start canning\, freezing\, and cooking. \nILRCC – #134\, 3359 27th St. NE \nThe program runs for 16 weeks at a cost of $100 including cost of materials. \nRegistration
URL:https://www.ilrcc.ab.ca/event/summer-gardening-2/2024-06-17/
LOCATION:ILRCC\, ILRCC - #134\, 3359 27th St. NE\, Calgary\, Alberta\, Canada
CATEGORIES:LIFE SKILLS
ATTACH;FMTTYPE=image/jpeg:https://www.ilrcc.ab.ca/wp-content/uploads/2023/05/download-1024x576-1.jpg
ORGANIZER;CN="ILRCC":MAILTO:ed@ilrcc.ab.ca
END:VEVENT
BEGIN:VEVENT
DTSTART;TZID=America/Edmonton:20240617T123000
DTEND;TZID=America/Edmonton:20240805T140000
DTSTAMP:20260421T100140
CREATED:20240101T194716Z
LAST-MODIFIED:20240219T212035Z
UID:10005525-1718627400-1722866400@www.ilrcc.ab.ca
SUMMARY:Jewelry Making
DESCRIPTION:Mondays – Dates will be determined as soon as we have enough registrations \n2:30 pm – 3:30 pm \nILRCC – #134\, 3359 27th St. NE \nThe program runs for 8 weeks for $90. including supplies \nEach Monday join us and make some bracelets\, necklaces\, earrings\, and ankle bracelets \n*PLEASE  NOTE: Maximum of 8 participants per session. \nRegistration
URL:https://www.ilrcc.ab.ca/event/jewelry-making/2024-06-17/
CATEGORIES:LEARN PROGRAMS
ATTACH;FMTTYPE=image/jpeg:https://www.ilrcc.ab.ca/wp-content/uploads/2023/12/Jewelry-making.jpg
ORGANIZER;CN="ILRCC":MAILTO:ed@ilrcc.ab.ca
END:VEVENT
END:VCALENDAR