BEGIN:VCALENDAR
VERSION:2.0
PRODID:-//ILRCC - ECPv6.15.20//NONSGML v1.0//EN
CALSCALE:GREGORIAN
METHOD:PUBLISH
X-ORIGINAL-URL:https://www.ilrcc.ab.ca
X-WR-CALDESC:Events for ILRCC
REFRESH-INTERVAL;VALUE=DURATION:PT1H
X-Robots-Tag:noindex
X-PUBLISHED-TTL:PT1H
BEGIN:VTIMEZONE
TZID:America/Edmonton
BEGIN:DAYLIGHT
TZOFFSETFROM:-0700
TZOFFSETTO:-0600
TZNAME:MDT
DTSTART:20220313T090000
END:DAYLIGHT
BEGIN:STANDARD
TZOFFSETFROM:-0600
TZOFFSETTO:-0700
TZNAME:MST
DTSTART:20221106T080000
END:STANDARD
BEGIN:DAYLIGHT
TZOFFSETFROM:-0700
TZOFFSETTO:-0600
TZNAME:MDT
DTSTART:20230312T090000
END:DAYLIGHT
BEGIN:STANDARD
TZOFFSETFROM:-0600
TZOFFSETTO:-0700
TZNAME:MST
DTSTART:20231105T080000
END:STANDARD
BEGIN:DAYLIGHT
TZOFFSETFROM:-0700
TZOFFSETTO:-0600
TZNAME:MDT
DTSTART:20240310T090000
END:DAYLIGHT
BEGIN:STANDARD
TZOFFSETFROM:-0600
TZOFFSETTO:-0700
TZNAME:MST
DTSTART:20241103T080000
END:STANDARD
BEGIN:DAYLIGHT
TZOFFSETFROM:-0700
TZOFFSETTO:-0600
TZNAME:MDT
DTSTART:20250309T090000
END:DAYLIGHT
BEGIN:STANDARD
TZOFFSETFROM:-0600
TZOFFSETTO:-0700
TZNAME:MST
DTSTART:20251102T080000
END:STANDARD
END:VTIMEZONE
BEGIN:VEVENT
DTSTART;VALUE=DATE:20240103
DTEND;VALUE=DATE:20240104
DTSTAMP:20260423T161948
CREATED:20230520T211759Z
LAST-MODIFIED:20230523T170651Z
UID:10002665-1704240000-1704326399@www.ilrcc.ab.ca
SUMMARY:Wednesday Media & Advertising
DESCRIPTION:“My Voice\, My Choice” is a newsletter for people with disabilities\, by people with disabilities. The team will come together and share ideas\, advocacy\, education\, and stories. Every month we will create and design a new edition for print and digital distribution. \nVolunteer program. Must commit to a minimum of 1 month to volunteer for the newsletter. \nJoin us and become part of our Newsletter team. We need editors\, photographers\, story writers\, artists\, and designers. Come showcase your talents!! \nRegistration
URL:https://www.ilrcc.ab.ca/event/wednesday-media-advertising/2024-01-03/
LOCATION:ILRCC\, ILRCC - #134\, 3359 27th St. NE\, Calgary\, Alberta\, Canada
CATEGORIES:LIFE SKILLS
ATTACH;FMTTYPE=image/jpeg:https://www.ilrcc.ab.ca/wp-content/uploads/2023/05/desktop-magazine-keyboard-design.jpg
ORGANIZER;CN="ILRCC":MAILTO:ed@ilrcc.ab.ca
END:VEVENT
BEGIN:VEVENT
DTSTART;TZID=America/Edmonton:20240102T130000
DTEND;TZID=America/Edmonton:20240319T150000
DTSTAMP:20260423T161948
CREATED:20230829T003322Z
LAST-MODIFIED:20231227T013018Z
UID:10002283-1704200400-1710860400@www.ilrcc.ab.ca
SUMMARY:Tuesday Arts and Crafts
DESCRIPTION:Nov 14 – Feb 13\, 2024 \n1:00pm – 2:00pm \nILRCC – #134\, 3359 27th St. NE \nThe program runs for 12 weeks for $135 including the cost of materials. \nBe creative and work with your hands! Learn different styles and techniques for drawing\, painting\, and creating your art. Build with different materials and create unique arts and crafts for gifts or display at home. \n*PLEASE  NOTE: Maximum of 12 participants per session. \nRegistration
URL:https://www.ilrcc.ab.ca/event/tuesday-arts-and-crafts-2/2024-01-02/
CATEGORIES:LEARN PROGRAMS
ATTACH;FMTTYPE=image/png:https://www.ilrcc.ab.ca/wp-content/uploads/2023/05/Arts-Crafts.png
ORGANIZER;CN="ILRCC":MAILTO:ed@ilrcc.ab.ca
END:VEVENT
BEGIN:VEVENT
DTSTART;TZID=America/Edmonton:20240101T180000
DTEND;TZID=America/Edmonton:20240101T191500
DTSTAMP:20260423T161948
CREATED:20230814T205507Z
LAST-MODIFIED:20230807T184622Z
UID:10002221-1704132000-1704136500@www.ilrcc.ab.ca
SUMMARY:Monday Arts and Drawing
DESCRIPTION:May 15th – July 31st \n6:00pm – 7:15pm \nILRCC – #134\, 3359 27th St. NE \nProgram runs for 12 weeks at a cost of $135 includes cost of materials. \nEach Monday evening join us and get creative!! \n*PLEASE  NOTE: Maximum of 12 participants per session. \nRegistration
URL:https://www.ilrcc.ab.ca/event/monday-arts-and-drawing-2/2024-01-01/
LOCATION:ILRCC\, ILRCC - #134\, 3359 27th St. NE\, Calgary\, Alberta\, Canada
CATEGORIES:LEARN PROGRAMS
ATTACH;FMTTYPE=image/jpeg:https://www.ilrcc.ab.ca/wp-content/uploads/2023/05/100-diy-string-art-flower-cards-1.jpg
ORGANIZER;CN="ILRCC":MAILTO:ed@ilrcc.ab.ca
END:VEVENT
BEGIN:VEVENT
DTSTART;TZID=America/Edmonton:20231230T130000
DTEND;TZID=America/Edmonton:20240316T160000
DTSTAMP:20260423T161948
CREATED:20230829T001229Z
LAST-MODIFIED:20240219T224852Z
UID:10002597-1703941200-1710604800@www.ilrcc.ab.ca
SUMMARY:Saturday Bowling
DESCRIPTION:Dec 2 – Feb 24\, 2024                         1:00 pm – 3:00 pm \nChinook Bowladrome – 6455 Macleod Trail \nThe program runs for 12 weeks for $110. \nEach bowler pays for their bowling: $6.00/game \nRegistration
URL:https://www.ilrcc.ab.ca/event/saturday-bowling-2/2023-12-30/
CATEGORIES:LEARN PROGRAMS
ATTACH;FMTTYPE=image/jpeg:https://www.ilrcc.ab.ca/wp-content/uploads/2023/05/bowling.jpg
ORGANIZER;CN="ILRCC":MAILTO:ed@ilrcc.ab.ca
END:VEVENT
BEGIN:VEVENT
DTSTART;TZID=America/Edmonton:20231228T123000
DTEND;TZID=America/Edmonton:20240208T140000
DTSTAMP:20260423T161948
CREATED:20231227T015940Z
LAST-MODIFIED:20231230T183121Z
UID:10004848-1703766600-1707400800@www.ilrcc.ab.ca
SUMMARY:Thursday Cooking Lunch
DESCRIPTION:Dec 7 – Jan 18 (Full)\n \nTaking registrations for January 25 – February 29\, 2024 \n12:30 pm – 2:00 pm \nILRCC – #134\, 3359 27th St. NE \nThe program runs for 6 weeks for $75 including the cost of food. \nThis 6-week\, 1.5-hour-per-session\, cooking course is designed for all ability levels. Each week includes approximately 1 hour and 15 minutes of cooking and ends with sharing the meal preparation and cleaning up. \n*PLEASE  NOTE: Maximum of 6 participants per session. \nRegistration
URL:https://www.ilrcc.ab.ca/event/thursday-cooking-lunch/2023-12-28/
CATEGORIES:LIFE SKILLS
ATTACH;FMTTYPE=image/jpeg:https://www.ilrcc.ab.ca/wp-content/uploads/2023/05/cooking-1024x683-1.jpg
ORGANIZER;CN="ILRCC":MAILTO:ed@ilrcc.ab.ca
END:VEVENT
BEGIN:VEVENT
DTSTART;TZID=America/Edmonton:20231228T110000
DTEND;TZID=America/Edmonton:20240314T130000
DTSTAMP:20260423T161948
CREATED:20230829T002153Z
LAST-MODIFIED:20231227T012705Z
UID:10002534-1703761200-1710421200@www.ilrcc.ab.ca
SUMMARY:Thursday Arts and Crafts
DESCRIPTION:Nov 16 – Feb 15\, 2024 \n11:00 am – 12:00 pm \nILRCC – #134\, 3359 27th St. NE \nThe program runs for 12 weeks for $135 including the cost of materials. \nEach Thursday join us and get creative\, as you choose from 2-3 different art projects to try out! \n*PLEASE  NOTE: Maximum of 12 participants per session. \nRegistration
URL:https://www.ilrcc.ab.ca/event/thursday-arts-and-crafts-2/2023-12-28/
CATEGORIES:LEARN PROGRAMS
ATTACH;FMTTYPE=image/jpeg:https://www.ilrcc.ab.ca/wp-content/uploads/2023/05/istockphoto-519362488-612x612-1.jpg
ORGANIZER;CN="ILRCC":MAILTO:ed@ilrcc.ab.ca
END:VEVENT
BEGIN:VEVENT
DTSTART;TZID=America/Edmonton:20231227T173000
DTEND;TZID=America/Edmonton:20240327T193000
DTSTAMP:20260423T161948
CREATED:20231227T015344Z
LAST-MODIFIED:20240219T214856Z
UID:10002469-1703698200-1711567800@www.ilrcc.ab.ca
SUMMARY:Wednesday Pizza Night
DESCRIPTION:Nov 29 – Feb 28\, 2024 \n5:30 pm – 7:30 pm \nBoston Pizza – 2836 Memorial Dr SE \nThe program runs for 12 weeks for $110. \nYou are responsible for paying for your meal and if you have a smaller appetite\, you can order from the kids menu. \nRegistration
URL:https://www.ilrcc.ab.ca/event/wednesday-pizza-night-2-2/2023-12-27/
CATEGORIES:LIFE SKILLS
ATTACH;FMTTYPE=image/jpeg:https://www.ilrcc.ab.ca/wp-content/uploads/2023/05/Boston-Pizza-scaled-1.jpg
ORGANIZER;CN="ILRCC":MAILTO:ed@ilrcc.ab.ca
END:VEVENT
BEGIN:VEVENT
DTSTART;TZID=America/Edmonton:20231227T123000
DTEND;TZID=America/Edmonton:20240214T140000
DTSTAMP:20260423T161948
CREATED:20231227T015556Z
LAST-MODIFIED:20240219T214220Z
UID:10004017-1703680200-1707919200@www.ilrcc.ab.ca
SUMMARY:Wednesday Cooking Lunch
DESCRIPTION:Jan 24 – Feb 29\, 2024 \n12:30 pm – 2:00 pm \nILRCC – #134\, 3359 27th St. NE \nThe program runs for 6 weeks for $75 including the cost of food. \nThis 6-week\, 1.5-hour-per-session\, cooking course is designed for all ability levels. Each week includes approximately 1 hour and 15 minutes of cooking and ends with sharing the meal preparation and cleaning up. \n*PLEASE  NOTE: Maximum of 6 participants per session. \nRegistration
URL:https://www.ilrcc.ab.ca/event/wednesday-afternoon-cooking-2-2-2/2023-12-27/
CATEGORIES:LIFE SKILLS
ATTACH;FMTTYPE=image/jpeg:https://www.ilrcc.ab.ca/wp-content/uploads/2023/05/cooking-1024x683-1.jpg
ORGANIZER;CN="ILRCC":MAILTO:ed@ilrcc.ab.ca
END:VEVENT
BEGIN:VEVENT
DTSTART;VALUE=DATE:20231227
DTEND;VALUE=DATE:20231228
DTSTAMP:20260423T161948
CREATED:20230520T211759Z
LAST-MODIFIED:20230523T170651Z
UID:10002664-1703635200-1703721599@www.ilrcc.ab.ca
SUMMARY:Wednesday Media & Advertising
DESCRIPTION:“My Voice\, My Choice” is a newsletter for people with disabilities\, by people with disabilities. The team will come together and share ideas\, advocacy\, education\, and stories. Every month we will create and design a new edition for print and digital distribution. \nVolunteer program. Must commit to a minimum of 1 month to volunteer for the newsletter. \nJoin us and become part of our Newsletter team. We need editors\, photographers\, story writers\, artists\, and designers. Come showcase your talents!! \nRegistration
URL:https://www.ilrcc.ab.ca/event/wednesday-media-advertising/2023-12-27/
LOCATION:ILRCC\, ILRCC - #134\, 3359 27th St. NE\, Calgary\, Alberta\, Canada
CATEGORIES:LIFE SKILLS
ATTACH;FMTTYPE=image/jpeg:https://www.ilrcc.ab.ca/wp-content/uploads/2023/05/desktop-magazine-keyboard-design.jpg
ORGANIZER;CN="ILRCC":MAILTO:ed@ilrcc.ab.ca
END:VEVENT
BEGIN:VEVENT
DTSTART;TZID=America/Edmonton:20231226T130000
DTEND;TZID=America/Edmonton:20240312T150000
DTSTAMP:20260423T161948
CREATED:20230829T003322Z
LAST-MODIFIED:20231227T013018Z
UID:10002282-1703595600-1710255600@www.ilrcc.ab.ca
SUMMARY:Tuesday Arts and Crafts
DESCRIPTION:Nov 14 – Feb 13\, 2024 \n1:00pm – 2:00pm \nILRCC – #134\, 3359 27th St. NE \nThe program runs for 12 weeks for $135 including the cost of materials. \nBe creative and work with your hands! Learn different styles and techniques for drawing\, painting\, and creating your art. Build with different materials and create unique arts and crafts for gifts or display at home. \n*PLEASE  NOTE: Maximum of 12 participants per session. \nRegistration
URL:https://www.ilrcc.ab.ca/event/tuesday-arts-and-crafts-2/2023-12-26/
CATEGORIES:LEARN PROGRAMS
ATTACH;FMTTYPE=image/png:https://www.ilrcc.ab.ca/wp-content/uploads/2023/05/Arts-Crafts.png
ORGANIZER;CN="ILRCC":MAILTO:ed@ilrcc.ab.ca
END:VEVENT
BEGIN:VEVENT
DTSTART;TZID=America/Edmonton:20231225T180000
DTEND;TZID=America/Edmonton:20231225T191500
DTSTAMP:20260423T161948
CREATED:20230814T205507Z
LAST-MODIFIED:20230807T184622Z
UID:10002220-1703527200-1703531700@www.ilrcc.ab.ca
SUMMARY:Monday Arts and Drawing
DESCRIPTION:May 15th – July 31st \n6:00pm – 7:15pm \nILRCC – #134\, 3359 27th St. NE \nProgram runs for 12 weeks at a cost of $135 includes cost of materials. \nEach Monday evening join us and get creative!! \n*PLEASE  NOTE: Maximum of 12 participants per session. \nRegistration
URL:https://www.ilrcc.ab.ca/event/monday-arts-and-drawing-2/2023-12-25/
LOCATION:ILRCC\, ILRCC - #134\, 3359 27th St. NE\, Calgary\, Alberta\, Canada
CATEGORIES:LEARN PROGRAMS
ATTACH;FMTTYPE=image/jpeg:https://www.ilrcc.ab.ca/wp-content/uploads/2023/05/100-diy-string-art-flower-cards-1.jpg
ORGANIZER;CN="ILRCC":MAILTO:ed@ilrcc.ab.ca
END:VEVENT
BEGIN:VEVENT
DTSTART;TZID=America/Edmonton:20231225T150000
DTEND;TZID=America/Edmonton:20231225T160000
DTSTAMP:20260423T161948
CREATED:20230520T212058Z
LAST-MODIFIED:20231226T231448Z
UID:10002928-1703516400-1703520000@www.ilrcc.ab.ca
SUMMARY:Summer Gardening
DESCRIPTION:May 1st  – June 19th 3:00 pm – 4:00 pm \nIn May and June\, we are doing all the planting for the Herbs + Veggies \nAugust 21 – October 9   \nOnce the vegetables are ready\, we will pull them out and start canning\, freezing\, and cooking. \nILRCC – #134\, 3359 27th St. NE \nThe program runs for 16 weeks at a cost of $100 including cost of materials. \nRegistration
URL:https://www.ilrcc.ab.ca/event/summer-gardening/2023-12-25/
LOCATION:ILRCC\, ILRCC - #134\, 3359 27th St. NE\, Calgary\, Alberta\, Canada
CATEGORIES:LIFE SKILLS
ATTACH;FMTTYPE=image/jpeg:https://www.ilrcc.ab.ca/wp-content/uploads/2023/05/download-1024x576-1.jpg
ORGANIZER;CN="ILRCC":MAILTO:ed@ilrcc.ab.ca
END:VEVENT
BEGIN:VEVENT
DTSTART;TZID=America/Edmonton:20231223T130000
DTEND;TZID=America/Edmonton:20240309T160000
DTSTAMP:20260423T161948
CREATED:20230829T001229Z
LAST-MODIFIED:20240219T224852Z
UID:10002596-1703336400-1710000000@www.ilrcc.ab.ca
SUMMARY:Saturday Bowling
DESCRIPTION:Dec 2 – Feb 24\, 2024                         1:00 pm – 3:00 pm \nChinook Bowladrome – 6455 Macleod Trail \nThe program runs for 12 weeks for $110. \nEach bowler pays for their bowling: $6.00/game \nRegistration
URL:https://www.ilrcc.ab.ca/event/saturday-bowling-2/2023-12-23/
CATEGORIES:LEARN PROGRAMS
ATTACH;FMTTYPE=image/jpeg:https://www.ilrcc.ab.ca/wp-content/uploads/2023/05/bowling.jpg
ORGANIZER;CN="ILRCC":MAILTO:ed@ilrcc.ab.ca
END:VEVENT
BEGIN:VEVENT
DTSTART;TZID=America/Edmonton:20231221T123000
DTEND;TZID=America/Edmonton:20240201T140000
DTSTAMP:20260423T161948
CREATED:20231227T015940Z
LAST-MODIFIED:20231230T183121Z
UID:10004847-1703161800-1706796000@www.ilrcc.ab.ca
SUMMARY:Thursday Cooking Lunch
DESCRIPTION:Dec 7 – Jan 18 (Full)\n \nTaking registrations for January 25 – February 29\, 2024 \n12:30 pm – 2:00 pm \nILRCC – #134\, 3359 27th St. NE \nThe program runs for 6 weeks for $75 including the cost of food. \nThis 6-week\, 1.5-hour-per-session\, cooking course is designed for all ability levels. Each week includes approximately 1 hour and 15 minutes of cooking and ends with sharing the meal preparation and cleaning up. \n*PLEASE  NOTE: Maximum of 6 participants per session. \nRegistration
URL:https://www.ilrcc.ab.ca/event/thursday-cooking-lunch/2023-12-21/
CATEGORIES:LIFE SKILLS
ATTACH;FMTTYPE=image/jpeg:https://www.ilrcc.ab.ca/wp-content/uploads/2023/05/cooking-1024x683-1.jpg
ORGANIZER;CN="ILRCC":MAILTO:ed@ilrcc.ab.ca
END:VEVENT
BEGIN:VEVENT
DTSTART;TZID=America/Edmonton:20231221T110000
DTEND;TZID=America/Edmonton:20240307T130000
DTSTAMP:20260423T161948
CREATED:20230829T002153Z
LAST-MODIFIED:20231227T012705Z
UID:10002533-1703156400-1709816400@www.ilrcc.ab.ca
SUMMARY:Thursday Arts and Crafts
DESCRIPTION:Nov 16 – Feb 15\, 2024 \n11:00 am – 12:00 pm \nILRCC – #134\, 3359 27th St. NE \nThe program runs for 12 weeks for $135 including the cost of materials. \nEach Thursday join us and get creative\, as you choose from 2-3 different art projects to try out! \n*PLEASE  NOTE: Maximum of 12 participants per session. \nRegistration
URL:https://www.ilrcc.ab.ca/event/thursday-arts-and-crafts-2/2023-12-21/
CATEGORIES:LEARN PROGRAMS
ATTACH;FMTTYPE=image/jpeg:https://www.ilrcc.ab.ca/wp-content/uploads/2023/05/istockphoto-519362488-612x612-1.jpg
ORGANIZER;CN="ILRCC":MAILTO:ed@ilrcc.ab.ca
END:VEVENT
BEGIN:VEVENT
DTSTART;TZID=America/Edmonton:20231220T173000
DTEND;TZID=America/Edmonton:20240320T193000
DTSTAMP:20260423T161948
CREATED:20231227T015344Z
LAST-MODIFIED:20240219T214856Z
UID:10002468-1703093400-1710963000@www.ilrcc.ab.ca
SUMMARY:Wednesday Pizza Night
DESCRIPTION:Nov 29 – Feb 28\, 2024 \n5:30 pm – 7:30 pm \nBoston Pizza – 2836 Memorial Dr SE \nThe program runs for 12 weeks for $110. \nYou are responsible for paying for your meal and if you have a smaller appetite\, you can order from the kids menu. \nRegistration
URL:https://www.ilrcc.ab.ca/event/wednesday-pizza-night-2-2/2023-12-20/
CATEGORIES:LIFE SKILLS
ATTACH;FMTTYPE=image/jpeg:https://www.ilrcc.ab.ca/wp-content/uploads/2023/05/Boston-Pizza-scaled-1.jpg
ORGANIZER;CN="ILRCC":MAILTO:ed@ilrcc.ab.ca
END:VEVENT
BEGIN:VEVENT
DTSTART;TZID=America/Edmonton:20231220T123000
DTEND;TZID=America/Edmonton:20240207T140000
DTSTAMP:20260423T161948
CREATED:20231227T015556Z
LAST-MODIFIED:20240219T214220Z
UID:10004016-1703075400-1707314400@www.ilrcc.ab.ca
SUMMARY:Wednesday Cooking Lunch
DESCRIPTION:Jan 24 – Feb 29\, 2024 \n12:30 pm – 2:00 pm \nILRCC – #134\, 3359 27th St. NE \nThe program runs for 6 weeks for $75 including the cost of food. \nThis 6-week\, 1.5-hour-per-session\, cooking course is designed for all ability levels. Each week includes approximately 1 hour and 15 minutes of cooking and ends with sharing the meal preparation and cleaning up. \n*PLEASE  NOTE: Maximum of 6 participants per session. \nRegistration
URL:https://www.ilrcc.ab.ca/event/wednesday-afternoon-cooking-2-2-2/2023-12-20/
CATEGORIES:LIFE SKILLS
ATTACH;FMTTYPE=image/jpeg:https://www.ilrcc.ab.ca/wp-content/uploads/2023/05/cooking-1024x683-1.jpg
ORGANIZER;CN="ILRCC":MAILTO:ed@ilrcc.ab.ca
END:VEVENT
BEGIN:VEVENT
DTSTART;VALUE=DATE:20231220
DTEND;VALUE=DATE:20231221
DTSTAMP:20260423T161948
CREATED:20230520T211759Z
LAST-MODIFIED:20230523T170651Z
UID:10002663-1703030400-1703116799@www.ilrcc.ab.ca
SUMMARY:Wednesday Media & Advertising
DESCRIPTION:“My Voice\, My Choice” is a newsletter for people with disabilities\, by people with disabilities. The team will come together and share ideas\, advocacy\, education\, and stories. Every month we will create and design a new edition for print and digital distribution. \nVolunteer program. Must commit to a minimum of 1 month to volunteer for the newsletter. \nJoin us and become part of our Newsletter team. We need editors\, photographers\, story writers\, artists\, and designers. Come showcase your talents!! \nRegistration
URL:https://www.ilrcc.ab.ca/event/wednesday-media-advertising/2023-12-20/
LOCATION:ILRCC\, ILRCC - #134\, 3359 27th St. NE\, Calgary\, Alberta\, Canada
CATEGORIES:LIFE SKILLS
ATTACH;FMTTYPE=image/jpeg:https://www.ilrcc.ab.ca/wp-content/uploads/2023/05/desktop-magazine-keyboard-design.jpg
ORGANIZER;CN="ILRCC":MAILTO:ed@ilrcc.ab.ca
END:VEVENT
BEGIN:VEVENT
DTSTART;TZID=America/Edmonton:20231219T130000
DTEND;TZID=America/Edmonton:20240305T150000
DTSTAMP:20260423T161948
CREATED:20230829T003322Z
LAST-MODIFIED:20231227T013018Z
UID:10002281-1702990800-1709650800@www.ilrcc.ab.ca
SUMMARY:Tuesday Arts and Crafts
DESCRIPTION:Nov 14 – Feb 13\, 2024 \n1:00pm – 2:00pm \nILRCC – #134\, 3359 27th St. NE \nThe program runs for 12 weeks for $135 including the cost of materials. \nBe creative and work with your hands! Learn different styles and techniques for drawing\, painting\, and creating your art. Build with different materials and create unique arts and crafts for gifts or display at home. \n*PLEASE  NOTE: Maximum of 12 participants per session. \nRegistration
URL:https://www.ilrcc.ab.ca/event/tuesday-arts-and-crafts-2/2023-12-19/
CATEGORIES:LEARN PROGRAMS
ATTACH;FMTTYPE=image/png:https://www.ilrcc.ab.ca/wp-content/uploads/2023/05/Arts-Crafts.png
ORGANIZER;CN="ILRCC":MAILTO:ed@ilrcc.ab.ca
END:VEVENT
BEGIN:VEVENT
DTSTART;TZID=America/Edmonton:20231218T180000
DTEND;TZID=America/Edmonton:20231218T191500
DTSTAMP:20260423T161948
CREATED:20230814T205507Z
LAST-MODIFIED:20230807T184622Z
UID:10002219-1702922400-1702926900@www.ilrcc.ab.ca
SUMMARY:Monday Arts and Drawing
DESCRIPTION:May 15th – July 31st \n6:00pm – 7:15pm \nILRCC – #134\, 3359 27th St. NE \nProgram runs for 12 weeks at a cost of $135 includes cost of materials. \nEach Monday evening join us and get creative!! \n*PLEASE  NOTE: Maximum of 12 participants per session. \nRegistration
URL:https://www.ilrcc.ab.ca/event/monday-arts-and-drawing-2/2023-12-18/
LOCATION:ILRCC\, ILRCC - #134\, 3359 27th St. NE\, Calgary\, Alberta\, Canada
CATEGORIES:LEARN PROGRAMS
ATTACH;FMTTYPE=image/jpeg:https://www.ilrcc.ab.ca/wp-content/uploads/2023/05/100-diy-string-art-flower-cards-1.jpg
ORGANIZER;CN="ILRCC":MAILTO:ed@ilrcc.ab.ca
END:VEVENT
BEGIN:VEVENT
DTSTART;TZID=America/Edmonton:20231218T150000
DTEND;TZID=America/Edmonton:20231218T160000
DTSTAMP:20260423T161948
CREATED:20230520T212058Z
LAST-MODIFIED:20231226T231448Z
UID:10002927-1702911600-1702915200@www.ilrcc.ab.ca
SUMMARY:Summer Gardening
DESCRIPTION:May 1st  – June 19th 3:00 pm – 4:00 pm \nIn May and June\, we are doing all the planting for the Herbs + Veggies \nAugust 21 – October 9   \nOnce the vegetables are ready\, we will pull them out and start canning\, freezing\, and cooking. \nILRCC – #134\, 3359 27th St. NE \nThe program runs for 16 weeks at a cost of $100 including cost of materials. \nRegistration
URL:https://www.ilrcc.ab.ca/event/summer-gardening/2023-12-18/
LOCATION:ILRCC\, ILRCC - #134\, 3359 27th St. NE\, Calgary\, Alberta\, Canada
CATEGORIES:LIFE SKILLS
ATTACH;FMTTYPE=image/jpeg:https://www.ilrcc.ab.ca/wp-content/uploads/2023/05/download-1024x576-1.jpg
ORGANIZER;CN="ILRCC":MAILTO:ed@ilrcc.ab.ca
END:VEVENT
BEGIN:VEVENT
DTSTART;TZID=America/Edmonton:20231216T130000
DTEND;TZID=America/Edmonton:20240302T160000
DTSTAMP:20260423T161948
CREATED:20230829T001229Z
LAST-MODIFIED:20240219T224852Z
UID:10002595-1702731600-1709395200@www.ilrcc.ab.ca
SUMMARY:Saturday Bowling
DESCRIPTION:Dec 2 – Feb 24\, 2024                         1:00 pm – 3:00 pm \nChinook Bowladrome – 6455 Macleod Trail \nThe program runs for 12 weeks for $110. \nEach bowler pays for their bowling: $6.00/game \nRegistration
URL:https://www.ilrcc.ab.ca/event/saturday-bowling-2/2023-12-16/
CATEGORIES:LEARN PROGRAMS
ATTACH;FMTTYPE=image/jpeg:https://www.ilrcc.ab.ca/wp-content/uploads/2023/05/bowling.jpg
ORGANIZER;CN="ILRCC":MAILTO:ed@ilrcc.ab.ca
END:VEVENT
BEGIN:VEVENT
DTSTART;TZID=America/Edmonton:20231214T123000
DTEND;TZID=America/Edmonton:20240125T140000
DTSTAMP:20260423T161948
CREATED:20231227T015940Z
LAST-MODIFIED:20231230T183121Z
UID:10004846-1702557000-1706191200@www.ilrcc.ab.ca
SUMMARY:Thursday Cooking Lunch
DESCRIPTION:Dec 7 – Jan 18 (Full)\n \nTaking registrations for January 25 – February 29\, 2024 \n12:30 pm – 2:00 pm \nILRCC – #134\, 3359 27th St. NE \nThe program runs for 6 weeks for $75 including the cost of food. \nThis 6-week\, 1.5-hour-per-session\, cooking course is designed for all ability levels. Each week includes approximately 1 hour and 15 minutes of cooking and ends with sharing the meal preparation and cleaning up. \n*PLEASE  NOTE: Maximum of 6 participants per session. \nRegistration
URL:https://www.ilrcc.ab.ca/event/thursday-cooking-lunch/2023-12-14/
CATEGORIES:LIFE SKILLS
ATTACH;FMTTYPE=image/jpeg:https://www.ilrcc.ab.ca/wp-content/uploads/2023/05/cooking-1024x683-1.jpg
ORGANIZER;CN="ILRCC":MAILTO:ed@ilrcc.ab.ca
END:VEVENT
BEGIN:VEVENT
DTSTART;TZID=America/Edmonton:20231214T110000
DTEND;TZID=America/Edmonton:20240229T130000
DTSTAMP:20260423T161948
CREATED:20230829T002153Z
LAST-MODIFIED:20231227T012705Z
UID:10002532-1702551600-1709211600@www.ilrcc.ab.ca
SUMMARY:Thursday Arts and Crafts
DESCRIPTION:Nov 16 – Feb 15\, 2024 \n11:00 am – 12:00 pm \nILRCC – #134\, 3359 27th St. NE \nThe program runs for 12 weeks for $135 including the cost of materials. \nEach Thursday join us and get creative\, as you choose from 2-3 different art projects to try out! \n*PLEASE  NOTE: Maximum of 12 participants per session. \nRegistration
URL:https://www.ilrcc.ab.ca/event/thursday-arts-and-crafts-2/2023-12-14/
CATEGORIES:LEARN PROGRAMS
ATTACH;FMTTYPE=image/jpeg:https://www.ilrcc.ab.ca/wp-content/uploads/2023/05/istockphoto-519362488-612x612-1.jpg
ORGANIZER;CN="ILRCC":MAILTO:ed@ilrcc.ab.ca
END:VEVENT
BEGIN:VEVENT
DTSTART;TZID=America/Edmonton:20231213T173000
DTEND;TZID=America/Edmonton:20240313T193000
DTSTAMP:20260423T161948
CREATED:20231227T015344Z
LAST-MODIFIED:20240219T214856Z
UID:10002467-1702488600-1710358200@www.ilrcc.ab.ca
SUMMARY:Wednesday Pizza Night
DESCRIPTION:Nov 29 – Feb 28\, 2024 \n5:30 pm – 7:30 pm \nBoston Pizza – 2836 Memorial Dr SE \nThe program runs for 12 weeks for $110. \nYou are responsible for paying for your meal and if you have a smaller appetite\, you can order from the kids menu. \nRegistration
URL:https://www.ilrcc.ab.ca/event/wednesday-pizza-night-2-2/2023-12-13/
CATEGORIES:LIFE SKILLS
ATTACH;FMTTYPE=image/jpeg:https://www.ilrcc.ab.ca/wp-content/uploads/2023/05/Boston-Pizza-scaled-1.jpg
ORGANIZER;CN="ILRCC":MAILTO:ed@ilrcc.ab.ca
END:VEVENT
BEGIN:VEVENT
DTSTART;TZID=America/Edmonton:20231213T123000
DTEND;TZID=America/Edmonton:20240131T140000
DTSTAMP:20260423T161948
CREATED:20231227T015556Z
LAST-MODIFIED:20240219T214220Z
UID:10004015-1702470600-1706709600@www.ilrcc.ab.ca
SUMMARY:Wednesday Cooking Lunch
DESCRIPTION:Jan 24 – Feb 29\, 2024 \n12:30 pm – 2:00 pm \nILRCC – #134\, 3359 27th St. NE \nThe program runs for 6 weeks for $75 including the cost of food. \nThis 6-week\, 1.5-hour-per-session\, cooking course is designed for all ability levels. Each week includes approximately 1 hour and 15 minutes of cooking and ends with sharing the meal preparation and cleaning up. \n*PLEASE  NOTE: Maximum of 6 participants per session. \nRegistration
URL:https://www.ilrcc.ab.ca/event/wednesday-afternoon-cooking-2-2-2/2023-12-13/
CATEGORIES:LIFE SKILLS
ATTACH;FMTTYPE=image/jpeg:https://www.ilrcc.ab.ca/wp-content/uploads/2023/05/cooking-1024x683-1.jpg
ORGANIZER;CN="ILRCC":MAILTO:ed@ilrcc.ab.ca
END:VEVENT
BEGIN:VEVENT
DTSTART;VALUE=DATE:20231213
DTEND;VALUE=DATE:20231214
DTSTAMP:20260423T161948
CREATED:20230520T211759Z
LAST-MODIFIED:20230523T170651Z
UID:10002662-1702425600-1702511999@www.ilrcc.ab.ca
SUMMARY:Wednesday Media & Advertising
DESCRIPTION:“My Voice\, My Choice” is a newsletter for people with disabilities\, by people with disabilities. The team will come together and share ideas\, advocacy\, education\, and stories. Every month we will create and design a new edition for print and digital distribution. \nVolunteer program. Must commit to a minimum of 1 month to volunteer for the newsletter. \nJoin us and become part of our Newsletter team. We need editors\, photographers\, story writers\, artists\, and designers. Come showcase your talents!! \nRegistration
URL:https://www.ilrcc.ab.ca/event/wednesday-media-advertising/2023-12-13/
LOCATION:ILRCC\, ILRCC - #134\, 3359 27th St. NE\, Calgary\, Alberta\, Canada
CATEGORIES:LIFE SKILLS
ATTACH;FMTTYPE=image/jpeg:https://www.ilrcc.ab.ca/wp-content/uploads/2023/05/desktop-magazine-keyboard-design.jpg
ORGANIZER;CN="ILRCC":MAILTO:ed@ilrcc.ab.ca
END:VEVENT
BEGIN:VEVENT
DTSTART;TZID=America/Edmonton:20231212T130000
DTEND;TZID=America/Edmonton:20240227T150000
DTSTAMP:20260423T161948
CREATED:20230829T003322Z
LAST-MODIFIED:20231227T013018Z
UID:10002280-1702386000-1709046000@www.ilrcc.ab.ca
SUMMARY:Tuesday Arts and Crafts
DESCRIPTION:Nov 14 – Feb 13\, 2024 \n1:00pm – 2:00pm \nILRCC – #134\, 3359 27th St. NE \nThe program runs for 12 weeks for $135 including the cost of materials. \nBe creative and work with your hands! Learn different styles and techniques for drawing\, painting\, and creating your art. Build with different materials and create unique arts and crafts for gifts or display at home. \n*PLEASE  NOTE: Maximum of 12 participants per session. \nRegistration
URL:https://www.ilrcc.ab.ca/event/tuesday-arts-and-crafts-2/2023-12-12/
CATEGORIES:LEARN PROGRAMS
ATTACH;FMTTYPE=image/png:https://www.ilrcc.ab.ca/wp-content/uploads/2023/05/Arts-Crafts.png
ORGANIZER;CN="ILRCC":MAILTO:ed@ilrcc.ab.ca
END:VEVENT
BEGIN:VEVENT
DTSTART;TZID=America/Edmonton:20231211T180000
DTEND;TZID=America/Edmonton:20231211T191500
DTSTAMP:20260423T161948
CREATED:20230814T205507Z
LAST-MODIFIED:20230807T184622Z
UID:10002218-1702317600-1702322100@www.ilrcc.ab.ca
SUMMARY:Monday Arts and Drawing
DESCRIPTION:May 15th – July 31st \n6:00pm – 7:15pm \nILRCC – #134\, 3359 27th St. NE \nProgram runs for 12 weeks at a cost of $135 includes cost of materials. \nEach Monday evening join us and get creative!! \n*PLEASE  NOTE: Maximum of 12 participants per session. \nRegistration
URL:https://www.ilrcc.ab.ca/event/monday-arts-and-drawing-2/2023-12-11/
LOCATION:ILRCC\, ILRCC - #134\, 3359 27th St. NE\, Calgary\, Alberta\, Canada
CATEGORIES:LEARN PROGRAMS
ATTACH;FMTTYPE=image/jpeg:https://www.ilrcc.ab.ca/wp-content/uploads/2023/05/100-diy-string-art-flower-cards-1.jpg
ORGANIZER;CN="ILRCC":MAILTO:ed@ilrcc.ab.ca
END:VEVENT
BEGIN:VEVENT
DTSTART;TZID=America/Edmonton:20231211T150000
DTEND;TZID=America/Edmonton:20231211T160000
DTSTAMP:20260423T161948
CREATED:20230520T212058Z
LAST-MODIFIED:20231226T231448Z
UID:10002926-1702306800-1702310400@www.ilrcc.ab.ca
SUMMARY:Summer Gardening
DESCRIPTION:May 1st  – June 19th 3:00 pm – 4:00 pm \nIn May and June\, we are doing all the planting for the Herbs + Veggies \nAugust 21 – October 9   \nOnce the vegetables are ready\, we will pull them out and start canning\, freezing\, and cooking. \nILRCC – #134\, 3359 27th St. NE \nThe program runs for 16 weeks at a cost of $100 including cost of materials. \nRegistration
URL:https://www.ilrcc.ab.ca/event/summer-gardening/2023-12-11/
LOCATION:ILRCC\, ILRCC - #134\, 3359 27th St. NE\, Calgary\, Alberta\, Canada
CATEGORIES:LIFE SKILLS
ATTACH;FMTTYPE=image/jpeg:https://www.ilrcc.ab.ca/wp-content/uploads/2023/05/download-1024x576-1.jpg
ORGANIZER;CN="ILRCC":MAILTO:ed@ilrcc.ab.ca
END:VEVENT
END:VCALENDAR