BEGIN:VCALENDAR
VERSION:2.0
PRODID:-//ILRCC - ECPv6.15.20//NONSGML v1.0//EN
CALSCALE:GREGORIAN
METHOD:PUBLISH
X-ORIGINAL-URL:https://www.ilrcc.ab.ca
X-WR-CALDESC:Events for ILRCC
REFRESH-INTERVAL;VALUE=DURATION:PT1H
X-Robots-Tag:noindex
X-PUBLISHED-TTL:PT1H
BEGIN:VTIMEZONE
TZID:America/Edmonton
BEGIN:DAYLIGHT
TZOFFSETFROM:-0700
TZOFFSETTO:-0600
TZNAME:MDT
DTSTART:20220313T090000
END:DAYLIGHT
BEGIN:STANDARD
TZOFFSETFROM:-0600
TZOFFSETTO:-0700
TZNAME:MST
DTSTART:20221106T080000
END:STANDARD
BEGIN:DAYLIGHT
TZOFFSETFROM:-0700
TZOFFSETTO:-0600
TZNAME:MDT
DTSTART:20230312T090000
END:DAYLIGHT
BEGIN:STANDARD
TZOFFSETFROM:-0600
TZOFFSETTO:-0700
TZNAME:MST
DTSTART:20231105T080000
END:STANDARD
BEGIN:DAYLIGHT
TZOFFSETFROM:-0700
TZOFFSETTO:-0600
TZNAME:MDT
DTSTART:20240310T090000
END:DAYLIGHT
BEGIN:STANDARD
TZOFFSETFROM:-0600
TZOFFSETTO:-0700
TZNAME:MST
DTSTART:20241103T080000
END:STANDARD
BEGIN:DAYLIGHT
TZOFFSETFROM:-0700
TZOFFSETTO:-0600
TZNAME:MDT
DTSTART:20250309T090000
END:DAYLIGHT
BEGIN:STANDARD
TZOFFSETFROM:-0600
TZOFFSETTO:-0700
TZNAME:MST
DTSTART:20251102T080000
END:STANDARD
END:VTIMEZONE
BEGIN:VEVENT
DTSTART;TZID=America/Edmonton:20231202T130000
DTEND;TZID=America/Edmonton:20240217T160000
DTSTAMP:20260423T225402
CREATED:20230829T001229Z
LAST-MODIFIED:20240219T224852Z
UID:10002593-1701522000-1708185600@www.ilrcc.ab.ca
SUMMARY:Saturday Bowling
DESCRIPTION:Dec 2 – Feb 24\, 2024                         1:00 pm – 3:00 pm \nChinook Bowladrome – 6455 Macleod Trail \nThe program runs for 12 weeks for $110. \nEach bowler pays for their bowling: $6.00/game \nRegistration
URL:https://www.ilrcc.ab.ca/event/saturday-bowling-2/2023-12-02/
CATEGORIES:LEARN PROGRAMS
ATTACH;FMTTYPE=image/jpeg:https://www.ilrcc.ab.ca/wp-content/uploads/2023/05/bowling.jpg
ORGANIZER;CN="ILRCC":MAILTO:ed@ilrcc.ab.ca
END:VEVENT
BEGIN:VEVENT
DTSTART;TZID=America/Edmonton:20231130T110000
DTEND;TZID=America/Edmonton:20240215T130000
DTSTAMP:20260423T225402
CREATED:20230829T002153Z
LAST-MODIFIED:20231227T012705Z
UID:10002530-1701342000-1708002000@www.ilrcc.ab.ca
SUMMARY:Thursday Arts and Crafts
DESCRIPTION:Nov 16 – Feb 15\, 2024 \n11:00 am – 12:00 pm \nILRCC – #134\, 3359 27th St. NE \nThe program runs for 12 weeks for $135 including the cost of materials. \nEach Thursday join us and get creative\, as you choose from 2-3 different art projects to try out! \n*PLEASE  NOTE: Maximum of 12 participants per session. \nRegistration
URL:https://www.ilrcc.ab.ca/event/thursday-arts-and-crafts-2/2023-11-30/
CATEGORIES:LEARN PROGRAMS
ATTACH;FMTTYPE=image/jpeg:https://www.ilrcc.ab.ca/wp-content/uploads/2023/05/istockphoto-519362488-612x612-1.jpg
ORGANIZER;CN="ILRCC":MAILTO:ed@ilrcc.ab.ca
END:VEVENT
BEGIN:VEVENT
DTSTART;TZID=America/Edmonton:20231129T173000
DTEND;TZID=America/Edmonton:20240228T193000
DTSTAMP:20260423T225402
CREATED:20231227T015344Z
LAST-MODIFIED:20240219T214856Z
UID:10002458-1701279000-1709148600@www.ilrcc.ab.ca
SUMMARY:Wednesday Pizza Night
DESCRIPTION:Nov 29 – Feb 28\, 2024 \n5:30 pm – 7:30 pm \nBoston Pizza – 2836 Memorial Dr SE \nThe program runs for 12 weeks for $110. \nYou are responsible for paying for your meal and if you have a smaller appetite\, you can order from the kids menu. \nRegistration
URL:https://www.ilrcc.ab.ca/event/wednesday-pizza-night-2-2/2023-11-29/
CATEGORIES:LIFE SKILLS
ATTACH;FMTTYPE=image/jpeg:https://www.ilrcc.ab.ca/wp-content/uploads/2023/05/Boston-Pizza-scaled-1.jpg
ORGANIZER;CN="ILRCC":MAILTO:ed@ilrcc.ab.ca
END:VEVENT
BEGIN:VEVENT
DTSTART;VALUE=DATE:20231129
DTEND;VALUE=DATE:20231130
DTSTAMP:20260423T225402
CREATED:20230520T211759Z
LAST-MODIFIED:20230523T170651Z
UID:10002660-1701216000-1701302399@www.ilrcc.ab.ca
SUMMARY:Wednesday Media & Advertising
DESCRIPTION:“My Voice\, My Choice” is a newsletter for people with disabilities\, by people with disabilities. The team will come together and share ideas\, advocacy\, education\, and stories. Every month we will create and design a new edition for print and digital distribution. \nVolunteer program. Must commit to a minimum of 1 month to volunteer for the newsletter. \nJoin us and become part of our Newsletter team. We need editors\, photographers\, story writers\, artists\, and designers. Come showcase your talents!! \nRegistration
URL:https://www.ilrcc.ab.ca/event/wednesday-media-advertising/2023-11-29/
LOCATION:ILRCC\, ILRCC - #134\, 3359 27th St. NE\, Calgary\, Alberta\, Canada
CATEGORIES:LIFE SKILLS
ATTACH;FMTTYPE=image/jpeg:https://www.ilrcc.ab.ca/wp-content/uploads/2023/05/desktop-magazine-keyboard-design.jpg
ORGANIZER;CN="ILRCC":MAILTO:ed@ilrcc.ab.ca
END:VEVENT
BEGIN:VEVENT
DTSTART;TZID=America/Edmonton:20231128T130000
DTEND;TZID=America/Edmonton:20240213T150000
DTSTAMP:20260423T225402
CREATED:20230829T003322Z
LAST-MODIFIED:20231227T013018Z
UID:10002278-1701176400-1707836400@www.ilrcc.ab.ca
SUMMARY:Tuesday Arts and Crafts
DESCRIPTION:Nov 14 – Feb 13\, 2024 \n1:00pm – 2:00pm \nILRCC – #134\, 3359 27th St. NE \nThe program runs for 12 weeks for $135 including the cost of materials. \nBe creative and work with your hands! Learn different styles and techniques for drawing\, painting\, and creating your art. Build with different materials and create unique arts and crafts for gifts or display at home. \n*PLEASE  NOTE: Maximum of 12 participants per session. \nRegistration
URL:https://www.ilrcc.ab.ca/event/tuesday-arts-and-crafts-2/2023-11-28/
CATEGORIES:LEARN PROGRAMS
ATTACH;FMTTYPE=image/png:https://www.ilrcc.ab.ca/wp-content/uploads/2023/05/Arts-Crafts.png
ORGANIZER;CN="ILRCC":MAILTO:ed@ilrcc.ab.ca
END:VEVENT
BEGIN:VEVENT
DTSTART;TZID=America/Edmonton:20231127T180000
DTEND;TZID=America/Edmonton:20240226T191500
DTSTAMP:20260423T225402
CREATED:20230829T003559Z
LAST-MODIFIED:20231230T194340Z
UID:10002199-1701108000-1708974900@www.ilrcc.ab.ca
SUMMARY:Monday Arts and Drawing
DESCRIPTION:November 27 – February 26\, 2024 \n6:00 pm – 7:15 pm \nILRCC – #134\, 3359 27th St. NE \nThe program runs for 12 weeks for $135 including the cost of materials. \nEach Monday evening join us and get creative!! \n*PLEASE  NOTE: Maximum of 12 participants per session. \nRegistration
URL:https://www.ilrcc.ab.ca/event/monday-arts-and-drawing-3/
CATEGORIES:LEARN PROGRAMS
ATTACH;FMTTYPE=image/jpeg:https://www.ilrcc.ab.ca/wp-content/uploads/2023/05/100-diy-string-art-flower-cards-1.jpg
ORGANIZER;CN="ILRCC":MAILTO:ed@ilrcc.ab.ca
END:VEVENT
BEGIN:VEVENT
DTSTART;TZID=America/Edmonton:20231127T180000
DTEND;TZID=America/Edmonton:20231127T191500
DTSTAMP:20260423T225402
CREATED:20230814T205507Z
LAST-MODIFIED:20230807T184622Z
UID:10002216-1701108000-1701112500@www.ilrcc.ab.ca
SUMMARY:Monday Arts and Drawing
DESCRIPTION:May 15th – July 31st \n6:00pm – 7:15pm \nILRCC – #134\, 3359 27th St. NE \nProgram runs for 12 weeks at a cost of $135 includes cost of materials. \nEach Monday evening join us and get creative!! \n*PLEASE  NOTE: Maximum of 12 participants per session. \nRegistration
URL:https://www.ilrcc.ab.ca/event/monday-arts-and-drawing-2/2023-11-27/
LOCATION:ILRCC\, ILRCC - #134\, 3359 27th St. NE\, Calgary\, Alberta\, Canada
CATEGORIES:LEARN PROGRAMS
ATTACH;FMTTYPE=image/jpeg:https://www.ilrcc.ab.ca/wp-content/uploads/2023/05/100-diy-string-art-flower-cards-1.jpg
ORGANIZER;CN="ILRCC":MAILTO:ed@ilrcc.ab.ca
END:VEVENT
BEGIN:VEVENT
DTSTART;TZID=America/Edmonton:20231127T150000
DTEND;TZID=America/Edmonton:20231127T160000
DTSTAMP:20260423T225402
CREATED:20230520T212058Z
LAST-MODIFIED:20231226T231448Z
UID:10002924-1701097200-1701100800@www.ilrcc.ab.ca
SUMMARY:Summer Gardening
DESCRIPTION:May 1st  – June 19th 3:00 pm – 4:00 pm \nIn May and June\, we are doing all the planting for the Herbs + Veggies \nAugust 21 – October 9   \nOnce the vegetables are ready\, we will pull them out and start canning\, freezing\, and cooking. \nILRCC – #134\, 3359 27th St. NE \nThe program runs for 16 weeks at a cost of $100 including cost of materials. \nRegistration
URL:https://www.ilrcc.ab.ca/event/summer-gardening/2023-11-27/
LOCATION:ILRCC\, ILRCC - #134\, 3359 27th St. NE\, Calgary\, Alberta\, Canada
CATEGORIES:LIFE SKILLS
ATTACH;FMTTYPE=image/jpeg:https://www.ilrcc.ab.ca/wp-content/uploads/2023/05/download-1024x576-1.jpg
ORGANIZER;CN="ILRCC":MAILTO:ed@ilrcc.ab.ca
END:VEVENT
BEGIN:VEVENT
DTSTART;TZID=America/Edmonton:20231125T130000
DTEND;TZID=America/Edmonton:20240210T160000
DTSTAMP:20260423T225402
CREATED:20230829T001229Z
LAST-MODIFIED:20240219T224852Z
UID:10002592-1700917200-1707580800@www.ilrcc.ab.ca
SUMMARY:Saturday Bowling
DESCRIPTION:Dec 2 – Feb 24\, 2024                         1:00 pm – 3:00 pm \nChinook Bowladrome – 6455 Macleod Trail \nThe program runs for 12 weeks for $110. \nEach bowler pays for their bowling: $6.00/game \nRegistration
URL:https://www.ilrcc.ab.ca/event/saturday-bowling-2/2023-11-25/
CATEGORIES:LEARN PROGRAMS
ATTACH;FMTTYPE=image/jpeg:https://www.ilrcc.ab.ca/wp-content/uploads/2023/05/bowling.jpg
ORGANIZER;CN="ILRCC":MAILTO:ed@ilrcc.ab.ca
END:VEVENT
BEGIN:VEVENT
DTSTART;TZID=America/Edmonton:20231123T110000
DTEND;TZID=America/Edmonton:20240208T130000
DTSTAMP:20260423T225402
CREATED:20230829T002153Z
LAST-MODIFIED:20231227T012705Z
UID:10002529-1700737200-1707397200@www.ilrcc.ab.ca
SUMMARY:Thursday Arts and Crafts
DESCRIPTION:Nov 16 – Feb 15\, 2024 \n11:00 am – 12:00 pm \nILRCC – #134\, 3359 27th St. NE \nThe program runs for 12 weeks for $135 including the cost of materials. \nEach Thursday join us and get creative\, as you choose from 2-3 different art projects to try out! \n*PLEASE  NOTE: Maximum of 12 participants per session. \nRegistration
URL:https://www.ilrcc.ab.ca/event/thursday-arts-and-crafts-2/2023-11-23/
CATEGORIES:LEARN PROGRAMS
ATTACH;FMTTYPE=image/jpeg:https://www.ilrcc.ab.ca/wp-content/uploads/2023/05/istockphoto-519362488-612x612-1.jpg
ORGANIZER;CN="ILRCC":MAILTO:ed@ilrcc.ab.ca
END:VEVENT
BEGIN:VEVENT
DTSTART;VALUE=DATE:20231122
DTEND;VALUE=DATE:20231123
DTSTAMP:20260423T225402
CREATED:20230520T211759Z
LAST-MODIFIED:20230523T170651Z
UID:10002659-1700611200-1700697599@www.ilrcc.ab.ca
SUMMARY:Wednesday Media & Advertising
DESCRIPTION:“My Voice\, My Choice” is a newsletter for people with disabilities\, by people with disabilities. The team will come together and share ideas\, advocacy\, education\, and stories. Every month we will create and design a new edition for print and digital distribution. \nVolunteer program. Must commit to a minimum of 1 month to volunteer for the newsletter. \nJoin us and become part of our Newsletter team. We need editors\, photographers\, story writers\, artists\, and designers. Come showcase your talents!! \nRegistration
URL:https://www.ilrcc.ab.ca/event/wednesday-media-advertising/2023-11-22/
LOCATION:ILRCC\, ILRCC - #134\, 3359 27th St. NE\, Calgary\, Alberta\, Canada
CATEGORIES:LIFE SKILLS
ATTACH;FMTTYPE=image/jpeg:https://www.ilrcc.ab.ca/wp-content/uploads/2023/05/desktop-magazine-keyboard-design.jpg
ORGANIZER;CN="ILRCC":MAILTO:ed@ilrcc.ab.ca
END:VEVENT
BEGIN:VEVENT
DTSTART;TZID=America/Edmonton:20231121T130000
DTEND;TZID=America/Edmonton:20240206T150000
DTSTAMP:20260423T225402
CREATED:20230829T003322Z
LAST-MODIFIED:20231227T013018Z
UID:10002277-1700571600-1707231600@www.ilrcc.ab.ca
SUMMARY:Tuesday Arts and Crafts
DESCRIPTION:Nov 14 – Feb 13\, 2024 \n1:00pm – 2:00pm \nILRCC – #134\, 3359 27th St. NE \nThe program runs for 12 weeks for $135 including the cost of materials. \nBe creative and work with your hands! Learn different styles and techniques for drawing\, painting\, and creating your art. Build with different materials and create unique arts and crafts for gifts or display at home. \n*PLEASE  NOTE: Maximum of 12 participants per session. \nRegistration
URL:https://www.ilrcc.ab.ca/event/tuesday-arts-and-crafts-2/2023-11-21/
CATEGORIES:LEARN PROGRAMS
ATTACH;FMTTYPE=image/png:https://www.ilrcc.ab.ca/wp-content/uploads/2023/05/Arts-Crafts.png
ORGANIZER;CN="ILRCC":MAILTO:ed@ilrcc.ab.ca
END:VEVENT
BEGIN:VEVENT
DTSTART;TZID=America/Edmonton:20231120T180000
DTEND;TZID=America/Edmonton:20231120T191500
DTSTAMP:20260423T225402
CREATED:20230814T205507Z
LAST-MODIFIED:20230807T184622Z
UID:10002215-1700503200-1700507700@www.ilrcc.ab.ca
SUMMARY:Monday Arts and Drawing
DESCRIPTION:May 15th – July 31st \n6:00pm – 7:15pm \nILRCC – #134\, 3359 27th St. NE \nProgram runs for 12 weeks at a cost of $135 includes cost of materials. \nEach Monday evening join us and get creative!! \n*PLEASE  NOTE: Maximum of 12 participants per session. \nRegistration
URL:https://www.ilrcc.ab.ca/event/monday-arts-and-drawing-2/2023-11-20/
LOCATION:ILRCC\, ILRCC - #134\, 3359 27th St. NE\, Calgary\, Alberta\, Canada
CATEGORIES:LEARN PROGRAMS
ATTACH;FMTTYPE=image/jpeg:https://www.ilrcc.ab.ca/wp-content/uploads/2023/05/100-diy-string-art-flower-cards-1.jpg
ORGANIZER;CN="ILRCC":MAILTO:ed@ilrcc.ab.ca
END:VEVENT
BEGIN:VEVENT
DTSTART;TZID=America/Edmonton:20231120T150000
DTEND;TZID=America/Edmonton:20231120T160000
DTSTAMP:20260423T225402
CREATED:20230520T212058Z
LAST-MODIFIED:20231226T231448Z
UID:10002923-1700492400-1700496000@www.ilrcc.ab.ca
SUMMARY:Summer Gardening
DESCRIPTION:May 1st  – June 19th 3:00 pm – 4:00 pm \nIn May and June\, we are doing all the planting for the Herbs + Veggies \nAugust 21 – October 9   \nOnce the vegetables are ready\, we will pull them out and start canning\, freezing\, and cooking. \nILRCC – #134\, 3359 27th St. NE \nThe program runs for 16 weeks at a cost of $100 including cost of materials. \nRegistration
URL:https://www.ilrcc.ab.ca/event/summer-gardening/2023-11-20/
LOCATION:ILRCC\, ILRCC - #134\, 3359 27th St. NE\, Calgary\, Alberta\, Canada
CATEGORIES:LIFE SKILLS
ATTACH;FMTTYPE=image/jpeg:https://www.ilrcc.ab.ca/wp-content/uploads/2023/05/download-1024x576-1.jpg
ORGANIZER;CN="ILRCC":MAILTO:ed@ilrcc.ab.ca
END:VEVENT
BEGIN:VEVENT
DTSTART;TZID=America/Edmonton:20231118T130000
DTEND;TZID=America/Edmonton:20240203T160000
DTSTAMP:20260423T225402
CREATED:20230829T001229Z
LAST-MODIFIED:20240219T224852Z
UID:10002591-1700312400-1706976000@www.ilrcc.ab.ca
SUMMARY:Saturday Bowling
DESCRIPTION:Dec 2 – Feb 24\, 2024                         1:00 pm – 3:00 pm \nChinook Bowladrome – 6455 Macleod Trail \nThe program runs for 12 weeks for $110. \nEach bowler pays for their bowling: $6.00/game \nRegistration
URL:https://www.ilrcc.ab.ca/event/saturday-bowling-2/2023-11-18/
CATEGORIES:LEARN PROGRAMS
ATTACH;FMTTYPE=image/jpeg:https://www.ilrcc.ab.ca/wp-content/uploads/2023/05/bowling.jpg
ORGANIZER;CN="ILRCC":MAILTO:ed@ilrcc.ab.ca
END:VEVENT
BEGIN:VEVENT
DTSTART;TZID=America/Edmonton:20231116T110000
DTEND;TZID=America/Edmonton:20240201T130000
DTSTAMP:20260423T225402
CREATED:20230829T002153Z
LAST-MODIFIED:20231227T012705Z
UID:10002528-1700132400-1706792400@www.ilrcc.ab.ca
SUMMARY:Thursday Arts and Crafts
DESCRIPTION:Nov 16 – Feb 15\, 2024 \n11:00 am – 12:00 pm \nILRCC – #134\, 3359 27th St. NE \nThe program runs for 12 weeks for $135 including the cost of materials. \nEach Thursday join us and get creative\, as you choose from 2-3 different art projects to try out! \n*PLEASE  NOTE: Maximum of 12 participants per session. \nRegistration
URL:https://www.ilrcc.ab.ca/event/thursday-arts-and-crafts-2/2023-11-16/
CATEGORIES:LEARN PROGRAMS
ATTACH;FMTTYPE=image/jpeg:https://www.ilrcc.ab.ca/wp-content/uploads/2023/05/istockphoto-519362488-612x612-1.jpg
ORGANIZER;CN="ILRCC":MAILTO:ed@ilrcc.ab.ca
END:VEVENT
BEGIN:VEVENT
DTSTART;TZID=America/Edmonton:20231115T123000
DTEND;TZID=America/Edmonton:20231220T140000
DTSTAMP:20260423T225402
CREATED:20230829T002618Z
LAST-MODIFIED:20231230T183447Z
UID:10004011-1700051400-1703080800@www.ilrcc.ab.ca
SUMMARY:Wednesday Cooking Lunch
DESCRIPTION:Dec 6 – Jan 17 (Full)\n \nTaking registrations for Jan 24 – February 28\, 2024 \n12:30 pm – 2:00 pm \nILRCC – #134\, 3359 27th St. NE \nThe program runs for 6 weeks for $75 including the cost of food. \nThis 6-week\, 1.5-hour-per-session\, cooking course is designed for all ability levels. Each week includes approximately 1 hour and 15 minutes of cooking and ends with sharing the meal preparation and cleaning up. \n*PLEASE  NOTE: Maximum of 6 participants per session. \nRegistration
URL:https://www.ilrcc.ab.ca/event/wednesday-afternoon-cooking-2-2/2023-11-15/
CATEGORIES:LIFE SKILLS
ATTACH;FMTTYPE=image/jpeg:https://www.ilrcc.ab.ca/wp-content/uploads/2023/05/cooking-1024x683-1.jpg
ORGANIZER;CN="ILRCC":MAILTO:ed@ilrcc.ab.ca
END:VEVENT
BEGIN:VEVENT
DTSTART;VALUE=DATE:20231115
DTEND;VALUE=DATE:20231116
DTSTAMP:20260423T225402
CREATED:20230520T211759Z
LAST-MODIFIED:20230523T170651Z
UID:10002658-1700006400-1700092799@www.ilrcc.ab.ca
SUMMARY:Wednesday Media & Advertising
DESCRIPTION:“My Voice\, My Choice” is a newsletter for people with disabilities\, by people with disabilities. The team will come together and share ideas\, advocacy\, education\, and stories. Every month we will create and design a new edition for print and digital distribution. \nVolunteer program. Must commit to a minimum of 1 month to volunteer for the newsletter. \nJoin us and become part of our Newsletter team. We need editors\, photographers\, story writers\, artists\, and designers. Come showcase your talents!! \nRegistration
URL:https://www.ilrcc.ab.ca/event/wednesday-media-advertising/2023-11-15/
LOCATION:ILRCC\, ILRCC - #134\, 3359 27th St. NE\, Calgary\, Alberta\, Canada
CATEGORIES:LIFE SKILLS
ATTACH;FMTTYPE=image/jpeg:https://www.ilrcc.ab.ca/wp-content/uploads/2023/05/desktop-magazine-keyboard-design.jpg
ORGANIZER;CN="ILRCC":MAILTO:ed@ilrcc.ab.ca
END:VEVENT
BEGIN:VEVENT
DTSTART;TZID=America/Edmonton:20231114T130000
DTEND;TZID=America/Edmonton:20240130T150000
DTSTAMP:20260423T225402
CREATED:20230829T003322Z
LAST-MODIFIED:20231227T013018Z
UID:10002276-1699966800-1706626800@www.ilrcc.ab.ca
SUMMARY:Tuesday Arts and Crafts
DESCRIPTION:Nov 14 – Feb 13\, 2024 \n1:00pm – 2:00pm \nILRCC – #134\, 3359 27th St. NE \nThe program runs for 12 weeks for $135 including the cost of materials. \nBe creative and work with your hands! Learn different styles and techniques for drawing\, painting\, and creating your art. Build with different materials and create unique arts and crafts for gifts or display at home. \n*PLEASE  NOTE: Maximum of 12 participants per session. \nRegistration
URL:https://www.ilrcc.ab.ca/event/tuesday-arts-and-crafts-2/2023-11-14/
CATEGORIES:LEARN PROGRAMS
ATTACH;FMTTYPE=image/png:https://www.ilrcc.ab.ca/wp-content/uploads/2023/05/Arts-Crafts.png
ORGANIZER;CN="ILRCC":MAILTO:ed@ilrcc.ab.ca
END:VEVENT
BEGIN:VEVENT
DTSTART;TZID=America/Edmonton:20231113T180000
DTEND;TZID=America/Edmonton:20231113T191500
DTSTAMP:20260423T225402
CREATED:20230814T205507Z
LAST-MODIFIED:20230807T184622Z
UID:10002214-1699898400-1699902900@www.ilrcc.ab.ca
SUMMARY:Monday Arts and Drawing
DESCRIPTION:May 15th – July 31st \n6:00pm – 7:15pm \nILRCC – #134\, 3359 27th St. NE \nProgram runs for 12 weeks at a cost of $135 includes cost of materials. \nEach Monday evening join us and get creative!! \n*PLEASE  NOTE: Maximum of 12 participants per session. \nRegistration
URL:https://www.ilrcc.ab.ca/event/monday-arts-and-drawing-2/2023-11-13/
LOCATION:ILRCC\, ILRCC - #134\, 3359 27th St. NE\, Calgary\, Alberta\, Canada
CATEGORIES:LEARN PROGRAMS
ATTACH;FMTTYPE=image/jpeg:https://www.ilrcc.ab.ca/wp-content/uploads/2023/05/100-diy-string-art-flower-cards-1.jpg
ORGANIZER;CN="ILRCC":MAILTO:ed@ilrcc.ab.ca
END:VEVENT
BEGIN:VEVENT
DTSTART;TZID=America/Edmonton:20231113T150000
DTEND;TZID=America/Edmonton:20231113T160000
DTSTAMP:20260423T225402
CREATED:20230520T212058Z
LAST-MODIFIED:20231226T231448Z
UID:10002922-1699887600-1699891200@www.ilrcc.ab.ca
SUMMARY:Summer Gardening
DESCRIPTION:May 1st  – June 19th 3:00 pm – 4:00 pm \nIn May and June\, we are doing all the planting for the Herbs + Veggies \nAugust 21 – October 9   \nOnce the vegetables are ready\, we will pull them out and start canning\, freezing\, and cooking. \nILRCC – #134\, 3359 27th St. NE \nThe program runs for 16 weeks at a cost of $100 including cost of materials. \nRegistration
URL:https://www.ilrcc.ab.ca/event/summer-gardening/2023-11-13/
LOCATION:ILRCC\, ILRCC - #134\, 3359 27th St. NE\, Calgary\, Alberta\, Canada
CATEGORIES:LIFE SKILLS
ATTACH;FMTTYPE=image/jpeg:https://www.ilrcc.ab.ca/wp-content/uploads/2023/05/download-1024x576-1.jpg
ORGANIZER;CN="ILRCC":MAILTO:ed@ilrcc.ab.ca
END:VEVENT
BEGIN:VEVENT
DTSTART;TZID=America/Edmonton:20231111T130000
DTEND;TZID=America/Edmonton:20240127T160000
DTSTAMP:20260423T225402
CREATED:20230829T001229Z
LAST-MODIFIED:20240219T224852Z
UID:10002590-1699707600-1706371200@www.ilrcc.ab.ca
SUMMARY:Saturday Bowling
DESCRIPTION:Dec 2 – Feb 24\, 2024                         1:00 pm – 3:00 pm \nChinook Bowladrome – 6455 Macleod Trail \nThe program runs for 12 weeks for $110. \nEach bowler pays for their bowling: $6.00/game \nRegistration
URL:https://www.ilrcc.ab.ca/event/saturday-bowling-2/2023-11-11/
CATEGORIES:LEARN PROGRAMS
ATTACH;FMTTYPE=image/jpeg:https://www.ilrcc.ab.ca/wp-content/uploads/2023/05/bowling.jpg
ORGANIZER;CN="ILRCC":MAILTO:ed@ilrcc.ab.ca
END:VEVENT
BEGIN:VEVENT
DTSTART;TZID=America/Edmonton:20231109T170000
DTEND;TZID=America/Edmonton:20231228T180000
DTSTAMP:20260423T225402
CREATED:20230829T003809Z
LAST-MODIFIED:20230829T003810Z
UID:10001689-1699549200-1703786400@www.ilrcc.ab.ca
SUMMARY:Thursday Dance + Sing Movements
DESCRIPTION:Sept 6 – Oct 26 \n5:00pm – 6:00pm \nILRCC – #134\, 3359 27th St. NE \nProgram runs for 8 weeks at a cost of $75. \nCome join the fun for a Karaoke & Zumba evening at ILRCC \nRegistration
URL:https://www.ilrcc.ab.ca/event/thursday-dance-sing-movements-500pm-600pm-2/2023-11-09/
CATEGORIES:LEARN PROGRAMS
ATTACH;FMTTYPE=image/jpeg:https://www.ilrcc.ab.ca/wp-content/uploads/2023/05/Thursday-Dance-Sing-Movements.jpg
ORGANIZER;CN="ILRCC":MAILTO:ed@ilrcc.ab.ca
END:VEVENT
BEGIN:VEVENT
DTSTART;TZID=America/Edmonton:20231109T110000
DTEND;TZID=America/Edmonton:20240125T130000
DTSTAMP:20260423T225402
CREATED:20230829T002153Z
LAST-MODIFIED:20231227T012705Z
UID:10002527-1699527600-1706187600@www.ilrcc.ab.ca
SUMMARY:Thursday Arts and Crafts
DESCRIPTION:Nov 16 – Feb 15\, 2024 \n11:00 am – 12:00 pm \nILRCC – #134\, 3359 27th St. NE \nThe program runs for 12 weeks for $135 including the cost of materials. \nEach Thursday join us and get creative\, as you choose from 2-3 different art projects to try out! \n*PLEASE  NOTE: Maximum of 12 participants per session. \nRegistration
URL:https://www.ilrcc.ab.ca/event/thursday-arts-and-crafts-2/2023-11-09/
CATEGORIES:LEARN PROGRAMS
ATTACH;FMTTYPE=image/jpeg:https://www.ilrcc.ab.ca/wp-content/uploads/2023/05/istockphoto-519362488-612x612-1.jpg
ORGANIZER;CN="ILRCC":MAILTO:ed@ilrcc.ab.ca
END:VEVENT
BEGIN:VEVENT
DTSTART;TZID=America/Edmonton:20231108T123000
DTEND;TZID=America/Edmonton:20231213T140000
DTSTAMP:20260423T225402
CREATED:20230829T002618Z
LAST-MODIFIED:20231230T183447Z
UID:10004010-1699446600-1702476000@www.ilrcc.ab.ca
SUMMARY:Wednesday Cooking Lunch
DESCRIPTION:Dec 6 – Jan 17 (Full)\n \nTaking registrations for Jan 24 – February 28\, 2024 \n12:30 pm – 2:00 pm \nILRCC – #134\, 3359 27th St. NE \nThe program runs for 6 weeks for $75 including the cost of food. \nThis 6-week\, 1.5-hour-per-session\, cooking course is designed for all ability levels. Each week includes approximately 1 hour and 15 minutes of cooking and ends with sharing the meal preparation and cleaning up. \n*PLEASE  NOTE: Maximum of 6 participants per session. \nRegistration
URL:https://www.ilrcc.ab.ca/event/wednesday-afternoon-cooking-2-2/2023-11-08/
CATEGORIES:LIFE SKILLS
ATTACH;FMTTYPE=image/jpeg:https://www.ilrcc.ab.ca/wp-content/uploads/2023/05/cooking-1024x683-1.jpg
ORGANIZER;CN="ILRCC":MAILTO:ed@ilrcc.ab.ca
END:VEVENT
BEGIN:VEVENT
DTSTART;VALUE=DATE:20231108
DTEND;VALUE=DATE:20231109
DTSTAMP:20260423T225402
CREATED:20230520T211759Z
LAST-MODIFIED:20230523T170651Z
UID:10002657-1699401600-1699487999@www.ilrcc.ab.ca
SUMMARY:Wednesday Media & Advertising
DESCRIPTION:“My Voice\, My Choice” is a newsletter for people with disabilities\, by people with disabilities. The team will come together and share ideas\, advocacy\, education\, and stories. Every month we will create and design a new edition for print and digital distribution. \nVolunteer program. Must commit to a minimum of 1 month to volunteer for the newsletter. \nJoin us and become part of our Newsletter team. We need editors\, photographers\, story writers\, artists\, and designers. Come showcase your talents!! \nRegistration
URL:https://www.ilrcc.ab.ca/event/wednesday-media-advertising/2023-11-08/
LOCATION:ILRCC\, ILRCC - #134\, 3359 27th St. NE\, Calgary\, Alberta\, Canada
CATEGORIES:LIFE SKILLS
ATTACH;FMTTYPE=image/jpeg:https://www.ilrcc.ab.ca/wp-content/uploads/2023/05/desktop-magazine-keyboard-design.jpg
ORGANIZER;CN="ILRCC":MAILTO:ed@ilrcc.ab.ca
END:VEVENT
BEGIN:VEVENT
DTSTART;TZID=America/Edmonton:20231107T130000
DTEND;TZID=America/Edmonton:20240123T150000
DTSTAMP:20260423T225402
CREATED:20230829T003322Z
LAST-MODIFIED:20231227T013018Z
UID:10002275-1699362000-1706022000@www.ilrcc.ab.ca
SUMMARY:Tuesday Arts and Crafts
DESCRIPTION:Nov 14 – Feb 13\, 2024 \n1:00pm – 2:00pm \nILRCC – #134\, 3359 27th St. NE \nThe program runs for 12 weeks for $135 including the cost of materials. \nBe creative and work with your hands! Learn different styles and techniques for drawing\, painting\, and creating your art. Build with different materials and create unique arts and crafts for gifts or display at home. \n*PLEASE  NOTE: Maximum of 12 participants per session. \nRegistration
URL:https://www.ilrcc.ab.ca/event/tuesday-arts-and-crafts-2/2023-11-07/
CATEGORIES:LEARN PROGRAMS
ATTACH;FMTTYPE=image/png:https://www.ilrcc.ab.ca/wp-content/uploads/2023/05/Arts-Crafts.png
ORGANIZER;CN="ILRCC":MAILTO:ed@ilrcc.ab.ca
END:VEVENT
BEGIN:VEVENT
DTSTART;TZID=America/Edmonton:20231106T180000
DTEND;TZID=America/Edmonton:20231106T191500
DTSTAMP:20260423T225402
CREATED:20230814T205507Z
LAST-MODIFIED:20230807T184622Z
UID:10002213-1699293600-1699298100@www.ilrcc.ab.ca
SUMMARY:Monday Arts and Drawing
DESCRIPTION:May 15th – July 31st \n6:00pm – 7:15pm \nILRCC – #134\, 3359 27th St. NE \nProgram runs for 12 weeks at a cost of $135 includes cost of materials. \nEach Monday evening join us and get creative!! \n*PLEASE  NOTE: Maximum of 12 participants per session. \nRegistration
URL:https://www.ilrcc.ab.ca/event/monday-arts-and-drawing-2/2023-11-06/
LOCATION:ILRCC\, ILRCC - #134\, 3359 27th St. NE\, Calgary\, Alberta\, Canada
CATEGORIES:LEARN PROGRAMS
ATTACH;FMTTYPE=image/jpeg:https://www.ilrcc.ab.ca/wp-content/uploads/2023/05/100-diy-string-art-flower-cards-1.jpg
ORGANIZER;CN="ILRCC":MAILTO:ed@ilrcc.ab.ca
END:VEVENT
BEGIN:VEVENT
DTSTART;TZID=America/Edmonton:20231106T150000
DTEND;TZID=America/Edmonton:20231106T160000
DTSTAMP:20260423T225402
CREATED:20230520T212058Z
LAST-MODIFIED:20231226T231448Z
UID:10002921-1699282800-1699286400@www.ilrcc.ab.ca
SUMMARY:Summer Gardening
DESCRIPTION:May 1st  – June 19th 3:00 pm – 4:00 pm \nIn May and June\, we are doing all the planting for the Herbs + Veggies \nAugust 21 – October 9   \nOnce the vegetables are ready\, we will pull them out and start canning\, freezing\, and cooking. \nILRCC – #134\, 3359 27th St. NE \nThe program runs for 16 weeks at a cost of $100 including cost of materials. \nRegistration
URL:https://www.ilrcc.ab.ca/event/summer-gardening/2023-11-06/
LOCATION:ILRCC\, ILRCC - #134\, 3359 27th St. NE\, Calgary\, Alberta\, Canada
CATEGORIES:LIFE SKILLS
ATTACH;FMTTYPE=image/jpeg:https://www.ilrcc.ab.ca/wp-content/uploads/2023/05/download-1024x576-1.jpg
ORGANIZER;CN="ILRCC":MAILTO:ed@ilrcc.ab.ca
END:VEVENT
BEGIN:VEVENT
DTSTART;TZID=America/Edmonton:20231104T130000
DTEND;TZID=America/Edmonton:20240120T150000
DTSTAMP:20260423T225402
CREATED:20230829T001229Z
LAST-MODIFIED:20240219T224852Z
UID:10002589-1699102800-1705762800@www.ilrcc.ab.ca
SUMMARY:Saturday Bowling
DESCRIPTION:Dec 2 – Feb 24\, 2024                         1:00 pm – 3:00 pm \nChinook Bowladrome – 6455 Macleod Trail \nThe program runs for 12 weeks for $110. \nEach bowler pays for their bowling: $6.00/game \nRegistration
URL:https://www.ilrcc.ab.ca/event/saturday-bowling-2/2023-11-04/
CATEGORIES:LEARN PROGRAMS
ATTACH;FMTTYPE=image/jpeg:https://www.ilrcc.ab.ca/wp-content/uploads/2023/05/bowling.jpg
ORGANIZER;CN="ILRCC":MAILTO:ed@ilrcc.ab.ca
END:VEVENT
END:VCALENDAR