BEGIN:VCALENDAR
VERSION:2.0
PRODID:-//ILRCC - ECPv6.15.20//NONSGML v1.0//EN
CALSCALE:GREGORIAN
METHOD:PUBLISH
X-ORIGINAL-URL:https://www.ilrcc.ab.ca
X-WR-CALDESC:Events for ILRCC
REFRESH-INTERVAL;VALUE=DURATION:PT1H
X-Robots-Tag:noindex
X-PUBLISHED-TTL:PT1H
BEGIN:VTIMEZONE
TZID:America/Edmonton
BEGIN:DAYLIGHT
TZOFFSETFROM:-0700
TZOFFSETTO:-0600
TZNAME:MDT
DTSTART:20220313T090000
END:DAYLIGHT
BEGIN:STANDARD
TZOFFSETFROM:-0600
TZOFFSETTO:-0700
TZNAME:MST
DTSTART:20221106T080000
END:STANDARD
BEGIN:DAYLIGHT
TZOFFSETFROM:-0700
TZOFFSETTO:-0600
TZNAME:MDT
DTSTART:20230312T090000
END:DAYLIGHT
BEGIN:STANDARD
TZOFFSETFROM:-0600
TZOFFSETTO:-0700
TZNAME:MST
DTSTART:20231105T080000
END:STANDARD
BEGIN:DAYLIGHT
TZOFFSETFROM:-0700
TZOFFSETTO:-0600
TZNAME:MDT
DTSTART:20240310T090000
END:DAYLIGHT
BEGIN:STANDARD
TZOFFSETFROM:-0600
TZOFFSETTO:-0700
TZNAME:MST
DTSTART:20241103T080000
END:STANDARD
END:VTIMEZONE
BEGIN:VEVENT
DTSTART;VALUE=DATE:20230920
DTEND;VALUE=DATE:20230921
DTSTAMP:20260424T123738
CREATED:20230520T211759Z
LAST-MODIFIED:20230523T170651Z
UID:10002650-1695168000-1695254399@www.ilrcc.ab.ca
SUMMARY:Wednesday Media & Advertising
DESCRIPTION:“My Voice\, My Choice” is a newsletter for people with disabilities\, by people with disabilities. The team will come together and share ideas\, advocacy\, education\, and stories. Every month we will create and design a new edition for print and digital distribution. \nVolunteer program. Must commit to a minimum of 1 month to volunteer for the newsletter. \nJoin us and become part of our Newsletter team. We need editors\, photographers\, story writers\, artists\, and designers. Come showcase your talents!! \nRegistration
URL:https://www.ilrcc.ab.ca/event/wednesday-media-advertising/2023-09-20/
LOCATION:ILRCC\, ILRCC - #134\, 3359 27th St. NE\, Calgary\, Alberta\, Canada
CATEGORIES:LIFE SKILLS
ATTACH;FMTTYPE=image/jpeg:https://www.ilrcc.ab.ca/wp-content/uploads/2023/05/desktop-magazine-keyboard-design.jpg
ORGANIZER;CN="ILRCC":MAILTO:ed@ilrcc.ab.ca
END:VEVENT
BEGIN:VEVENT
DTSTART;TZID=America/Edmonton:20230919T153000
DTEND;TZID=America/Edmonton:20231107T153000
DTSTAMP:20260424T123738
CREATED:20230829T001718Z
LAST-MODIFIED:20231226T235518Z
UID:10003027-1695137400-1699371000@www.ilrcc.ab.ca
SUMMARY:Tuesday Life Skills
DESCRIPTION:Jan 9 – Feb 27\, 2024                                                          1:00 pm – 2:00 pm pm \nILRCC – #134\, 3359 27th St. NE \nThe program runs for 8 weeks for $90. \nCome on down to the ILRCC for some independent life skills. \n\nCooking rules\nOnline safety shopping\nSchedule planning\nBudgeting (Saving\, Spending)\nHealthy eating\nPublic Safety\nTime management\nGoal setting\n\nRegistration
URL:https://www.ilrcc.ab.ca/event/tuesday-life-skills-2/2023-09-19/
CATEGORIES:LIFE SKILLS
ATTACH;FMTTYPE=image/png:https://www.ilrcc.ab.ca/wp-content/uploads/2023/05/Life-Skills-1-1024x512-1.png
ORGANIZER;CN="ILRCC":MAILTO:ed@ilrcc.ab.ca
END:VEVENT
BEGIN:VEVENT
DTSTART;TZID=America/Edmonton:20230919T130000
DTEND;TZID=America/Edmonton:20231205T140000
DTSTAMP:20260424T123738
CREATED:20230829T003322Z
LAST-MODIFIED:20231227T013018Z
UID:10002268-1695128400-1701784800@www.ilrcc.ab.ca
SUMMARY:Tuesday Arts and Crafts
DESCRIPTION:Nov 14 – Feb 13\, 2024 \n1:00pm – 2:00pm \nILRCC – #134\, 3359 27th St. NE \nThe program runs for 12 weeks for $135 including the cost of materials. \nBe creative and work with your hands! Learn different styles and techniques for drawing\, painting\, and creating your art. Build with different materials and create unique arts and crafts for gifts or display at home. \n*PLEASE  NOTE: Maximum of 12 participants per session. \nRegistration
URL:https://www.ilrcc.ab.ca/event/tuesday-arts-and-crafts-2/2023-09-19/
CATEGORIES:LEARN PROGRAMS
ATTACH;FMTTYPE=image/png:https://www.ilrcc.ab.ca/wp-content/uploads/2023/05/Arts-Crafts.png
ORGANIZER;CN="ILRCC":MAILTO:ed@ilrcc.ab.ca
END:VEVENT
BEGIN:VEVENT
DTSTART;TZID=America/Edmonton:20230918T180000
DTEND;TZID=America/Edmonton:20230918T191500
DTSTAMP:20260424T123738
CREATED:20230814T205507Z
LAST-MODIFIED:20230807T184622Z
UID:10002206-1695060000-1695064500@www.ilrcc.ab.ca
SUMMARY:Monday Arts and Drawing
DESCRIPTION:May 15th – July 31st \n6:00pm – 7:15pm \nILRCC – #134\, 3359 27th St. NE \nProgram runs for 12 weeks at a cost of $135 includes cost of materials. \nEach Monday evening join us and get creative!! \n*PLEASE  NOTE: Maximum of 12 participants per session. \nRegistration
URL:https://www.ilrcc.ab.ca/event/monday-arts-and-drawing-2/2023-09-18/
LOCATION:ILRCC\, ILRCC - #134\, 3359 27th St. NE\, Calgary\, Alberta\, Canada
CATEGORIES:LEARN PROGRAMS
ATTACH;FMTTYPE=image/jpeg:https://www.ilrcc.ab.ca/wp-content/uploads/2023/05/100-diy-string-art-flower-cards-1.jpg
ORGANIZER;CN="ILRCC":MAILTO:ed@ilrcc.ab.ca
END:VEVENT
BEGIN:VEVENT
DTSTART;TZID=America/Edmonton:20230918T150000
DTEND;TZID=America/Edmonton:20230918T160000
DTSTAMP:20260424T123738
CREATED:20230520T212058Z
LAST-MODIFIED:20231226T231448Z
UID:10002914-1695049200-1695052800@www.ilrcc.ab.ca
SUMMARY:Summer Gardening
DESCRIPTION:May 1st  – June 19th 3:00 pm – 4:00 pm \nIn May and June\, we are doing all the planting for the Herbs + Veggies \nAugust 21 – October 9   \nOnce the vegetables are ready\, we will pull them out and start canning\, freezing\, and cooking. \nILRCC – #134\, 3359 27th St. NE \nThe program runs for 16 weeks at a cost of $100 including cost of materials. \nRegistration
URL:https://www.ilrcc.ab.ca/event/summer-gardening/2023-09-18/
LOCATION:ILRCC\, ILRCC - #134\, 3359 27th St. NE\, Calgary\, Alberta\, Canada
CATEGORIES:LIFE SKILLS
ATTACH;FMTTYPE=image/jpeg:https://www.ilrcc.ab.ca/wp-content/uploads/2023/05/download-1024x576-1.jpg
ORGANIZER;CN="ILRCC":MAILTO:ed@ilrcc.ab.ca
END:VEVENT
BEGIN:VEVENT
DTSTART;TZID=America/Edmonton:20230916T130000
DTEND;TZID=America/Edmonton:20231202T150000
DTSTAMP:20260424T123738
CREATED:20230829T001229Z
LAST-MODIFIED:20240219T224852Z
UID:10002582-1694869200-1701529200@www.ilrcc.ab.ca
SUMMARY:Saturday Bowling
DESCRIPTION:Dec 2 – Feb 24\, 2024                         1:00 pm – 3:00 pm \nChinook Bowladrome – 6455 Macleod Trail \nThe program runs for 12 weeks for $110. \nEach bowler pays for their bowling: $6.00/game \nRegistration
URL:https://www.ilrcc.ab.ca/event/saturday-bowling-2/2023-09-16/
CATEGORIES:LEARN PROGRAMS
ATTACH;FMTTYPE=image/jpeg:https://www.ilrcc.ab.ca/wp-content/uploads/2023/05/bowling.jpg
ORGANIZER;CN="ILRCC":MAILTO:ed@ilrcc.ab.ca
END:VEVENT
BEGIN:VEVENT
DTSTART;TZID=America/Edmonton:20230914T170000
DTEND;TZID=America/Edmonton:20231102T180000
DTSTAMP:20260424T123738
CREATED:20230829T003809Z
LAST-MODIFIED:20230829T003810Z
UID:10001681-1694710800-1698948000@www.ilrcc.ab.ca
SUMMARY:Thursday Dance + Sing Movements
DESCRIPTION:Sept 6 – Oct 26 \n5:00pm – 6:00pm \nILRCC – #134\, 3359 27th St. NE \nProgram runs for 8 weeks at a cost of $75. \nCome join the fun for a Karaoke & Zumba evening at ILRCC \nRegistration
URL:https://www.ilrcc.ab.ca/event/thursday-dance-sing-movements-500pm-600pm-2/2023-09-14/
CATEGORIES:LEARN PROGRAMS
ATTACH;FMTTYPE=image/jpeg:https://www.ilrcc.ab.ca/wp-content/uploads/2023/05/Thursday-Dance-Sing-Movements.jpg
ORGANIZER;CN="ILRCC":MAILTO:ed@ilrcc.ab.ca
END:VEVENT
BEGIN:VEVENT
DTSTART;TZID=America/Edmonton:20230914T110000
DTEND;TZID=America/Edmonton:20231130T120000
DTSTAMP:20260424T123738
CREATED:20230829T002153Z
LAST-MODIFIED:20231227T012705Z
UID:10002519-1694689200-1701345600@www.ilrcc.ab.ca
SUMMARY:Thursday Arts and Crafts
DESCRIPTION:Nov 16 – Feb 15\, 2024 \n11:00 am – 12:00 pm \nILRCC – #134\, 3359 27th St. NE \nThe program runs for 12 weeks for $135 including the cost of materials. \nEach Thursday join us and get creative\, as you choose from 2-3 different art projects to try out! \n*PLEASE  NOTE: Maximum of 12 participants per session. \nRegistration
URL:https://www.ilrcc.ab.ca/event/thursday-arts-and-crafts-2/2023-09-14/
CATEGORIES:LEARN PROGRAMS
ATTACH;FMTTYPE=image/jpeg:https://www.ilrcc.ab.ca/wp-content/uploads/2023/05/istockphoto-519362488-612x612-1.jpg
ORGANIZER;CN="ILRCC":MAILTO:ed@ilrcc.ab.ca
END:VEVENT
BEGIN:VEVENT
DTSTART;TZID=America/Edmonton:20230913T173000
DTEND;TZID=America/Edmonton:20231129T193000
DTSTAMP:20260424T123738
CREATED:20230829T001459Z
LAST-MODIFIED:20231226T234145Z
UID:10002454-1694626200-1701286200@www.ilrcc.ab.ca
SUMMARY:Wednesday Pizza Night
DESCRIPTION:Nov 29 – Feb 28\, 2024 \n5:30 pm – 7:30 pm \nBoston Pizza – 2836 Memorial Dr SE \nThe program runs for 12 weeks for $110. \nYou are responsible for paying for your meal and if you have a smaller appetite\, you can order from the kids menu. \nRegistration
URL:https://www.ilrcc.ab.ca/event/wednesday-pizza-night-2/2023-09-13/
CATEGORIES:LEARN PROGRAMS
ATTACH;FMTTYPE=image/jpeg:https://www.ilrcc.ab.ca/wp-content/uploads/2023/05/Boston-Pizza-scaled-1.jpg
ORGANIZER;CN="ILRCC":MAILTO:ed@ilrcc.ab.ca
END:VEVENT
BEGIN:VEVENT
DTSTART;TZID=America/Edmonton:20230913T123000
DTEND;TZID=America/Edmonton:20231018T140000
DTSTAMP:20260424T123738
CREATED:20230829T002618Z
LAST-MODIFIED:20231230T183447Z
UID:10004002-1694608200-1697637600@www.ilrcc.ab.ca
SUMMARY:Wednesday Cooking Lunch
DESCRIPTION:Dec 6 – Jan 17 (Full)\n \nTaking registrations for Jan 24 – February 28\, 2024 \n12:30 pm – 2:00 pm \nILRCC – #134\, 3359 27th St. NE \nThe program runs for 6 weeks for $75 including the cost of food. \nThis 6-week\, 1.5-hour-per-session\, cooking course is designed for all ability levels. Each week includes approximately 1 hour and 15 minutes of cooking and ends with sharing the meal preparation and cleaning up. \n*PLEASE  NOTE: Maximum of 6 participants per session. \nRegistration
URL:https://www.ilrcc.ab.ca/event/wednesday-afternoon-cooking-2-2/2023-09-13/
CATEGORIES:LIFE SKILLS
ATTACH;FMTTYPE=image/jpeg:https://www.ilrcc.ab.ca/wp-content/uploads/2023/05/cooking-1024x683-1.jpg
ORGANIZER;CN="ILRCC":MAILTO:ed@ilrcc.ab.ca
END:VEVENT
BEGIN:VEVENT
DTSTART;VALUE=DATE:20230913
DTEND;VALUE=DATE:20230914
DTSTAMP:20260424T123738
CREATED:20230520T211759Z
LAST-MODIFIED:20230523T170651Z
UID:10002649-1694563200-1694649599@www.ilrcc.ab.ca
SUMMARY:Wednesday Media & Advertising
DESCRIPTION:“My Voice\, My Choice” is a newsletter for people with disabilities\, by people with disabilities. The team will come together and share ideas\, advocacy\, education\, and stories. Every month we will create and design a new edition for print and digital distribution. \nVolunteer program. Must commit to a minimum of 1 month to volunteer for the newsletter. \nJoin us and become part of our Newsletter team. We need editors\, photographers\, story writers\, artists\, and designers. Come showcase your talents!! \nRegistration
URL:https://www.ilrcc.ab.ca/event/wednesday-media-advertising/2023-09-13/
LOCATION:ILRCC\, ILRCC - #134\, 3359 27th St. NE\, Calgary\, Alberta\, Canada
CATEGORIES:LIFE SKILLS
ATTACH;FMTTYPE=image/jpeg:https://www.ilrcc.ab.ca/wp-content/uploads/2023/05/desktop-magazine-keyboard-design.jpg
ORGANIZER;CN="ILRCC":MAILTO:ed@ilrcc.ab.ca
END:VEVENT
BEGIN:VEVENT
DTSTART;TZID=America/Edmonton:20230912T153000
DTEND;TZID=America/Edmonton:20231031T163000
DTSTAMP:20260424T123738
CREATED:20230829T001718Z
LAST-MODIFIED:20231226T235518Z
UID:10003026-1694532600-1698769800@www.ilrcc.ab.ca
SUMMARY:Tuesday Life Skills
DESCRIPTION:Jan 9 – Feb 27\, 2024                                                          1:00 pm – 2:00 pm pm \nILRCC – #134\, 3359 27th St. NE \nThe program runs for 8 weeks for $90. \nCome on down to the ILRCC for some independent life skills. \n\nCooking rules\nOnline safety shopping\nSchedule planning\nBudgeting (Saving\, Spending)\nHealthy eating\nPublic Safety\nTime management\nGoal setting\n\nRegistration
URL:https://www.ilrcc.ab.ca/event/tuesday-life-skills-2/2023-09-12/
CATEGORIES:LIFE SKILLS
ATTACH;FMTTYPE=image/png:https://www.ilrcc.ab.ca/wp-content/uploads/2023/05/Life-Skills-1-1024x512-1.png
ORGANIZER;CN="ILRCC":MAILTO:ed@ilrcc.ab.ca
END:VEVENT
BEGIN:VEVENT
DTSTART;TZID=America/Edmonton:20230912T130000
DTEND;TZID=America/Edmonton:20231128T140000
DTSTAMP:20260424T123738
CREATED:20230829T003322Z
LAST-MODIFIED:20231227T013018Z
UID:10002267-1694523600-1701180000@www.ilrcc.ab.ca
SUMMARY:Tuesday Arts and Crafts
DESCRIPTION:Nov 14 – Feb 13\, 2024 \n1:00pm – 2:00pm \nILRCC – #134\, 3359 27th St. NE \nThe program runs for 12 weeks for $135 including the cost of materials. \nBe creative and work with your hands! Learn different styles and techniques for drawing\, painting\, and creating your art. Build with different materials and create unique arts and crafts for gifts or display at home. \n*PLEASE  NOTE: Maximum of 12 participants per session. \nRegistration
URL:https://www.ilrcc.ab.ca/event/tuesday-arts-and-crafts-2/2023-09-12/
CATEGORIES:LEARN PROGRAMS
ATTACH;FMTTYPE=image/png:https://www.ilrcc.ab.ca/wp-content/uploads/2023/05/Arts-Crafts.png
ORGANIZER;CN="ILRCC":MAILTO:ed@ilrcc.ab.ca
END:VEVENT
BEGIN:VEVENT
DTSTART;TZID=America/Edmonton:20230911T180000
DTEND;TZID=America/Edmonton:20230911T191500
DTSTAMP:20260424T123738
CREATED:20230814T205507Z
LAST-MODIFIED:20230807T184622Z
UID:10002205-1694455200-1694459700@www.ilrcc.ab.ca
SUMMARY:Monday Arts and Drawing
DESCRIPTION:May 15th – July 31st \n6:00pm – 7:15pm \nILRCC – #134\, 3359 27th St. NE \nProgram runs for 12 weeks at a cost of $135 includes cost of materials. \nEach Monday evening join us and get creative!! \n*PLEASE  NOTE: Maximum of 12 participants per session. \nRegistration
URL:https://www.ilrcc.ab.ca/event/monday-arts-and-drawing-2/2023-09-11/
LOCATION:ILRCC\, ILRCC - #134\, 3359 27th St. NE\, Calgary\, Alberta\, Canada
CATEGORIES:LEARN PROGRAMS
ATTACH;FMTTYPE=image/jpeg:https://www.ilrcc.ab.ca/wp-content/uploads/2023/05/100-diy-string-art-flower-cards-1.jpg
ORGANIZER;CN="ILRCC":MAILTO:ed@ilrcc.ab.ca
END:VEVENT
BEGIN:VEVENT
DTSTART;TZID=America/Edmonton:20230911T150000
DTEND;TZID=America/Edmonton:20230911T160000
DTSTAMP:20260424T123738
CREATED:20230520T212058Z
LAST-MODIFIED:20231226T231448Z
UID:10002913-1694444400-1694448000@www.ilrcc.ab.ca
SUMMARY:Summer Gardening
DESCRIPTION:May 1st  – June 19th 3:00 pm – 4:00 pm \nIn May and June\, we are doing all the planting for the Herbs + Veggies \nAugust 21 – October 9   \nOnce the vegetables are ready\, we will pull them out and start canning\, freezing\, and cooking. \nILRCC – #134\, 3359 27th St. NE \nThe program runs for 16 weeks at a cost of $100 including cost of materials. \nRegistration
URL:https://www.ilrcc.ab.ca/event/summer-gardening/2023-09-11/
LOCATION:ILRCC\, ILRCC - #134\, 3359 27th St. NE\, Calgary\, Alberta\, Canada
CATEGORIES:LIFE SKILLS
ATTACH;FMTTYPE=image/jpeg:https://www.ilrcc.ab.ca/wp-content/uploads/2023/05/download-1024x576-1.jpg
ORGANIZER;CN="ILRCC":MAILTO:ed@ilrcc.ab.ca
END:VEVENT
BEGIN:VEVENT
DTSTART;TZID=America/Edmonton:20230909T130000
DTEND;TZID=America/Edmonton:20231125T150000
DTSTAMP:20260424T123738
CREATED:20230829T001229Z
LAST-MODIFIED:20240219T224852Z
UID:10002581-1694264400-1700924400@www.ilrcc.ab.ca
SUMMARY:Saturday Bowling
DESCRIPTION:Dec 2 – Feb 24\, 2024                         1:00 pm – 3:00 pm \nChinook Bowladrome – 6455 Macleod Trail \nThe program runs for 12 weeks for $110. \nEach bowler pays for their bowling: $6.00/game \nRegistration
URL:https://www.ilrcc.ab.ca/event/saturday-bowling-2/2023-09-09/
CATEGORIES:LEARN PROGRAMS
ATTACH;FMTTYPE=image/jpeg:https://www.ilrcc.ab.ca/wp-content/uploads/2023/05/bowling.jpg
ORGANIZER;CN="ILRCC":MAILTO:ed@ilrcc.ab.ca
END:VEVENT
BEGIN:VEVENT
DTSTART;TZID=America/Edmonton:20230907T170000
DTEND;TZID=America/Edmonton:20231026T180000
DTSTAMP:20260424T123738
CREATED:20230829T003809Z
LAST-MODIFIED:20230829T003810Z
UID:10001679-1694106000-1698343200@www.ilrcc.ab.ca
SUMMARY:Thursday Dance + Sing Movements
DESCRIPTION:Sept 6 – Oct 26 \n5:00pm – 6:00pm \nILRCC – #134\, 3359 27th St. NE \nProgram runs for 8 weeks at a cost of $75. \nCome join the fun for a Karaoke & Zumba evening at ILRCC \nRegistration
URL:https://www.ilrcc.ab.ca/event/thursday-dance-sing-movements-500pm-600pm-2/2023-09-07/
CATEGORIES:LEARN PROGRAMS
ATTACH;FMTTYPE=image/jpeg:https://www.ilrcc.ab.ca/wp-content/uploads/2023/05/Thursday-Dance-Sing-Movements.jpg
ORGANIZER;CN="ILRCC":MAILTO:ed@ilrcc.ab.ca
END:VEVENT
BEGIN:VEVENT
DTSTART;TZID=America/Edmonton:20230907T110000
DTEND;TZID=America/Edmonton:20231123T120000
DTSTAMP:20260424T123738
CREATED:20230829T002153Z
LAST-MODIFIED:20231227T012705Z
UID:10002518-1694084400-1700740800@www.ilrcc.ab.ca
SUMMARY:Thursday Arts and Crafts
DESCRIPTION:Nov 16 – Feb 15\, 2024 \n11:00 am – 12:00 pm \nILRCC – #134\, 3359 27th St. NE \nThe program runs for 12 weeks for $135 including the cost of materials. \nEach Thursday join us and get creative\, as you choose from 2-3 different art projects to try out! \n*PLEASE  NOTE: Maximum of 12 participants per session. \nRegistration
URL:https://www.ilrcc.ab.ca/event/thursday-arts-and-crafts-2/2023-09-07/
CATEGORIES:LEARN PROGRAMS
ATTACH;FMTTYPE=image/jpeg:https://www.ilrcc.ab.ca/wp-content/uploads/2023/05/istockphoto-519362488-612x612-1.jpg
ORGANIZER;CN="ILRCC":MAILTO:ed@ilrcc.ab.ca
END:VEVENT
BEGIN:VEVENT
DTSTART;TZID=America/Edmonton:20230906T173000
DTEND;TZID=America/Edmonton:20231122T193000
DTSTAMP:20260424T123738
CREATED:20230829T001459Z
LAST-MODIFIED:20231226T234145Z
UID:10002452-1694021400-1700681400@www.ilrcc.ab.ca
SUMMARY:Wednesday Pizza Night
DESCRIPTION:Nov 29 – Feb 28\, 2024 \n5:30 pm – 7:30 pm \nBoston Pizza – 2836 Memorial Dr SE \nThe program runs for 12 weeks for $110. \nYou are responsible for paying for your meal and if you have a smaller appetite\, you can order from the kids menu. \nRegistration
URL:https://www.ilrcc.ab.ca/event/wednesday-pizza-night-2/2023-09-06/
CATEGORIES:LEARN PROGRAMS
ATTACH;FMTTYPE=image/jpeg:https://www.ilrcc.ab.ca/wp-content/uploads/2023/05/Boston-Pizza-scaled-1.jpg
ORGANIZER;CN="ILRCC":MAILTO:ed@ilrcc.ab.ca
END:VEVENT
BEGIN:VEVENT
DTSTART;TZID=America/Edmonton:20230906T140000
DTEND;TZID=America/Edmonton:20231221T153000
DTSTAMP:20260424T123738
CREATED:20230828T232832Z
LAST-MODIFIED:20231226T234314Z
UID:10004437-1694008800-1703172600@www.ilrcc.ab.ca
SUMMARY:Wednesday Seniors Club - NEW
DESCRIPTION:134\, 3359 – 27th St NE                                Jan 3 – On going             2:00 pm – 3:30 pm \nAre you 65+ and want to get together with your friends and other seniors\, but have nothing to do? Come on down to the ILRCC and enjoy some light conversation and games\, along with tea\, water\, juice\, with a light snack. Let’s discuss current events\, challenges\, and what you are interested in doing.
URL:https://www.ilrcc.ab.ca/event/seniors-club-new/
CATEGORIES:LIFE SKILLS
ORGANIZER;CN="ILRCC":MAILTO:ed@ilrcc.ab.ca
END:VEVENT
BEGIN:VEVENT
DTSTART;TZID=America/Edmonton:20230906T123000
DTEND;TZID=America/Edmonton:20231011T140000
DTSTAMP:20260424T123738
CREATED:20230829T002618Z
LAST-MODIFIED:20231230T183447Z
UID:10004000-1694003400-1697032800@www.ilrcc.ab.ca
SUMMARY:Wednesday Cooking Lunch
DESCRIPTION:Dec 6 – Jan 17 (Full)\n \nTaking registrations for Jan 24 – February 28\, 2024 \n12:30 pm – 2:00 pm \nILRCC – #134\, 3359 27th St. NE \nThe program runs for 6 weeks for $75 including the cost of food. \nThis 6-week\, 1.5-hour-per-session\, cooking course is designed for all ability levels. Each week includes approximately 1 hour and 15 minutes of cooking and ends with sharing the meal preparation and cleaning up. \n*PLEASE  NOTE: Maximum of 6 participants per session. \nRegistration
URL:https://www.ilrcc.ab.ca/event/wednesday-afternoon-cooking-2-2/2023-09-06/
CATEGORIES:LIFE SKILLS
ATTACH;FMTTYPE=image/jpeg:https://www.ilrcc.ab.ca/wp-content/uploads/2023/05/cooking-1024x683-1.jpg
ORGANIZER;CN="ILRCC":MAILTO:ed@ilrcc.ab.ca
END:VEVENT
BEGIN:VEVENT
DTSTART;VALUE=DATE:20230906
DTEND;VALUE=DATE:20230907
DTSTAMP:20260424T123738
CREATED:20230520T211759Z
LAST-MODIFIED:20230523T170651Z
UID:10002648-1693958400-1694044799@www.ilrcc.ab.ca
SUMMARY:Wednesday Media & Advertising
DESCRIPTION:“My Voice\, My Choice” is a newsletter for people with disabilities\, by people with disabilities. The team will come together and share ideas\, advocacy\, education\, and stories. Every month we will create and design a new edition for print and digital distribution. \nVolunteer program. Must commit to a minimum of 1 month to volunteer for the newsletter. \nJoin us and become part of our Newsletter team. We need editors\, photographers\, story writers\, artists\, and designers. Come showcase your talents!! \nRegistration
URL:https://www.ilrcc.ab.ca/event/wednesday-media-advertising/2023-09-06/
LOCATION:ILRCC\, ILRCC - #134\, 3359 27th St. NE\, Calgary\, Alberta\, Canada
CATEGORIES:LIFE SKILLS
ATTACH;FMTTYPE=image/jpeg:https://www.ilrcc.ab.ca/wp-content/uploads/2023/05/desktop-magazine-keyboard-design.jpg
ORGANIZER;CN="ILRCC":MAILTO:ed@ilrcc.ab.ca
END:VEVENT
BEGIN:VEVENT
DTSTART;TZID=America/Edmonton:20230905T153000
DTEND;TZID=America/Edmonton:20231024T163000
DTSTAMP:20260424T123738
CREATED:20230829T001718Z
LAST-MODIFIED:20231226T235518Z
UID:10003024-1693927800-1698165000@www.ilrcc.ab.ca
SUMMARY:Tuesday Life Skills
DESCRIPTION:Jan 9 – Feb 27\, 2024                                                          1:00 pm – 2:00 pm pm \nILRCC – #134\, 3359 27th St. NE \nThe program runs for 8 weeks for $90. \nCome on down to the ILRCC for some independent life skills. \n\nCooking rules\nOnline safety shopping\nSchedule planning\nBudgeting (Saving\, Spending)\nHealthy eating\nPublic Safety\nTime management\nGoal setting\n\nRegistration
URL:https://www.ilrcc.ab.ca/event/tuesday-life-skills-2/2023-09-05/
CATEGORIES:LIFE SKILLS
ATTACH;FMTTYPE=image/png:https://www.ilrcc.ab.ca/wp-content/uploads/2023/05/Life-Skills-1-1024x512-1.png
ORGANIZER;CN="ILRCC":MAILTO:ed@ilrcc.ab.ca
END:VEVENT
BEGIN:VEVENT
DTSTART;TZID=America/Edmonton:20230905T130000
DTEND;TZID=America/Edmonton:20231121T140000
DTSTAMP:20260424T123738
CREATED:20230829T003322Z
LAST-MODIFIED:20231227T013018Z
UID:10002266-1693918800-1700575200@www.ilrcc.ab.ca
SUMMARY:Tuesday Arts and Crafts
DESCRIPTION:Nov 14 – Feb 13\, 2024 \n1:00pm – 2:00pm \nILRCC – #134\, 3359 27th St. NE \nThe program runs for 12 weeks for $135 including the cost of materials. \nBe creative and work with your hands! Learn different styles and techniques for drawing\, painting\, and creating your art. Build with different materials and create unique arts and crafts for gifts or display at home. \n*PLEASE  NOTE: Maximum of 12 participants per session. \nRegistration
URL:https://www.ilrcc.ab.ca/event/tuesday-arts-and-crafts-2/2023-09-05/
CATEGORIES:LEARN PROGRAMS
ATTACH;FMTTYPE=image/png:https://www.ilrcc.ab.ca/wp-content/uploads/2023/05/Arts-Crafts.png
ORGANIZER;CN="ILRCC":MAILTO:ed@ilrcc.ab.ca
END:VEVENT
BEGIN:VEVENT
DTSTART;TZID=America/Edmonton:20230904T180000
DTEND;TZID=America/Edmonton:20230904T191500
DTSTAMP:20260424T123738
CREATED:20230814T205507Z
LAST-MODIFIED:20230807T184622Z
UID:10002204-1693850400-1693854900@www.ilrcc.ab.ca
SUMMARY:Monday Arts and Drawing
DESCRIPTION:May 15th – July 31st \n6:00pm – 7:15pm \nILRCC – #134\, 3359 27th St. NE \nProgram runs for 12 weeks at a cost of $135 includes cost of materials. \nEach Monday evening join us and get creative!! \n*PLEASE  NOTE: Maximum of 12 participants per session. \nRegistration
URL:https://www.ilrcc.ab.ca/event/monday-arts-and-drawing-2/2023-09-04/
LOCATION:ILRCC\, ILRCC - #134\, 3359 27th St. NE\, Calgary\, Alberta\, Canada
CATEGORIES:LEARN PROGRAMS
ATTACH;FMTTYPE=image/jpeg:https://www.ilrcc.ab.ca/wp-content/uploads/2023/05/100-diy-string-art-flower-cards-1.jpg
ORGANIZER;CN="ILRCC":MAILTO:ed@ilrcc.ab.ca
END:VEVENT
BEGIN:VEVENT
DTSTART;TZID=America/Edmonton:20230904T150000
DTEND;TZID=America/Edmonton:20230904T160000
DTSTAMP:20260424T123738
CREATED:20230520T212058Z
LAST-MODIFIED:20231226T231448Z
UID:10002912-1693839600-1693843200@www.ilrcc.ab.ca
SUMMARY:Summer Gardening
DESCRIPTION:May 1st  – June 19th 3:00 pm – 4:00 pm \nIn May and June\, we are doing all the planting for the Herbs + Veggies \nAugust 21 – October 9   \nOnce the vegetables are ready\, we will pull them out and start canning\, freezing\, and cooking. \nILRCC – #134\, 3359 27th St. NE \nThe program runs for 16 weeks at a cost of $100 including cost of materials. \nRegistration
URL:https://www.ilrcc.ab.ca/event/summer-gardening/2023-09-04/
LOCATION:ILRCC\, ILRCC - #134\, 3359 27th St. NE\, Calgary\, Alberta\, Canada
CATEGORIES:LIFE SKILLS
ATTACH;FMTTYPE=image/jpeg:https://www.ilrcc.ab.ca/wp-content/uploads/2023/05/download-1024x576-1.jpg
ORGANIZER;CN="ILRCC":MAILTO:ed@ilrcc.ab.ca
END:VEVENT
BEGIN:VEVENT
DTSTART;TZID=America/Edmonton:20230902T130000
DTEND;TZID=America/Edmonton:20231118T150000
DTSTAMP:20260424T123738
CREATED:20230829T001229Z
LAST-MODIFIED:20240219T224852Z
UID:10002580-1693659600-1700319600@www.ilrcc.ab.ca
SUMMARY:Saturday Bowling
DESCRIPTION:Dec 2 – Feb 24\, 2024                         1:00 pm – 3:00 pm \nChinook Bowladrome – 6455 Macleod Trail \nThe program runs for 12 weeks for $110. \nEach bowler pays for their bowling: $6.00/game \nRegistration
URL:https://www.ilrcc.ab.ca/event/saturday-bowling-2/2023-09-02/
CATEGORIES:LEARN PROGRAMS
ATTACH;FMTTYPE=image/jpeg:https://www.ilrcc.ab.ca/wp-content/uploads/2023/05/bowling.jpg
ORGANIZER;CN="ILRCC":MAILTO:ed@ilrcc.ab.ca
END:VEVENT
BEGIN:VEVENT
DTSTART;TZID=America/Edmonton:20230831T110000
DTEND;TZID=America/Edmonton:20231116T120000
DTSTAMP:20260424T123738
CREATED:20230829T002153Z
LAST-MODIFIED:20231227T012705Z
UID:10004456-1693479600-1700136000@www.ilrcc.ab.ca
SUMMARY:Thursday Arts and Crafts
DESCRIPTION:Nov 16 – Feb 15\, 2024 \n11:00 am – 12:00 pm \nILRCC – #134\, 3359 27th St. NE \nThe program runs for 12 weeks for $135 including the cost of materials. \nEach Thursday join us and get creative\, as you choose from 2-3 different art projects to try out! \n*PLEASE  NOTE: Maximum of 12 participants per session. \nRegistration
URL:https://www.ilrcc.ab.ca/event/thursday-arts-and-crafts-2/2023-08-31/
CATEGORIES:LEARN PROGRAMS
ATTACH;FMTTYPE=image/jpeg:https://www.ilrcc.ab.ca/wp-content/uploads/2023/05/istockphoto-519362488-612x612-1.jpg
ORGANIZER;CN="ILRCC":MAILTO:ed@ilrcc.ab.ca
END:VEVENT
BEGIN:VEVENT
DTSTART;VALUE=DATE:20230830
DTEND;VALUE=DATE:20230831
DTSTAMP:20260424T123738
CREATED:20230520T211759Z
LAST-MODIFIED:20230523T170651Z
UID:10002647-1693353600-1693439999@www.ilrcc.ab.ca
SUMMARY:Wednesday Media & Advertising
DESCRIPTION:“My Voice\, My Choice” is a newsletter for people with disabilities\, by people with disabilities. The team will come together and share ideas\, advocacy\, education\, and stories. Every month we will create and design a new edition for print and digital distribution. \nVolunteer program. Must commit to a minimum of 1 month to volunteer for the newsletter. \nJoin us and become part of our Newsletter team. We need editors\, photographers\, story writers\, artists\, and designers. Come showcase your talents!! \nRegistration
URL:https://www.ilrcc.ab.ca/event/wednesday-media-advertising/2023-08-30/
LOCATION:ILRCC\, ILRCC - #134\, 3359 27th St. NE\, Calgary\, Alberta\, Canada
CATEGORIES:LIFE SKILLS
ATTACH;FMTTYPE=image/jpeg:https://www.ilrcc.ab.ca/wp-content/uploads/2023/05/desktop-magazine-keyboard-design.jpg
ORGANIZER;CN="ILRCC":MAILTO:ed@ilrcc.ab.ca
END:VEVENT
BEGIN:VEVENT
DTSTART;TZID=America/Edmonton:20230829T130000
DTEND;TZID=America/Edmonton:20231114T140000
DTSTAMP:20260424T123738
CREATED:20230829T003322Z
LAST-MODIFIED:20231227T013018Z
UID:10004457-1693314000-1699970400@www.ilrcc.ab.ca
SUMMARY:Tuesday Arts and Crafts
DESCRIPTION:Nov 14 – Feb 13\, 2024 \n1:00pm – 2:00pm \nILRCC – #134\, 3359 27th St. NE \nThe program runs for 12 weeks for $135 including the cost of materials. \nBe creative and work with your hands! Learn different styles and techniques for drawing\, painting\, and creating your art. Build with different materials and create unique arts and crafts for gifts or display at home. \n*PLEASE  NOTE: Maximum of 12 participants per session. \nRegistration
URL:https://www.ilrcc.ab.ca/event/tuesday-arts-and-crafts-2/2023-08-29/
CATEGORIES:LEARN PROGRAMS
ATTACH;FMTTYPE=image/png:https://www.ilrcc.ab.ca/wp-content/uploads/2023/05/Arts-Crafts.png
ORGANIZER;CN="ILRCC":MAILTO:ed@ilrcc.ab.ca
END:VEVENT
END:VCALENDAR